BEGIN:VCALENDAR
VERSION:2.0
PRODID:-//Twin Cities Pride - ECPv6.13.2.1//NONSGML v1.0//EN
CALSCALE:GREGORIAN
METHOD:PUBLISH
X-ORIGINAL-URL:https://tcpride.org
X-WR-CALDESC:Events for Twin Cities Pride
REFRESH-INTERVAL;VALUE=DURATION:PT1H
X-Robots-Tag:noindex
X-PUBLISHED-TTL:PT1H
BEGIN:VTIMEZONE
TZID:America/Chicago
BEGIN:DAYLIGHT
TZOFFSETFROM:-0600
TZOFFSETTO:-0500
TZNAME:CDT
DTSTART:20240310T080000
END:DAYLIGHT
BEGIN:STANDARD
TZOFFSETFROM:-0500
TZOFFSETTO:-0600
TZNAME:CST
DTSTART:20241103T070000
END:STANDARD
END:VTIMEZONE
BEGIN:VEVENT
DTSTART;VALUE=DATE:20240328
DTEND;VALUE=DATE:20241015
DTSTAMP:20260422T002309
CREATED:20240328T212546Z
LAST-MODIFIED:20240328T212546Z
UID:43317-1711594800-1728874799@tcpride.org
SUMMARY:TOGETHER
DESCRIPTION:Together is a mixed media art exhibition featuring artwork from ten Minnesota artist families of diverse ages and family structures who have created individual and communal work for the exhibition. Artists Emmett and Kit Ramstad conceived this project to elevate children’s artwork and provide a space for parent artists to support each other as they fulfill the roles of parents and artists while raising a new generation of makers. Together uplifts mixed generational creativity by showcasing artists who have contributed hugely to Minnesota’s artistic community and their children who are integral influences to their practice. \n\n\n\n\nPARTICIPATING ARTISTS: \nSayge Carroll\, Morgan Laramy; Preston Drum\, Elvis and Leroy Drum; Isa Gagarin\, Rae Gordon; Pao Her\, Vince and Kailee Yang; Amanda Lovelee\, Walden Waites; Avigail Manneberg\, Kaiah and Micah Manneberg-Tompkins; Emmett Ramstad\, Kit Aizura Ramstad; Anna Marie Shogren\, Wally Glenn-Shogren; Aki Shibata\, Atom Shibata Pliner and Yukiko Shibata Colburn; Jonathan Thunder\,  Mino Hart Thunder
URL:https://tcpride.org/event/together/
LOCATION:the M (Minnesota Museum of American Art)\, 350 Robert Street North\, St Paul\, MN\, 55101\, United States
CATEGORIES:Community Events
ATTACH;FMTTYPE=image/png:https://tcpride.org/wp-content/uploads/2024/03/Asset-2.png
ORGANIZER;CN="the M (Minneosta Museum of American Art)":MAILTO:info@mmaa.org
END:VEVENT
BEGIN:VEVENT
DTSTART;VALUE=DATE:20240615
DTEND;VALUE=DATE:20240622
DTSTAMP:20260422T002309
CREATED:20240213T050329Z
LAST-MODIFIED:20240213T050520Z
UID:41777-1718420400-1718938799@tcpride.org
SUMMARY:Camp True Colors: Session 1: All LGBTQ+ Youth (Ages 11-17)
DESCRIPTION:Camp True Colors is a place designed just for LGBTQ+ youth\, where you can have fun and enjoy summer camp activities in a welcoming environment\, while building community with peers and adults with similar shared experiences. \nAside from being a LOT of fun\, camp builds self-confidence\, life skills\, friendships\, and memories that last long after the last campfire of the summer. \nCamp True Colors has two main types of sessions: \n\nSessions open to all LGBTQ+ youth (including but not limited to those who are lesbian\, gay\, bisexual\, pansexual\, asexual\, transgender\, or queer)\nSessions specifically for youth who are transgender and/or nonbinary\, or otherwise gender expansive
URL:https://tcpride.org/event/camp-true-colors-session-1-all-lgbtq-youth-ages-11-17/
LOCATION:MN
CATEGORIES:Community Events
ATTACH;FMTTYPE=image/jpeg:https://tcpride.org/wp-content/uploads/2024/02/CAMP-TRUE-COLORS-FINAL-FULL-COLOR.jpg
END:VEVENT
BEGIN:VEVENT
DTSTART;TZID=America/Chicago:20240616T130000
DTEND;TZID=America/Chicago:20240616T150000
DTSTAMP:20260422T002309
CREATED:20240507T011622Z
LAST-MODIFIED:20240507T011622Z
UID:45258-1718542800-1718550000@tcpride.org
SUMMARY:Gender Affirming Clothing Swap
DESCRIPTION:Drop by the Hopkins Library and find new-to-you clothing to express or explore your gender identity! In need of a wardrobe refresh? Bring clothes that no longer suit you and pick up some new things to try. Please only bring items that are gently used and freshly laundered. Everyone welcome at this event.
URL:https://tcpride.org/event/gender-affirming-clothing-swap/
LOCATION:Hopkins Public Library\, 22 11th Ave N\, Hopkins\, MN\, 55343\, United States
CATEGORIES:Community Events
ATTACH;FMTTYPE=image/jpeg:https://tcpride.org/wp-content/uploads/2024/05/Pride_Brand_Black-Panel-scaled.jpg
END:VEVENT
END:VCALENDAR