BEGIN:VCALENDAR
VERSION:2.0
PRODID:-//Twin Cities Pride - ECPv6.13.2.1//NONSGML v1.0//EN
CALSCALE:GREGORIAN
METHOD:PUBLISH
X-ORIGINAL-URL:https://tcpride.org
X-WR-CALDESC:Events for Twin Cities Pride
REFRESH-INTERVAL;VALUE=DURATION:PT1H
X-Robots-Tag:noindex
X-PUBLISHED-TTL:PT1H
BEGIN:VTIMEZONE
TZID:America/Chicago
BEGIN:DAYLIGHT
TZOFFSETFROM:-0600
TZOFFSETTO:-0500
TZNAME:CDT
DTSTART:20240310T080000
END:DAYLIGHT
BEGIN:STANDARD
TZOFFSETFROM:-0500
TZOFFSETTO:-0600
TZNAME:CST
DTSTART:20241103T070000
END:STANDARD
END:VTIMEZONE
BEGIN:VEVENT
DTSTART;VALUE=DATE:20240328
DTEND;VALUE=DATE:20241015
DTSTAMP:20260420T223221
CREATED:20240328T212546Z
LAST-MODIFIED:20240328T212546Z
UID:43317-1711594800-1728874799@tcpride.org
SUMMARY:TOGETHER
DESCRIPTION:Together is a mixed media art exhibition featuring artwork from ten Minnesota artist families of diverse ages and family structures who have created individual and communal work for the exhibition. Artists Emmett and Kit Ramstad conceived this project to elevate children’s artwork and provide a space for parent artists to support each other as they fulfill the roles of parents and artists while raising a new generation of makers. Together uplifts mixed generational creativity by showcasing artists who have contributed hugely to Minnesota’s artistic community and their children who are integral influences to their practice. \n\n\n\n\nPARTICIPATING ARTISTS: \nSayge Carroll\, Morgan Laramy; Preston Drum\, Elvis and Leroy Drum; Isa Gagarin\, Rae Gordon; Pao Her\, Vince and Kailee Yang; Amanda Lovelee\, Walden Waites; Avigail Manneberg\, Kaiah and Micah Manneberg-Tompkins; Emmett Ramstad\, Kit Aizura Ramstad; Anna Marie Shogren\, Wally Glenn-Shogren; Aki Shibata\, Atom Shibata Pliner and Yukiko Shibata Colburn; Jonathan Thunder\,  Mino Hart Thunder
URL:https://tcpride.org/event/together/
LOCATION:the M (Minnesota Museum of American Art)\, 350 Robert Street North\, St Paul\, MN\, 55101\, United States
CATEGORIES:Community Events
ATTACH;FMTTYPE=image/png:https://tcpride.org/wp-content/uploads/2024/03/Asset-2.png
ORGANIZER;CN="the M (Minneosta Museum of American Art)":MAILTO:info@mmaa.org
END:VEVENT
BEGIN:VEVENT
DTSTART;TZID=America/Chicago:20240815T180000
DTEND;TZID=America/Chicago:20240818T170000
DTSTAMP:20260420T223221
CREATED:20240807T231135Z
LAST-MODIFIED:20240807T231135Z
UID:49118-1723744800-1724000400@tcpride.org
SUMMARY:Minnesota People Of Color LGBT Pride
DESCRIPTION:The Minnesota People of Color LGBT Pride organization\, also known as MN POC Pride\, play a significant role in supporting and enhancing the lives of LGBTQ+ people of color in Minnesota.
URL:https://tcpride.org/event/minnesota-people-of-color-lgbt-pride/
LOCATION:Lush Lounge and Theater\, 990 NE Central Ave\, Minneapolis\, MN\, 55413\, United States
CATEGORIES:Community Events,Pride Festivals
ATTACH;FMTTYPE=image/jpeg:https://tcpride.org/wp-content/uploads/2024/08/Screenshot_20240704_204001_Adobe-Acrobat.jpg
END:VEVENT
BEGIN:VEVENT
DTSTART;TZID=America/Chicago:20240817T173000
DTEND;TZID=America/Chicago:20240817T220000
DTSTAMP:20260420T223221
CREATED:20240805T205226Z
LAST-MODIFIED:20240807T225546Z
UID:48980-1723915800-1723932000@tcpride.org
SUMMARY:LGBTQ Women's Beach Party Dance--with Speed Dating!
DESCRIPTION:Come join us on Saturday\, August 17th\, for our LGBTQ Women’s BEACH PARTY Dance! \nThis dance will have a special feature–Speed Dating! Come at 5:30 and we will have fun getting to know one another before the dance starts! \nDinner/social hour starts at 6\, while our DJ will keep us rockin’ from 7-10! Join the hula hoop contest or beach wear fashion show! \n  \nWe are in the big ballroom at the Mpls. Eagles Club #34\, just to the left as you come in the back door from the parking lot. 2507 E. 25th Street\, Minneapolis. \nClean out your closets and bring clothes\, books\, plants\, jewelry\, etc. for our give-and-take sharing table. What you are ready to give becomes what another woman receives! Help build a gift economy within our community! \n  \nTreat yourself to a chair massage by a licensed massage therapist. You can pay her directly for the amount of time that you want. ($1-2 per minute). \n  \nSelf employed women\, bring your business cards for the community resources table. If you volunteer with an LGBTQ non-profit\, bring a flyer for the table to promote LGBTQ community events.  Help women connect to our community resources! \n   \n* Are you wondering who is welcome at this dance? Cisgender and Transgender women\, female adjacent non-binary folks not taking testosterone\, lesbian\, bisexual\, pansexual and supportive heterosexual women friends and family. \n  \nJoin the Twin Cities Women’s Dances Facebook page for more information\, or email Katie.Cashel.Law@comcast.net
URL:https://tcpride.org/event/lgbtq-womens-beach-party-dance-with-speed-dating/
LOCATION:Minneapolis Eagles Club #34\, 2507 E. 25th Street\, Minneapolis\, MN\, United States
CATEGORIES:Community Events
ATTACH;FMTTYPE=image/jpeg:https://tcpride.org/wp-content/uploads/2024/07/0405739-R1-038-17A1.jpg
ORGANIZER;CN="Twin Cities Women's Dances":MAILTO:katie.cashel.law@comcast.net
END:VEVENT
END:VCALENDAR