BEGIN:VCALENDAR
VERSION:2.0
PRODID:-//Twin Cities Pride - ECPv6.13.2.1//NONSGML v1.0//EN
CALSCALE:GREGORIAN
METHOD:PUBLISH
X-WR-CALNAME:Twin Cities Pride
X-ORIGINAL-URL:https://tcpride.org
X-WR-CALDESC:Events for Twin Cities Pride
REFRESH-INTERVAL;VALUE=DURATION:PT1H
X-Robots-Tag:noindex
X-PUBLISHED-TTL:PT1H
BEGIN:VTIMEZONE
TZID:America/Chicago
BEGIN:DAYLIGHT
TZOFFSETFROM:-0600
TZOFFSETTO:-0500
TZNAME:CDT
DTSTART:20240310T080000
END:DAYLIGHT
BEGIN:STANDARD
TZOFFSETFROM:-0500
TZOFFSETTO:-0600
TZNAME:CST
DTSTART:20241103T070000
END:STANDARD
END:VTIMEZONE
BEGIN:VEVENT
DTSTART;VALUE=DATE:20241025
DTEND;VALUE=DATE:20241029
DTSTAMP:20260420T205609
CREATED:20240919T002335Z
LAST-MODIFIED:20240919T002335Z
UID:50136-1729825200-1730084399@tcpride.org
SUMMARY:Family Weekend in the Midwest
DESCRIPTION:Join Family Equality\, the leading national nonprofit working to protect LGBTQ+ families\, for an unbe-leaf-able weekend filled with spook-tacular activities designed to bring joy\, connection\, and a whole (pumpkin-spiced) latte love to your family! Activities for families with kids of all ages are planned throughout the weekend and hosted at the Twin Cities Pride community space and other nearby locations. \nFamily Weekend in the Midwest is presented by Target and hosted by Family Equality\, Twin Cities Pride and Kenvue’s Care with Pride initiative.
URL:https://tcpride.org/event/family-weekend-in-the-midwest/
CATEGORIES:Community Events
ATTACH;FMTTYPE=image/png:https://tcpride.org/wp-content/uploads/2024/09/Family-Weekend-24-Graphics.png
ORGANIZER;CN="Family Equality":MAILTO:info@familyequality.org
END:VEVENT
BEGIN:VEVENT
DTSTART;TZID=America/Chicago:20241027T180000
DTEND;TZID=America/Chicago:20241027T200000
DTSTAMP:20260420T205609
CREATED:20241103T221949Z
LAST-MODIFIED:20241103T221949Z
UID:51268-1730052000-1730059200@tcpride.org
SUMMARY:Erin Foley's Herlights LIVE in Minneapolis!
DESCRIPTION:Queer comedian and pioneering women’s sports podcaster Erin Foley presents Herlights Live\, a new national tour bringing her top-rated podcast to live audiences across the country. On stage\, Foley delivers a hilarious stand-up comedy set followed by an engaging interview and audience Q&A with Minneapolis’ legendary NICOLE HENSLEY (Goalie: Team USA & PWHL Minnesota Frost). This first-of-its-kind event celebrates women’s sports at a time where the interest and investment is skyrocketing. \nJoin Erin and special guest NICOLE HENSLEY for a night of hilarious comedy and inspiring conversations for this LIVE recording of the Herlights podcast. We’ll see you at Roxy’s Cabaret on Sunday\, October 27! Ticketed after-party at A BAR OF THEIR OWN to follow.
URL:https://tcpride.org/event/erin-foleys-herlights-live-in-minneapolis/
LOCATION:Roxy’s Cabaret\, 1333 Nicollet Mall\, Minneapolis
CATEGORIES:Community Events
ATTACH;FMTTYPE=image/png:https://tcpride.org/wp-content/uploads/2024/10/HerlightsLive_Minneapolis_Horizontal-1.png
END:VEVENT
END:VCALENDAR