BEGIN:VCALENDAR
VERSION:2.0
PRODID:-//Twin Cities Pride - ECPv6.13.2.1//NONSGML v1.0//EN
CALSCALE:GREGORIAN
METHOD:PUBLISH
X-WR-CALNAME:Twin Cities Pride
X-ORIGINAL-URL:https://tcpride.org
X-WR-CALDESC:Events for Twin Cities Pride
REFRESH-INTERVAL;VALUE=DURATION:PT1H
X-Robots-Tag:noindex
X-PUBLISHED-TTL:PT1H
BEGIN:VTIMEZONE
TZID:America/Chicago
BEGIN:DAYLIGHT
TZOFFSETFROM:-0600
TZOFFSETTO:-0500
TZNAME:CDT
DTSTART:20240310T080000
END:DAYLIGHT
BEGIN:STANDARD
TZOFFSETFROM:-0500
TZOFFSETTO:-0600
TZNAME:CST
DTSTART:20241103T070000
END:STANDARD
END:VTIMEZONE
BEGIN:VEVENT
DTSTART;TZID=America/Chicago:20241106T180000
DTEND;TZID=America/Chicago:20241106T210000
DTSTAMP:20260420T182433
CREATED:20241103T221848Z
LAST-MODIFIED:20241103T221848Z
UID:51231-1730916000-1730926800@tcpride.org
SUMMARY:Comedy Night featuring KFAN's Dan "Common Man" Cole & Paul "Meat Sauce" Lambert
DESCRIPTION:The Mudd Room is kicking off this season’s Comedy Night with a special show featuring Dan “Common Man” Cole & Paul “Meat Sauce” Lambert from KFAN! \nPaul Lambert\, aka “Meat Sauce” is one third of the highly successful “Power Trip Morning Show” heard weekdays 5:30-9 AM on KFAN. Sauce is about to become a father for the first time in January. He enjoys watching “Home Alone 2” on Blu Ray DVD while wearing white athletic socks during his spare time. “The Common Man” Dan Cole can be heard weekdays on the Fan from noon to 3:00. He has been “Radio Gardening” at KFAN since 1993. His comedic stylings have been compared to Dennis Miller\, Jerry Stiller\, and Phyllis Diller. \nDoors open at 6 PM\, showtime is 7 PM. This show will have a $20 cover per guest\, added to your bill. 21+\, walk-ins only.
URL:https://tcpride.org/event/comedy-night-featuring-kfans-dan-common-man-cole-paul-meat-sauce-lambert/
LOCATION:The Mudd Room\, 1352 Sibley Memorial Hwy\, Mendota\, MN\, 55150\, United States
CATEGORIES:Community Events
ATTACH;FMTTYPE=image/png:https://tcpride.org/wp-content/uploads/2024/10/ComedyNight.png
END:VEVENT
END:VCALENDAR