BEGIN:VCALENDAR
VERSION:2.0
PRODID:-//Twin Cities Pride - ECPv6.13.2.1//NONSGML v1.0//EN
CALSCALE:GREGORIAN
METHOD:PUBLISH
X-ORIGINAL-URL:https://tcpride.org
X-WR-CALDESC:Events for Twin Cities Pride
REFRESH-INTERVAL;VALUE=DURATION:PT1H
X-Robots-Tag:noindex
X-PUBLISHED-TTL:PT1H
BEGIN:VTIMEZONE
TZID:America/Chicago
BEGIN:DAYLIGHT
TZOFFSETFROM:-0600
TZOFFSETTO:-0500
TZNAME:CDT
DTSTART:20240310T080000
END:DAYLIGHT
BEGIN:STANDARD
TZOFFSETFROM:-0500
TZOFFSETTO:-0600
TZNAME:CST
DTSTART:20241103T070000
END:STANDARD
END:VTIMEZONE
BEGIN:VEVENT
DTSTART;TZID=America/Chicago:20241113T083000
DTEND;TZID=America/Chicago:20241114T140000
DTSTAMP:20260420T182614
CREATED:20241112T173031Z
LAST-MODIFIED:20241112T173031Z
UID:59029-1731486600-1731592800@tcpride.org
SUMMARY:Q-Quest
DESCRIPTION:Q-Quest is a youth education\, wellness\, and advocacy festival and conference celebrating LGBTQIA2S+ lives\, histories\, and cultures!\n\nHigh School Day: Wednesday\, November 13th\, 8:30am – 2:15pmMiddle School Day: Thursday\, November 14th\, 8:30am – 2:15pm\n\nVisit mnsoc.org for more information\, including how to register your school\, how to table with your organization\, and how to sign up to volunteer!
URL:https://tcpride.org/event/q-quest/
LOCATION:Minneapolis Convention Center\, 1317 S 3rd Ave\, Minneapolis\, MN\, 55404\, United States
CATEGORIES:Community Events
ATTACH;FMTTYPE=image/jpeg:https://tcpride.org/wp-content/uploads/2024/11/459194349_853394040243607_5657592421028127826_n.jpg
END:VEVENT
END:VCALENDAR