BEGIN:VCALENDAR
VERSION:2.0
PRODID:-//Twin Cities Pride - ECPv6.13.2.1//NONSGML v1.0//EN
CALSCALE:GREGORIAN
METHOD:PUBLISH
X-WR-CALNAME:Twin Cities Pride
X-ORIGINAL-URL:https://tcpride.org
X-WR-CALDESC:Events for Twin Cities Pride
REFRESH-INTERVAL;VALUE=DURATION:PT1H
X-Robots-Tag:noindex
X-PUBLISHED-TTL:PT1H
BEGIN:VTIMEZONE
TZID:America/Chicago
BEGIN:DAYLIGHT
TZOFFSETFROM:-0600
TZOFFSETTO:-0500
TZNAME:CDT
DTSTART:20240310T080000
END:DAYLIGHT
BEGIN:STANDARD
TZOFFSETFROM:-0500
TZOFFSETTO:-0600
TZNAME:CST
DTSTART:20241103T070000
END:STANDARD
END:VTIMEZONE
BEGIN:VEVENT
DTSTART;TZID=America/Chicago:20241115T180000
DTEND;TZID=America/Chicago:20241115T210000
DTSTAMP:20260420T182449
CREATED:20241112T163410Z
LAST-MODIFIED:20241112T163410Z
UID:58947-1731693600-1731704400@tcpride.org
SUMMARY:LGBTQ Game Night
DESCRIPTION:Hey friends! It’s that time once again!  Join us for this month’s LGBTQ Game Night at Greyduck Collective! Lounge with friends\, dive into board games\, and test your knowledge with a fun trivia quiz! \n\n When: Friday\, November 15\, 6-9 PM Where: Greyduck Collective\, 6020 Nicollet Ave\, Minneapolis\, MN 55419Here’s what you can look forward to: A welcoming\, safe space for our queer community and allies Tasty tacos from a local food truck to fuel your gaming spirit! Snacks & coffee to keep your energy up while you play! Celebrate fall with warm apple cider and enjoy some sweet ice cream! Free parking available!\nBring your game face and let’s roll the dice! Can’t wait to see you there!
URL:https://tcpride.org/event/lgbtq-game-night/
LOCATION:Greyduck Collective\, 6020 Nicollet Ave\, Minneapolis\, MN\, 55419\, United States
CATEGORIES:Community Events
ATTACH;FMTTYPE=image/jpeg:https://tcpride.org/wp-content/uploads/2024/11/464926946_962445155922077_3709091124048230011_n-scaled.jpg
END:VEVENT
END:VCALENDAR