BEGIN:VCALENDAR
VERSION:2.0
PRODID:-//Twin Cities Pride - ECPv6.13.2.1//NONSGML v1.0//EN
CALSCALE:GREGORIAN
METHOD:PUBLISH
X-ORIGINAL-URL:https://tcpride.org
X-WR-CALDESC:Events for Twin Cities Pride
REFRESH-INTERVAL;VALUE=DURATION:PT1H
X-Robots-Tag:noindex
X-PUBLISHED-TTL:PT1H
BEGIN:VTIMEZONE
TZID:America/Chicago
BEGIN:DAYLIGHT
TZOFFSETFROM:-0600
TZOFFSETTO:-0500
TZNAME:CDT
DTSTART:20240310T080000
END:DAYLIGHT
BEGIN:STANDARD
TZOFFSETFROM:-0500
TZOFFSETTO:-0600
TZNAME:CST
DTSTART:20241103T070000
END:STANDARD
END:VTIMEZONE
BEGIN:VEVENT
DTSTART;TZID=America/Chicago:20241116T131500
DTEND;TZID=America/Chicago:20241116T151500
DTSTAMP:20260420T182613
CREATED:20241112T205007Z
LAST-MODIFIED:20241112T205007Z
UID:59073-1731762900-1731770100@tcpride.org
SUMMARY:Prime Timers Bookclub
DESCRIPTION:This monthly book club is a subgroup of the Twin Cities Prime Timers Club\, which is affiliated with the state and national organizations. It meets each third Saturday of the month at Quatrefoil from 1:15pm – 3:15pm.
URL:https://tcpride.org/event/prime-timers-bookclub/
LOCATION:Quatrefoil Library\, 1220 E Lake St\, Minneapolis\, MN\, 55407\, United States
CATEGORIES:Community Events
ORGANIZER;CN="Quatrefoil Library":MAILTO:president@quatrefoil.org
END:VEVENT
BEGIN:VEVENT
DTSTART;TZID=America/Chicago:20241116T190000
DTEND;TZID=America/Chicago:20241116T210000
DTSTAMP:20260420T182613
CREATED:20241112T164144Z
LAST-MODIFIED:20241112T164144Z
UID:58984-1731783600-1731790800@tcpride.org
SUMMARY:S/HE IS STILL HER/E MN Premiere
DESCRIPTION:25th Annual Sound Unseen Film + Music FestivalSaturday\, November 16\, 2024Bryant Lake BowlDoors: 6:30pm // Film: 7:00pmTickets: $15\nCo-Presented by: Bryant Lake Bowl & Twin Cities Gay Scene\n\nS/HE IS STILL HER/EMN Premiere\nFilm Trailer: https://www.youtube.com/watch?v=QmJbbI-P2iU\nVery few artists lived their art\, Genesis died three times for it. Pioneering electronic musician/avant garde artist/spiritual explorer/gender revolutionary/cult leader? Genesis P. Orridge has been featured in numerous films and videos\, but never the full story…never this intimate… until now. In this authorized but extremely raw and personal documentary\, award-winning director David Charles Rodrigues (Gay Chorus Deep South) documents the final year of P-Orridge’s existence as they grapple with mortality. Featuring William Burroughs\, Brion Gyson\, Timothy Leary\, Alice Genesse (PTV)\, David J (Bauhaus/Love and Rockets)\, Nepalese monks\, African Witch doctors and a special cameo by her Majesty\, Queen Elizabeth\, plus never before seen archival treasures\, performances from COUM Transmissions\, Throbbing Gristle and Psychic TV. This film is Executive Produced by LAURA JANE GRACE — trans activist and AGAINST ME! singer.\nDir. David Charles Rodrigues\, 97min\, 2024\, USA
URL:https://tcpride.org/event/s-he-is-still-her-e-mn-premiere/
LOCATION:Bryant Lake Bowl & Theater\, 810 W Lake St\, Minneapolis\, MN\, 55408-2846\, United States
CATEGORIES:Community Events
ATTACH;FMTTYPE=image/jpeg:https://tcpride.org/wp-content/uploads/2024/11/462703099_1073435294785011_4034807937166283477_n.jpg
END:VEVENT
END:VCALENDAR