BEGIN:VCALENDAR
VERSION:2.0
PRODID:-//Twin Cities Pride - ECPv6.13.2.1//NONSGML v1.0//EN
CALSCALE:GREGORIAN
METHOD:PUBLISH
X-WR-CALNAME:Twin Cities Pride
X-ORIGINAL-URL:https://tcpride.org
X-WR-CALDESC:Events for Twin Cities Pride
REFRESH-INTERVAL;VALUE=DURATION:PT1H
X-Robots-Tag:noindex
X-PUBLISHED-TTL:PT1H
BEGIN:VTIMEZONE
TZID:America/Chicago
BEGIN:DAYLIGHT
TZOFFSETFROM:-0600
TZOFFSETTO:-0500
TZNAME:CDT
DTSTART:20240310T080000
END:DAYLIGHT
BEGIN:STANDARD
TZOFFSETFROM:-0500
TZOFFSETTO:-0600
TZNAME:CST
DTSTART:20241103T070000
END:STANDARD
END:VTIMEZONE
BEGIN:VEVENT
DTSTART;TZID=America/Chicago:20241117T130000
DTEND;TZID=America/Chicago:20241117T160000
DTSTAMP:20260420T182434
CREATED:20241112T205027Z
LAST-MODIFIED:20241112T205027Z
UID:59077-1731848400-1731859200@tcpride.org
SUMMARY:Prime Timers Dominoes
DESCRIPTION:Join the Prime Timers for an afternoon of dominoes. Feel free to bring a snack to share and your dominoes set\, though not required.
URL:https://tcpride.org/event/prime-timers-dominoes/
LOCATION:Quatrefoil Library\, 1220 E Lake St\, Minneapolis\, MN\, 55407\, United States
CATEGORIES:Community Events
ORGANIZER;CN="Quatrefoil Library":MAILTO:president@quatrefoil.org
END:VEVENT
BEGIN:VEVENT
DTSTART;TZID=America/Chicago:20241117T150000
DTEND;TZID=America/Chicago:20241117T160000
DTSTAMP:20260420T182434
CREATED:20241112T175533Z
LAST-MODIFIED:20241112T175533Z
UID:59056-1731855600-1731859200@tcpride.org
SUMMARY:Special Topics in Being a Parent with S. Bear Bergman
DESCRIPTION:Please join Moon Palace Books and author S. Bear Bergman on Sunday\, November 17th at 3:00pm for a discussion of Special Topics in Being a Parent.\n\n**This is an in-person event. Masks are required in store.**\n\nBeing a parent is enormously joyful\, but it is also an enormous amount of work. Parenting requires you to make dozens of decisions a day\, every one of which in some way shapes the person your child will grow into. It can be difficult to know in these moments whether you’re on the right track. Progressive parents especially can feel adrift when caregiving in ways that were not modeled for them.\n\nFrom S. Bear Bergman – advice columnist\, educator\, and queer dad with fifteen years of parenting under his belt – comes Special Topics in Being a Parent\, a witty and insightful collection of child-rearing tips for those in search of realistic ideas about screens and lunches that don’t come with a side order of judgment. Using his own choices – and errors – by way of example\, Bergman offers suggestions for various stages of the parenting journey\, from asking “Are we ready to have a kid?” to talking with children about diversity and difference\, to questioning gender expectations placed on both kids and parents. With plenty of humour and compassion\, and featuring charming illustrations by Saul Freedman-Lawson\, this guide helps parents to live their parenting values while enabling their kids to grow their capacities\, understand the world\, and above all\, feel connected and loved.\n\nS. Bear Bergman is an author\, storyteller\, educator\, and the founder and publisher of children’s book press Flamingo Rampant\, which makes feminist\, culturally diverse children’s picture books celebrating LGBT2Q+ kids and families. He writes creative non-fiction for grown-ups\, fiction for children\, and the advice column “Asking Bear” and is the co-editor (with Kate Bornstein) of Gender Outlaws: The Next Generation (2010) and the author of Special Topics in Being a Human (Arsenal Pulp Press\, 2021). Their other books include The Nearest Exit May Be Behind You and Blood\, Marriage\, Wine & Glitter.
URL:https://tcpride.org/event/special-topics-in-being-a-parent-with-s-bear-bergman/
LOCATION:Moon Palace Books\, 3032 Minnehaha Ave\, Minneapolis\, MN\, Minneapolis\, MN\, 55406\, United States
CATEGORIES:Community Events
ATTACH;FMTTYPE=image/jpeg:https://tcpride.org/wp-content/uploads/2024/11/464284737_997482499087381_7429115882511872701_n.jpg
END:VEVENT
END:VCALENDAR