BEGIN:VCALENDAR
VERSION:2.0
PRODID:-//Twin Cities Pride - ECPv6.13.2.1//NONSGML v1.0//EN
CALSCALE:GREGORIAN
METHOD:PUBLISH
X-WR-CALNAME:Twin Cities Pride
X-ORIGINAL-URL:https://tcpride.org
X-WR-CALDESC:Events for Twin Cities Pride
REFRESH-INTERVAL;VALUE=DURATION:PT1H
X-Robots-Tag:noindex
X-PUBLISHED-TTL:PT1H
BEGIN:VTIMEZONE
TZID:America/Chicago
BEGIN:DAYLIGHT
TZOFFSETFROM:-0600
TZOFFSETTO:-0500
TZNAME:CDT
DTSTART:20240310T080000
END:DAYLIGHT
BEGIN:STANDARD
TZOFFSETFROM:-0500
TZOFFSETTO:-0600
TZNAME:CST
DTSTART:20241103T070000
END:STANDARD
END:VTIMEZONE
BEGIN:VEVENT
DTSTART;TZID=America/Chicago:20241124T120000
DTEND;TZID=America/Chicago:20241124T160000
DTSTAMP:20260420T182433
CREATED:20241112T163352Z
LAST-MODIFIED:20241112T163352Z
UID:58954-1732449600-1732464000@tcpride.org
SUMMARY:Queer Healers Pop-up
DESCRIPTION:Please Join Alseth Acres & Some of our favorite neighbors for the upcoming Queer Healers Pop-up Event in Duluth\, Minnesota!\n\nEVENT SCHEDULE:*Schedule subject to adjustments as we continue planning this first of its kind offering in our community! See below for accessibility information and information on the healers that are hosting this community space.*\nNoon: Opening Ceremony\n12:15pm: Healing Movement Class: Dancing Ourselves Home with Dr. Alex Iantaffi\n1:00-3:30pm:– Drop-in Massage with Jey Zamzow of Halcyon House Cooperative– Drop-in Herb Clinic with Courtney Cochran of Alseth Acres Apothecary– Drop-in Reiki Sessions with Orion Sorrell\n1:30-2:30: Drop-in Community Acupuncture with Lanna Schwab of Agate Acupuncture\n3:45: Closing Ceremony\n\nVisit our Queer Healers Webpage to get more information on the queer healers hosting this event\, services that will be offered\, and all the other details! All services will be available on a drop in basis with sliding scale offerings that are meant to be accessible to everyone in the queer community.\nhttps://alsethacresapothecary.weebly.com/queerhealers.html\n\nQuestions? Reach out to Courtney Cochran (they/them) at courtneymaecochran@gmail.com.\n\nSignup here to get event updates and reminders: https://docs.google.com/…/1FAIpQLSdNtBPgMbDhrD…/viewform\n\nACCESSIBILITY INFORMATION– Masks Required with free masks available– 20 Off Street Accessible Parking Spaces Available– Accessible Entrance on McCulloch Street– Not a scent free environment as essential oils may be used– Family Friendly Event! Youth under 16 should attend with adult.– Youth Under 18 may need caregiver consent for some services.– Gender Neutral/Accessible Restrooms– Low Sensory Setting with Quiet Music– Private room for Massage/Acupuncture– Sliding Scale Costs for 1-1 services– Trauma conscious and trans-centered services
URL:https://tcpride.org/event/queer-healers-pop-up/
LOCATION:Alseth Acres Apothecary\, 4601 McCulloch St\, Duluth\, MN\, 55804-2324\, United States
CATEGORIES:Community Events
ATTACH;FMTTYPE=image/jpeg:https://tcpride.org/wp-content/uploads/2024/11/465242768_879751107637005_8420639291101687438_n.jpg
END:VEVENT
END:VCALENDAR