BEGIN:VCALENDAR
VERSION:2.0
PRODID:-//Twin Cities Pride - ECPv6.13.2.1//NONSGML v1.0//EN
CALSCALE:GREGORIAN
METHOD:PUBLISH
X-ORIGINAL-URL:https://tcpride.org
X-WR-CALDESC:Events for Twin Cities Pride
REFRESH-INTERVAL;VALUE=DURATION:PT1H
X-Robots-Tag:noindex
X-PUBLISHED-TTL:PT1H
BEGIN:VTIMEZONE
TZID:America/Chicago
BEGIN:DAYLIGHT
TZOFFSETFROM:-0600
TZOFFSETTO:-0500
TZNAME:CDT
DTSTART:20240310T080000
END:DAYLIGHT
BEGIN:STANDARD
TZOFFSETFROM:-0500
TZOFFSETTO:-0600
TZNAME:CST
DTSTART:20241103T070000
END:STANDARD
END:VTIMEZONE
BEGIN:VEVENT
DTSTART;VALUE=DATE:20241125
DTEND;VALUE=DATE:20241127
DTSTAMP:20260420T182613
CREATED:20241201T214651Z
LAST-MODIFIED:20241201T214651Z
UID:59402-1732503600-1732589999@tcpride.org
SUMMARY:Join Umbra Artist Collective!
DESCRIPTION:Call for Artists & Vendors!\nUmbra Arts is here! And we’re looking for incredible queer artists/anllies and unique vendors to be part of our endeavor! \nIf you’re a creator looking to showcase your work or a vendor with something special to offer—we want to hear from you! \nWhether it’s visual art\, performance\, crafts\, or something else entirely\, Umbra Arts is a space for all forms of expression. \nLet’s build this creative community together! \nInterested? DM us on Instagram or reach out through our website contact page for more details on how to get involved!
URL:https://tcpride.org/event/join-umbra-artist-collective/
LOCATION:Umbra Arts\, 710 W Lake St.\, Minneapolis\, MN\, 55408\, United States
CATEGORIES:Community Events
ATTACH;FMTTYPE=image/jpeg:https://tcpride.org/wp-content/uploads/2024/11/IMG_5103.jpeg
END:VEVENT
END:VCALENDAR