BEGIN:VCALENDAR
VERSION:2.0
PRODID:-//Twin Cities Pride - ECPv6.13.2.1//NONSGML v1.0//EN
CALSCALE:GREGORIAN
METHOD:PUBLISH
X-ORIGINAL-URL:https://tcpride.org
X-WR-CALDESC:Events for Twin Cities Pride
REFRESH-INTERVAL;VALUE=DURATION:PT1H
X-Robots-Tag:noindex
X-PUBLISHED-TTL:PT1H
BEGIN:VTIMEZONE
TZID:America/Chicago
BEGIN:DAYLIGHT
TZOFFSETFROM:-0600
TZOFFSETTO:-0500
TZNAME:CDT
DTSTART:20240310T080000
END:DAYLIGHT
BEGIN:STANDARD
TZOFFSETFROM:-0500
TZOFFSETTO:-0600
TZNAME:CST
DTSTART:20241103T070000
END:STANDARD
END:VTIMEZONE
BEGIN:VEVENT
DTSTART;TZID=America/Chicago:20241201T100000
DTEND;TZID=America/Chicago:20241201T160000
DTSTAMP:20260420T170132
CREATED:20241112T175508Z
LAST-MODIFIED:20241112T175508Z
UID:59048-1733047200-1733068800@tcpride.org
SUMMARY:Queer Voices: Queer Market
DESCRIPTION:This #SmallBusinessWeekend\, we’re getting together with our buds at Open Book to help host 2 full days of programming! Saturday features any kind of writers\, makers\, and literary leaders while Sunday is reserved for members of our 2SLGBTQIA+ community.\nTICKETS: https://www.eventbrite.com/…/queer-voices-queer-market…\nGather at Open Book from 10am – 4pm with over 40 vendors from the Queer community. Ranging from gender neutral couture to mini custom cake tins\, this market has it all.
URL:https://tcpride.org/event/queer-voices-queer-market/
LOCATION:Open Book\, 1011 S. Washington Ave\, Minneapolis\, MN\, 55415\, United States
CATEGORIES:Community Events
ATTACH;FMTTYPE=image/jpeg:https://tcpride.org/wp-content/uploads/2024/11/466599545_10234757301181570_8257218833725531717_n.jpg
END:VEVENT
BEGIN:VEVENT
DTSTART;TZID=America/Chicago:20241201T133000
DTEND;TZID=America/Chicago:20241201T153000
DTSTAMP:20260420T170132
CREATED:20241112T205202Z
LAST-MODIFIED:20241112T205202Z
UID:59104-1733059800-1733067000@tcpride.org
SUMMARY:Twin Cities Aroace Solidarity Group
DESCRIPTION:Twin Cities Aroace Solidarity group is a joyful\, embracing 21+ creative community for progressive aroace-spec (aromantic and/or asexual spectrum) and queer allies to share mutual aid and friendship; creative/artistic exchange; and learning\, peer education & guidance across gender\, age\, income level\, ethnicity & other lines of social difference. We gather at Quatrefoil monthly to socialize and discuss queer media.\n\n\nPlease email or text group organizer Amy Brooks at abbrooks77@icloud.com | (937) 901-9205
URL:https://tcpride.org/event/twin-cities-aroace-solidarity-group/
LOCATION:Quatrefoil Library\, 1220 E Lake St\, Minneapolis\, MN\, 55407\, United States
CATEGORIES:Community Events
ORGANIZER;CN="Quatrefoil Library":MAILTO:president@quatrefoil.org
END:VEVENT
END:VCALENDAR