BEGIN:VCALENDAR
VERSION:2.0
PRODID:-//Twin Cities Pride - ECPv6.13.2.1//NONSGML v1.0//EN
CALSCALE:GREGORIAN
METHOD:PUBLISH
X-WR-CALNAME:Twin Cities Pride
X-ORIGINAL-URL:https://tcpride.org
X-WR-CALDESC:Events for Twin Cities Pride
REFRESH-INTERVAL;VALUE=DURATION:PT1H
X-Robots-Tag:noindex
X-PUBLISHED-TTL:PT1H
BEGIN:VTIMEZONE
TZID:America/Chicago
BEGIN:DAYLIGHT
TZOFFSETFROM:-0600
TZOFFSETTO:-0500
TZNAME:CDT
DTSTART:20240310T080000
END:DAYLIGHT
BEGIN:STANDARD
TZOFFSETFROM:-0500
TZOFFSETTO:-0600
TZNAME:CST
DTSTART:20241103T070000
END:STANDARD
END:VTIMEZONE
BEGIN:VEVENT
DTSTART;TZID=America/Chicago:20241213T190000
DTEND;TZID=America/Chicago:20241213T220000
DTSTAMP:20260420T170020
CREATED:20241212T182248Z
LAST-MODIFIED:20241212T182248Z
UID:59722-1734116400-1734127200@tcpride.org
SUMMARY:Snowball Queer Prom
DESCRIPTION:The Queer Prom of your dreams…with a twist! Grab your flannels & corsages\, because it’s time to make this prom a little outdoorsy\n\nMinnesota’s finest outdoor & LGBTQ+ orgs have come together to put on a wild soiree FREE for the queer community and our allies. Dress your best with a little outdoor-ready flare so you can dance the night away and get cozy by the bonfire with friends. No prom is complete without your incredible dance moves\, so we are aging up our event with a cash bar to get the ball rolling.\n\nDon’t have all you need to #optOutside? Our sponsors have us covered with thousands of dollars in donations to raffle off throughout the night. All attendees will receive a free raffle ticket\, with more available for purchase on-site.\n\nCost: FREEDate: Friday December 13thTime: 7pm – 10pmLocation: Loppet Foundation Trailhead – 1221 Theodore Wirth Pkwy\, Minneapolis\, MN 55422Attire: Prom\, Outdoors\, or mix of the two!Invite: Open to anyone LGBTQ+ & Allies aged 21+ – A cash bar will be available\, please bring your IDsGiveaways: All attendees will receive 1 free raffle ticket. More can be purchased on site\n\n—————————————-HOSTED IN PARTNERSHIP BY\nThe Loppet Foundationloppet.org | facebook.com/loppet\nMikah Meyer of Outside Safe Spacemikahmeyer.com/adventurepride | facebook.com/mikahmey\nStonewall Sports Twin CitiesStonewallTwinCities.org | facebook.com/stonewallsportstwincities\n—————————————-SPONSORS\nREI in recognition of their permanent closure on Black Friday allowing everyone to #OptOutsiderei.com/opt-outside | facebook.com/REI\nSolcana Fitnesssolcanafitness.com | facebook.com/solcanafitness\nThe Venture Out Projectventureoutproject.com | facebook.com/ventureoutproject
URL:https://tcpride.org/event/snowball-queer-prom/
LOCATION:Loppet Foundation\, 1221 Theodore Wirth Pkwy\, Minneapolis\, MN\, 55422\, United States
CATEGORIES:Community Events
ATTACH;FMTTYPE=image/jpeg:https://tcpride.org/wp-content/uploads/2024/12/469512886_9684031784945631_4094972242409141284_n.jpg
END:VEVENT
END:VCALENDAR