BEGIN:VCALENDAR
VERSION:2.0
PRODID:-//Twin Cities Pride - ECPv6.13.2.1//NONSGML v1.0//EN
CALSCALE:GREGORIAN
METHOD:PUBLISH
X-ORIGINAL-URL:https://tcpride.org
X-WR-CALDESC:Events for Twin Cities Pride
REFRESH-INTERVAL;VALUE=DURATION:PT1H
X-Robots-Tag:noindex
X-PUBLISHED-TTL:PT1H
BEGIN:VTIMEZONE
TZID:America/Chicago
BEGIN:DAYLIGHT
TZOFFSETFROM:-0600
TZOFFSETTO:-0500
TZNAME:CDT
DTSTART:20240310T080000
END:DAYLIGHT
BEGIN:STANDARD
TZOFFSETFROM:-0500
TZOFFSETTO:-0600
TZNAME:CST
DTSTART:20241103T070000
END:STANDARD
END:VTIMEZONE
BEGIN:VEVENT
DTSTART;TZID=America/Chicago:20241214T120000
DTEND;TZID=America/Chicago:20241214T170000
DTSTAMP:20260420T182614
CREATED:20241201T214605Z
LAST-MODIFIED:20241201T214605Z
UID:59395-1734177600-1734195600@tcpride.org
SUMMARY:Holiday Market at Umbra Arts!
DESCRIPTION:Call for Vendors: Umbra Arts Holiday Market!\n° Date: Saturday\, December 14th\n° Location: Umbra Arts \nUmbra Arts is excited to host our first annual Holiday Market on December 14th! We’re looking for unique\, local vendors who specialize in art\, crafts\, handmade goods\, vintage\, and more to help us bring some holiday magic to the community! \nThis is a fantastic opportunity to showcase your work\, connect with the community\, and celebrate the season with us. Spaces are limited\, so apply soon! \nInterested in becoming a vendor?\n\nTo apply\, Send us a DM or email us at katie@danemgmtgroup.com with your info\, product photos\, and a brief description of what you’d bring to the market! \nLet’s make Umbra Arts first holiday market one to remember!
URL:https://tcpride.org/event/holiday-market-at-umbra-arts/
LOCATION:Umbra Arts\, 710 W Lake St.\, Minneapolis\, MN\, 55408\, United States
CATEGORIES:Community Events
ATTACH;FMTTYPE=image/jpeg:https://tcpride.org/wp-content/uploads/2024/11/IMG_5104.jpeg
ORGANIZER;CN="Umbra Arts":MAILTO:Katie@danemgmtgroup.com
END:VEVENT
BEGIN:VEVENT
DTSTART;TZID=America/Chicago:20241214T170000
DTEND;TZID=America/Chicago:20241214T200000
DTSTAMP:20260420T182614
CREATED:20241112T164122Z
LAST-MODIFIED:20241112T164122Z
UID:58979-1734195600-1734206400@tcpride.org
SUMMARY:Holiday at Bubbies!
DESCRIPTION:Join ICOM as we host Holiday at Bubbies! A night of kibbitzing\, schmoozing\, and our reign 33 Candidate Announcements! With a Show and raffle\, proceeds to benefit J-Pride.
URL:https://tcpride.org/event/holiday-at-bubbies/
LOCATION:THE SALOON MN\, 830 Hennepin Ave\, Minneapolis\, MN\, 55403\, United States
CATEGORIES:Community Events
ATTACH;FMTTYPE=image/jpeg:https://tcpride.org/wp-content/uploads/2024/11/466130840_981634403997240_1211115548128586286_n.jpg
END:VEVENT
BEGIN:VEVENT
DTSTART;TZID=America/Chicago:20241214T180000
DTEND;TZID=America/Chicago:20241214T220000
DTSTAMP:20260420T182614
CREATED:20241201T214934Z
LAST-MODIFIED:20241201T214934Z
UID:59442-1734199200-1734213600@tcpride.org
SUMMARY:LGBTQ Women's Holiday Dance
DESCRIPTION:Do you need a place of respite from a world that has been especially hard on women lately? We need to be in community with our lesbian\, bisexual\, queer\, trans/cis gender sisters and non-binary folks* and our heterosexual women allies MORE THAN EVER! \nSo\, please join us for our Holiday* Party Saturday\, December 14th at the Minneapolis Eagles’ Club #34\, 2507 E. 25th Street Minneapolis. \n6- 7 Dinner and social hour: order dinner from the menu and get to know more women through informal conversation  (The Eagles Club takes credit cards for menu items.) \n7- 10 Dancing to DJ K. Shay!   (She’d love to have your requests in advance.  Join up and then post them to the Twin Cities Women’s Dances Facebook Page.) \nPhoto Booth fun with a Holiday* theme! (We celebrate all December holidays) \n Also\, at each dance we have a Give-n-Take Sharing Table. Bring what you are ready to pass along to a friend–LGBTQ & other books\, clothes\, plants\, jewelry\, yarn\, household goods\, crockpots\, etc.  \nWe also have a Community Resources Table for self employed women to bring business cards\, and for flyers for other LGBTQ events and non-profits. Help build up our community resources!  \nFeeling shy? Don’t worry\, we have Dance Ambassadors to talk to or dance with or who will introduce you to other women they know.  Come join in! \n $10 cash cover gets you all this fun! \nIn the Holiday spirit\, we are collecting gently used warm clothes and winter gear or new personal hygiene items to donate to Rainbow Wardrobe\, a project of Twin Cities Pride. They will give them out to the community for free at their office by Loring Park or at other community events. \n*(non-binary =AFAB but not transitioning to male or AMAB and transitioning to female)
URL:https://tcpride.org/event/lgbtq-womens-holiday-dance/
LOCATION:Minneapolis Eagles Club #34\, 2507 E. 25th Street\, Minneapolis\, MN\, United States
CATEGORIES:Community Events
ORGANIZER;CN="Twin Cities Women's Dances":MAILTO:katie.cashel.law@comcast.net
END:VEVENT
END:VCALENDAR