BEGIN:VCALENDAR
VERSION:2.0
PRODID:-//Twin Cities Pride - ECPv6.13.2.1//NONSGML v1.0//EN
CALSCALE:GREGORIAN
METHOD:PUBLISH
X-ORIGINAL-URL:https://tcpride.org
X-WR-CALDESC:Events for Twin Cities Pride
REFRESH-INTERVAL;VALUE=DURATION:PT1H
X-Robots-Tag:noindex
X-PUBLISHED-TTL:PT1H
BEGIN:VTIMEZONE
TZID:America/Chicago
BEGIN:DAYLIGHT
TZOFFSETFROM:-0600
TZOFFSETTO:-0500
TZNAME:CDT
DTSTART:20240310T080000
END:DAYLIGHT
BEGIN:STANDARD
TZOFFSETFROM:-0500
TZOFFSETTO:-0600
TZNAME:CST
DTSTART:20241103T070000
END:STANDARD
BEGIN:DAYLIGHT
TZOFFSETFROM:-0600
TZOFFSETTO:-0500
TZNAME:CDT
DTSTART:20250309T080000
END:DAYLIGHT
BEGIN:STANDARD
TZOFFSETFROM:-0500
TZOFFSETTO:-0600
TZNAME:CST
DTSTART:20251102T070000
END:STANDARD
END:VTIMEZONE
BEGIN:VEVENT
DTSTART;TZID=America/Chicago:20241231T200000
DTEND;TZID=America/Chicago:20250101T010000
DTSTAMP:20260420T193934
CREATED:20241112T165359Z
LAST-MODIFIED:20241112T165359Z
UID:59005-1735675200-1735693200@tcpride.org
SUMMARY:0% Alcohol - 100% Fun! New Years Eve Game Night
DESCRIPTION:Get ready for a booze-free blast as we ring in the New Year with a night of epic games\, a stunning charcuterie and free toast at midnight.
URL:https://tcpride.org/event/0-alcohol-100-fun-new-years-eve-game-night/
LOCATION:Roxy’s Cabaret\, 1333 Nicollet Mall\, Minneapolis
CATEGORIES:Community Events
ATTACH;FMTTYPE=image/jpeg:https://tcpride.org/wp-content/uploads/2024/11/https___cdn.evbuc_.com_images_896680113_2255930047163_1_original.jpeg
END:VEVENT
END:VCALENDAR