BEGIN:VCALENDAR
VERSION:2.0
PRODID:-//Twin Cities Pride - ECPv6.13.2.1//NONSGML v1.0//EN
CALSCALE:GREGORIAN
METHOD:PUBLISH
X-ORIGINAL-URL:https://tcpride.org
X-WR-CALDESC:Events for Twin Cities Pride
REFRESH-INTERVAL;VALUE=DURATION:PT1H
X-Robots-Tag:noindex
X-PUBLISHED-TTL:PT1H
BEGIN:VTIMEZONE
TZID:America/Chicago
BEGIN:DAYLIGHT
TZOFFSETFROM:-0600
TZOFFSETTO:-0500
TZNAME:CDT
DTSTART:20250309T080000
END:DAYLIGHT
BEGIN:STANDARD
TZOFFSETFROM:-0500
TZOFFSETTO:-0600
TZNAME:CST
DTSTART:20251102T070000
END:STANDARD
END:VTIMEZONE
BEGIN:VEVENT
DTSTART;TZID=America/Chicago:20250126T120000
DTEND;TZID=America/Chicago:20250126T160000
DTSTAMP:20260420T141217
CREATED:20250125T205103Z
LAST-MODIFIED:20250125T205103Z
UID:60723-1737892800-1737907200@tcpride.org
SUMMARY:Speed dating
DESCRIPTION:💥Men Seeking Men Speed Dating 💥 \nThis Sunday!!!  If you or any of your friends are single\, we have an event for you! \nLooking for love\, connection\, or just a fun afternoon? Join us at Forgotten Star Brewing Co. for a relaxed and exciting speed dating event tailored just for you! \nLand of 10\,000 Dates \n📅 Date: Sunday\, January 26th \n📍 Location: \nForgotten Star Brewing Co. \n38 Northern Stacks Drive \nFridley\, MN 55421 \n🕛 Time: 12 PM – 4 PM \n💙 Who’s Invited: \nAges 21-40 \nAges 40-65 \nEnjoy great conversations\, meet new people\, and who knows—you might just find your perfect match over a cold brew. 🍻 \nLimited spots available—don’t miss out! \n👉 Reserve your spot now! www.StassiDates.com
URL:https://tcpride.org/event/speed-dating/
LOCATION:forgotten star brewing co\, Fridley\, Mn
CATEGORIES:Community Events
ATTACH;FMTTYPE=image/jpeg:https://tcpride.org/wp-content/uploads/2025/01/IMG_7877.jpeg
END:VEVENT
END:VCALENDAR