BEGIN:VCALENDAR
VERSION:2.0
PRODID:-//Twin Cities Pride - ECPv6.13.2.1//NONSGML v1.0//EN
CALSCALE:GREGORIAN
METHOD:PUBLISH
X-WR-CALNAME:Twin Cities Pride
X-ORIGINAL-URL:https://tcpride.org
X-WR-CALDESC:Events for Twin Cities Pride
REFRESH-INTERVAL;VALUE=DURATION:PT1H
X-Robots-Tag:noindex
X-PUBLISHED-TTL:PT1H
BEGIN:VTIMEZONE
TZID:America/Chicago
BEGIN:DAYLIGHT
TZOFFSETFROM:-0600
TZOFFSETTO:-0500
TZNAME:CDT
DTSTART:20250309T080000
END:DAYLIGHT
BEGIN:STANDARD
TZOFFSETFROM:-0500
TZOFFSETTO:-0600
TZNAME:CST
DTSTART:20251102T070000
END:STANDARD
END:VTIMEZONE
BEGIN:VEVENT
DTSTART;TZID=America/Chicago:20250213T170000
DTEND;TZID=America/Chicago:20250213T180000
DTSTAMP:20260420T140913
CREATED:20250128T184428Z
LAST-MODIFIED:20250128T184428Z
UID:60860-1739466000-1739469600@tcpride.org
SUMMARY:Outspoken Voices: LGBTQ+ Storytelling Circle
DESCRIPTION:Celebrate Valentine’s Day early with Family Equality and LGBTQ+ families across the country as we enjoy a casual hour of connection\, reflection\, and storytelling centering around the theme of LOVE. \nLove is all around us — romantic\, platonic\, familial\, professional\, and everything in between! Bring a five-minute story about a brave\, joyful\, unexpected\, complicated or life-affirming love in your life. How did it blossom? What did it teach you? \nStories are powerful ways to build bridges and find community. If you’re searching for a chance to connect\, reflect\, and bring visibility to families like yours\, register for log-in information today!
URL:https://tcpride.org/event/outspoken-voices-lgbtq-storytelling-circle/
LOCATION:Virtual
CATEGORIES:Community Events
ATTACH;FMTTYPE=image/png:https://tcpride.org/wp-content/uploads/2025/01/Outspoken-Voices-2025-Program-Graphics1.png
ORGANIZER;CN="Family Equality":MAILTO:info@familyequality.org
END:VEVENT
END:VCALENDAR