BEGIN:VCALENDAR
VERSION:2.0
PRODID:-//Twin Cities Pride - ECPv6.13.2.1//NONSGML v1.0//EN
CALSCALE:GREGORIAN
METHOD:PUBLISH
X-WR-CALNAME:Twin Cities Pride
X-ORIGINAL-URL:https://tcpride.org
X-WR-CALDESC:Events for Twin Cities Pride
REFRESH-INTERVAL;VALUE=DURATION:PT1H
X-Robots-Tag:noindex
X-PUBLISHED-TTL:PT1H
BEGIN:VTIMEZONE
TZID:America/Chicago
BEGIN:DAYLIGHT
TZOFFSETFROM:-0600
TZOFFSETTO:-0500
TZNAME:CDT
DTSTART:20250309T080000
END:DAYLIGHT
BEGIN:STANDARD
TZOFFSETFROM:-0500
TZOFFSETTO:-0600
TZNAME:CST
DTSTART:20251102T070000
END:STANDARD
END:VTIMEZONE
BEGIN:VEVENT
DTSTART;TZID=America/Chicago:20250309T113000
DTEND;TZID=America/Chicago:20250309T123000
DTSTAMP:20260420T124325
CREATED:20250303T194230Z
LAST-MODIFIED:20250303T194230Z
UID:61870-1741519800-1741523400@tcpride.org
SUMMARY:Your Faith Community and Allyship at New Spirit UCC
DESCRIPTION:Community Event \nSunday\, March 9\, 2025 11:30 AM –  12:30 PM CT \n\nNew Spirit UCC\, 14394 Quebec Ave\, Savage\, MN 55378 \n\nJoin New Spirit UCC and OutFront Minnesota for the second training session in our special 5-part series. This session dives deeper into how your congregation can be in closer relationship with the LGBTQIA2S+ community and best practices in allyship. We will also walk through an assessment of your congregation\, reflecting on the ways you welcome queer folk and steps you might take as a congregation to welcome more widely.
URL:https://tcpride.org/event/your-faith-community-and-allyship-at-new-spirit-ucc/
LOCATION:New Spirit UCC\, 14394 Quebec Ave\, Savage\, MN\, 55378\, United States
CATEGORIES:Community Events
END:VEVENT
BEGIN:VEVENT
DTSTART;TZID=America/Chicago:20250309T163000
DTEND;TZID=America/Chicago:20250309T203000
DTSTAMP:20260420T124325
CREATED:20250311T170112Z
LAST-MODIFIED:20250311T170112Z
UID:62377-1741537800-1741552200@tcpride.org
SUMMARY:Women seeking women Singles Event
DESCRIPTION:Last chance to get tickets for Sunday! \n🎉 **Get Ready for a Night of Love and Laughter at the Land of 10\,000 Dates!** 💖 \n🌈 **March 9: Women Seeking Women Speed Dating** Ages 21-45 & 40-65! \nJoin us at **Forgotten Star Brewing Company** from 4:30 to 8:30 PM! Connect with amazing women in a fun\, welcoming space! 🥂 \n✨ **Why Join?**\n– Meet incredible women\n– Spark new connections\n– Enjoy a fabulous evening filled with laughter and good vibes! 🎈 \nWhether you’re looking for romance\, friendship\, or just a good time\, **Land of 10\,000 Dates** has the perfect event for you! Grab your friends and get ready for an unforgettable night! 🎉 \n🎟️ **Get your tickets and more details at\nhttp://stassidates.com\nDon’t miss out!
URL:https://tcpride.org/event/women-seeking-women-singles-event/
LOCATION:forgotten star brewing co\, Fridley\, Mn
CATEGORIES:Community Events
END:VEVENT
END:VCALENDAR