BEGIN:VCALENDAR
VERSION:2.0
PRODID:-//Twin Cities Pride - ECPv6.13.2.1//NONSGML v1.0//EN
CALSCALE:GREGORIAN
METHOD:PUBLISH
X-ORIGINAL-URL:https://tcpride.org
X-WR-CALDESC:Events for Twin Cities Pride
REFRESH-INTERVAL;VALUE=DURATION:PT1H
X-Robots-Tag:noindex
X-PUBLISHED-TTL:PT1H
BEGIN:VTIMEZONE
TZID:America/Chicago
BEGIN:DAYLIGHT
TZOFFSETFROM:-0600
TZOFFSETTO:-0500
TZNAME:CDT
DTSTART:20250309T080000
END:DAYLIGHT
BEGIN:STANDARD
TZOFFSETFROM:-0500
TZOFFSETTO:-0600
TZNAME:CST
DTSTART:20251102T070000
END:STANDARD
END:VTIMEZONE
BEGIN:VEVENT
DTSTART;TZID=America/Chicago:20250313T173000
DTEND;TZID=America/Chicago:20250313T190000
DTSTAMP:20260420T124541
CREATED:20250304T181806Z
LAST-MODIFIED:20250304T181806Z
UID:62167-1741887000-1741892400@tcpride.org
SUMMARY:Tea Time for Transwomen
DESCRIPTION:Tea Time is a peer support network for trans femme identifying individuals living in the Twin Cities and Greater Minnesota. The mission of Tea Time is to offer safer spaces for trans femme folks\, a highly vulnerable and stigmatized population. Tea Time offers various resources such as access to HRT injection supplies\, a free PrEP clinic\, safer spaces to discuss issues related to stigma and shame\, issues around medical transition\, sexual health\, peer support\, family issues\, etc. We offer safer spaces for trans femme folks to learn how to live and thrive through a network of peer support and care. \nTea Time meets every 2nd and 4th Thursday of the month from 5:30pm -7:00pm at The Aliveness Project located at 3808 Nicollet Ave\, Minneapolis\, MN 55409. \nContact Information: \nMain Office: 612-822-9668. \nLuna Maldonado: luna@aliveness.org \nTea Time Disscusion Topics\n\nName Change Clinic\nHormone Therapy\nSafe Spaces\nComing Out\nCommunity Connection\nDating / Love / Sex
URL:https://tcpride.org/event/tea-time-for-transwomen/
LOCATION:Aliveness Project\, 3808 Nicollet Ave\, Minneapolis\, MN\, 55409\, United States
CATEGORIES:Community Events
END:VEVENT
BEGIN:VEVENT
DTSTART;TZID=America/Chicago:20250313T173000
DTEND;TZID=America/Chicago:20250313T203000
DTSTAMP:20260420T124541
CREATED:20250311T170201Z
LAST-MODIFIED:20250311T170201Z
UID:62396-1741887000-1741897800@tcpride.org
SUMMARY:Free Singles mixer
DESCRIPTION:Singles Mixer & Open House at Forgotten Star Brewery! \nCome meet Laura & Britleigh and enjoy a night of great drinks\, great company\, and great vibes at the beautiful Forgotten Star Brewery! Whether you’re single\, taken\, or just looking to make new friends\, this event is for everyone! \n✨ Open-house style—come anytime & stay as long as you’d like! ✨ \n🍻 What to Expect:\n🎶 Live Music –Geoffrey Fischbein Music\n💌 Mini Speed Dating & Speed Friending – Whether you’re looking for romance or just cool new people to hang with!\n🎲 Social Games & Icebreakers – No awkward moments\, just fun!\n🍿 Tasty Snacks – Because good food makes everything better!\n🎁 Auctions & Prize Giveaways – You might just leave with something awesome!\n☀️ Sneak Peek at Summer 2025 – Get the inside scoop on what we’re planning! \n💖 ALL ages\, ALL sexual orientations—EVERYONE is welcome! \n📍 Forgotten Star Brewery \nGrab a beer\, bring your friends\, and let’s make some memories! 🍻🎉 \n👉 RSVP now & tag your friends—see you there!\nhttps://www.eventbrite.com/e/land-of-10000-dates-speed-dating-open-house-party-tickets-1253490135739?aff=oddtdtcreator
URL:https://tcpride.org/event/free-singles-mixer/
LOCATION:forgotten star brewing co\, Fridley\, Mn
CATEGORIES:Community Events
ATTACH;FMTTYPE=image/jpeg:https://tcpride.org/wp-content/uploads/2025/03/IMG_8228.jpeg
END:VEVENT
BEGIN:VEVENT
DTSTART;TZID=America/Chicago:20250313T180000
DTEND;TZID=America/Chicago:20250313T190000
DTSTAMP:20260420T124541
CREATED:20250304T185151Z
LAST-MODIFIED:20250304T185151Z
UID:62213-1741888800-1741892400@tcpride.org
SUMMARY:Queer Alcoholics Anonymous Support Group
DESCRIPTION:GayAA is a weekly group to read and discuss the twelve-step method of chemical dependency recovery using the Plain Language Big Book. The Plain Language Big Book is a version of the original Alcoholics Anonymous text that has been adapted to be more accessible and inclusive. It uses plain modern language and does not use potentially outdated or exclusionary terms. This adaptation was developed as an alternative to the original 1938 text for those who may have struggled with or felt marginalized by the language. The meeting is a space for queer and transgender people specifically. It is an Alcoholics Anonymous group\, so the only requirement is a desire to stop drinking. This group specifically encourages attendance by queer and transgender addicts as Alcoholics Anonymous has a long tradition of gender-specific groups facilitating discussion at the intersection of gender and addiction. Transgender and queer people like men and women need a safe space to get sober. Please be respectful of that reality when attending this group. The group is mindful of its role in fostering inclusion\, where everyone’s voice is heard and respected\, regardless of their background.
URL:https://tcpride.org/event/queer-alcoholics-anonymous-support-group-2/
LOCATION:Queermunity\, 3036 Hennepin Ave\, Minneapolis\, MN\, 55408\, United States
CATEGORIES:Community Events
END:VEVENT
BEGIN:VEVENT
DTSTART;TZID=America/Chicago:20250313T190000
DTEND;TZID=America/Chicago:20250313T210000
DTSTAMP:20260420T124541
CREATED:20250307T181434Z
LAST-MODIFIED:20250307T181957Z
UID:62357-1741892400-1741899600@tcpride.org
SUMMARY:Minnesota Wild Pride Night
DESCRIPTION:Celebrate Pride Night with us on March 13th\, as the Minnesota Wild face-off against the New York Rangers\, presented by HealthPartners. With the purchase of this ticket pack\, you’ll receive a special Pride-themed crossbody bag. Additionally\, a portion of each ticket is donated to Twin Cities Pride.
URL:https://tcpride.org/event/minnesota-wild-pride-night/
LOCATION:Xcel Energy Center\, 199 W Kellogg Blvd\, St. Paul\, MN\, 55102\, United States
CATEGORIES:Community Events
ATTACH;FMTTYPE=image/jpeg:https://tcpride.org/wp-content/uploads/2025/03/2425_Pride_Social_1080x1080Social.jpg
END:VEVENT
END:VCALENDAR