BEGIN:VCALENDAR
VERSION:2.0
PRODID:-//Twin Cities Pride - ECPv6.13.2.1//NONSGML v1.0//EN
CALSCALE:GREGORIAN
METHOD:PUBLISH
X-WR-CALNAME:Twin Cities Pride
X-ORIGINAL-URL:https://tcpride.org
X-WR-CALDESC:Events for Twin Cities Pride
REFRESH-INTERVAL;VALUE=DURATION:PT1H
X-Robots-Tag:noindex
X-PUBLISHED-TTL:PT1H
BEGIN:VTIMEZONE
TZID:America/Chicago
BEGIN:DAYLIGHT
TZOFFSETFROM:-0600
TZOFFSETTO:-0500
TZNAME:CDT
DTSTART:20250309T080000
END:DAYLIGHT
BEGIN:STANDARD
TZOFFSETFROM:-0500
TZOFFSETTO:-0600
TZNAME:CST
DTSTART:20251102T070000
END:STANDARD
END:VTIMEZONE
BEGIN:VEVENT
DTSTART;TZID=America/Chicago:20250314T210000
DTEND;TZID=America/Chicago:20250314T230000
DTSTAMP:20260420T124229
CREATED:20250303T193142Z
LAST-MODIFIED:20250304T150038Z
UID:61851-1741986000-1741993200@tcpride.org
SUMMARY:BBW: BOLD AND BEAUTIFUL WOMEN REVUE SHOW
DESCRIPTION:Join us for a glamorous night of drag and burlesque! Rustina Phoenix Nuttz proudly presents a dazzling line-up of Twin Cities burlesque performers\, featuring special guest plus-size drag artists Alexa Kamryn and Miz Tons. Don’t miss this extraordinary and captivating spectacle!
URL:https://tcpride.org/event/bbw-bold-and-beautiful-women-revue-show/
LOCATION:Lush Lounge and Theater\, 990 NE Central Ave\, Minneapolis\, MN\, 55413\, United States
CATEGORIES:Community Events
ATTACH;FMTTYPE=image/png:https://tcpride.org/wp-content/uploads/2025/03/Screenshot-2025-03-03-at-1.30.47 PM.png
END:VEVENT
END:VCALENDAR