BEGIN:VCALENDAR
VERSION:2.0
PRODID:-//Twin Cities Pride - ECPv6.13.2.1//NONSGML v1.0//EN
CALSCALE:GREGORIAN
METHOD:PUBLISH
X-WR-CALNAME:Twin Cities Pride
X-ORIGINAL-URL:https://tcpride.org
X-WR-CALDESC:Events for Twin Cities Pride
REFRESH-INTERVAL;VALUE=DURATION:PT1H
X-Robots-Tag:noindex
X-PUBLISHED-TTL:PT1H
BEGIN:VTIMEZONE
TZID:America/Chicago
BEGIN:DAYLIGHT
TZOFFSETFROM:-0600
TZOFFSETTO:-0500
TZNAME:CDT
DTSTART:20250309T080000
END:DAYLIGHT
BEGIN:STANDARD
TZOFFSETFROM:-0500
TZOFFSETTO:-0600
TZNAME:CST
DTSTART:20251102T070000
END:STANDARD
END:VTIMEZONE
BEGIN:VEVENT
DTSTART;TZID=America/Chicago:20250318T183000
DTEND;TZID=America/Chicago:20250318T200000
DTSTAMP:20260420T163036
CREATED:20250303T191527Z
LAST-MODIFIED:20250303T191527Z
UID:61828-1742322600-1742328000@tcpride.org
SUMMARY:Anoka Community Care Night: Stepping In & Stepping Out\, Knowing & Naming Capacity Needs
DESCRIPTION:Tuesday\, March 18\, 2025 6:30 PM –  8:00 PM CT \n\nMetta Coffee Cafe\, 215 E Main St\, Anoka\, MN 55303 \n\nJoin Metta Coffe Cafe and OutFront Minnesota for a guided discussion on ways that you can engage in the current\, tumultuous\, and fast paced political landscape. Together\, we will explore group and individual options to provide yourself ways you want to engage while providing yourself permission and boundaries to step away. Snacks and n/a drinks will be provided. Registration is helpful but not required.use the link in tickets to register if you would like.
URL:https://tcpride.org/event/anoka-community-care-night-stepping-in-stepping-out-knowing-naming-capacity-needs/
LOCATION:Metta Coffee Cafe\, 215 E Main St\, Anoka\, MN\, 55303\, United States
CATEGORIES:Community Events
END:VEVENT
END:VCALENDAR