BEGIN:VCALENDAR
VERSION:2.0
PRODID:-//Twin Cities Pride - ECPv6.13.2.1//NONSGML v1.0//EN
CALSCALE:GREGORIAN
METHOD:PUBLISH
X-ORIGINAL-URL:https://tcpride.org
X-WR-CALDESC:Events for Twin Cities Pride
REFRESH-INTERVAL;VALUE=DURATION:PT1H
X-Robots-Tag:noindex
X-PUBLISHED-TTL:PT1H
BEGIN:VTIMEZONE
TZID:America/Chicago
BEGIN:DAYLIGHT
TZOFFSETFROM:-0600
TZOFFSETTO:-0500
TZNAME:CDT
DTSTART:20250309T080000
END:DAYLIGHT
BEGIN:STANDARD
TZOFFSETFROM:-0500
TZOFFSETTO:-0600
TZNAME:CST
DTSTART:20251102T070000
END:STANDARD
END:VTIMEZONE
BEGIN:VEVENT
DTSTART;TZID=America/Chicago:20250326T180000
DTEND;TZID=America/Chicago:20250326T193000
DTSTAMP:20260420T124622
CREATED:20250314T021241Z
LAST-MODIFIED:20250314T021241Z
UID:62513-1743012000-1743017400@tcpride.org
SUMMARY:Freeland Spirits Tasting Benefit for Queer Space Collective
DESCRIPTION:All are welcome! A Spirited Tasting Benefit for Queer Space Collective \nJoin us for an evening of community\, cocktails\, and celebration as we support Queer Space Collective with Freeland Spirits owner Jill Kuehler. This special event is dedicated to creating safe\, affirming spaces for LGBTQ+ youth to thrive\, feel empowered\, and be their true selves. \nYour ticket includes a curated tasting experience featuring exceptional spirits\, craft cocktails\, and delicious bites—all while making a meaningful impact. Come raise a glass\, celebrate inclusivity\, and support a vital cause. \n📅 Wednesday\, March 26th\, 6:00 – 7:30 PM \n📍Pinoli\, 1601 West Lake St\, Minneapolis\, MN \n🎟️ Tickets include spirits from Freeland Spirits & Bourget Imports along with food. Purchase your ticket here – \nLet’s sip\, support\, and stand together for LGBTQ+ youth!
URL:https://tcpride.org/event/freeland-spirits-tasting-benefit-for-queer-space-collective/
LOCATION:pinoli\, 1601 W Lake St\, Minneapolis\, MN\, 55408
CATEGORIES:Community Events
ATTACH;FMTTYPE=image/jpeg:https://tcpride.org/wp-content/uploads/2025/03/Freeland-Queerspace-Fundraiser-2-scaled.jpg
END:VEVENT
BEGIN:VEVENT
DTSTART;TZID=America/Chicago:20250326T190000
DTEND;TZID=America/Chicago:20250326T210000
DTSTAMP:20260420T124622
CREATED:20250304T150727Z
LAST-MODIFIED:20250304T150727Z
UID:61955-1743015600-1743022800@tcpride.org
SUMMARY:Twin Cities Queer Transplant Group
DESCRIPTION:The Twin Cities Queer Transplant Group is a new community meetup for folks who have recently relocated to the Twin Cities. Drop by to meet new people\, learn about local LGBTQIA+ resources\, chat\, and share your favorite Twin Cities discoveries! Locals\, partners\, and family welcome. Meetings hosted every 4th Wednesday at Quatrefoil Library. \n  \nQuestions and information requests can be sent to TCTransplants@gmail.com
URL:https://tcpride.org/event/twin-cities-queer-transplant-group-2/
LOCATION:Quatrefoil Library\, 1220 E Lake St\, Minneapolis\, MN\, 55407\, United States
CATEGORIES:Community Events
ORGANIZER;CN="Twin Cities Queer Transplants":MAILTO:tctransplants@gmail.com
END:VEVENT
BEGIN:VEVENT
DTSTART;TZID=America/Chicago:20250326T190000
DTEND;TZID=America/Chicago:20250326T210000
DTSTAMP:20260420T124622
CREATED:20250304T153447Z
LAST-MODIFIED:20250304T153447Z
UID:62006-1743015600-1743022800@tcpride.org
SUMMARY:Queer Threads
DESCRIPTION:Queer threads: a weekly intergenerational craft night for LGBTQ people of all genders \nwhat: a weekly craft night for knitting\, crochet\, embroidery\, mending\, quilting\, and other portable crafts \nwhy: find community and camaraderie with other LGBTQ crafters \nwho: for all ages and genders. Kids are welcome\, but childcare is not provided. \nwhere: Quatrefoil Library at 1220 E Lake St Minneapolis. \nwhen: Wednesday nights from 7-9 pm \naccessibility: please wear a mask. \nhelp us cultivate a welcoming group: crafting is for all gender identities and types of gender expression; ask for (rather than assume) pronouns; all types of yarn and materials\, experience levels\, and portable craft projects are welcome.
URL:https://tcpride.org/event/queer-threads-7/
LOCATION:Quatrefoil Library\, 1220 E Lake St\, Minneapolis\, MN\, 55407\, United States
CATEGORIES:Community Events
ORGANIZER;CN="Quatrefoil Library":MAILTO:president@quatrefoil.org
END:VEVENT
END:VCALENDAR