BEGIN:VCALENDAR
VERSION:2.0
PRODID:-//Twin Cities Pride - ECPv6.13.2.1//NONSGML v1.0//EN
CALSCALE:GREGORIAN
METHOD:PUBLISH
X-WR-CALNAME:Twin Cities Pride
X-ORIGINAL-URL:https://tcpride.org
X-WR-CALDESC:Events for Twin Cities Pride
REFRESH-INTERVAL;VALUE=DURATION:PT1H
X-Robots-Tag:noindex
X-PUBLISHED-TTL:PT1H
BEGIN:VTIMEZONE
TZID:America/Chicago
BEGIN:DAYLIGHT
TZOFFSETFROM:-0600
TZOFFSETTO:-0500
TZNAME:CDT
DTSTART:20250309T080000
END:DAYLIGHT
BEGIN:STANDARD
TZOFFSETFROM:-0500
TZOFFSETTO:-0600
TZNAME:CST
DTSTART:20251102T070000
END:STANDARD
END:VTIMEZONE
BEGIN:VEVENT
DTSTART;TZID=America/Chicago:20250409T190000
DTEND;TZID=America/Chicago:20250409T200000
DTSTAMP:20260420T110604
CREATED:20250304T152718Z
LAST-MODIFIED:20250304T152718Z
UID:61990-1744225200-1744228800@tcpride.org
SUMMARY:Moon Palace Queer Book Club
DESCRIPTION:Event by Moon Palace Books \nPublic  ·  Join us for Queer Book Club every second Wednesday from 7-8pm at Quatrefoil Library\, 1220 East Lake Street\, Minneapolis\, MN 55407! (Please note that in the summer we will only meet at Quatrefoil if it rains. Otherwise we will meet at Brackett Park.) \nQueer Book Club April \n\n\n\n\n\n\n\n\nWednesday Apr 9th\, 2025\n\n\n7:00 PM – 8:00 PM\n\n\n\nQuatrefoil Library\, 1220 East Lake Street\, Minneapolis\, MN 55407\n\n\n\n\n\n\nJoin us for Queer Book Club on Wednesday\, April 9th\, at 7:00pm at Quatrefoil Library\, 1220 East Lake Street\, Minneapolis\, MN 55407. We’ll be discussing Blood Orange by Mx. Yaffa. Anyone is welcome to join whether you’ve read the whole book or just skimmed a few pages. We meet the second Wednesdays of every month! \n“Blood Orange” is a highly emotional\, important and timely poetry collection by Mx. Yaffa (They/She)\, a trans Muslim displaced Indigenous Palestinian. Their writings probe the yearning for home\, belonging\, mental health\, queerness\, transness\, and other dimensions of marginalization while nurturing dreams of utopia against the background of ongoing displacement and genocide of indigenous Palestinians. \nThis highly charged and cathartic body of work confronts the anguish and loss inflicted by genocide but also embraces a vision of a world free of it. The poems within “Blood Orange” were a means of working through and processing the grief caused by recent events and serve as an act of protest and defiance against settler colonialism as a whole.
URL:https://tcpride.org/event/moon-palace-queer-book-club/
LOCATION:Quatrefoil Library\, 1220 E Lake St\, Minneapolis\, MN\, 55407\, United States
CATEGORIES:Community Events
END:VEVENT
BEGIN:VEVENT
DTSTART;TZID=America/Chicago:20250409T190000
DTEND;TZID=America/Chicago:20250409T210000
DTSTAMP:20260420T110604
CREATED:20250304T153523Z
LAST-MODIFIED:20250304T153655Z
UID:62008-1744225200-1744232400@tcpride.org
SUMMARY:Queer Threads
DESCRIPTION:Queer threads: a weekly intergenerational craft night for LGBTQ people of all genders \nwhat: a weekly craft night for knitting\, crochet\, embroidery\, mending\, quilting\, and other portable crafts \nwhy: find community and camaraderie with other LGBTQ crafters \nwho: for all ages and genders. Kids are welcome\, but childcare is not provided. \nwhere: Quatrefoil Library at 1220 E Lake St Minneapolis. \nwhen: Wednesday nights from 7-9 pm \naccessibility: please wear a mask. \nhelp us cultivate a welcoming group: crafting is for all gender identities and types of gender expression; ask for (rather than assume) pronouns; all types of yarn and materials\, experience levels\, and portable craft projects are welcome.
URL:https://tcpride.org/event/queer-threads-8/
LOCATION:Quatrefoil Library\, 1220 E Lake St\, Minneapolis\, MN\, 55407\, United States
CATEGORIES:Community Events
ORGANIZER;CN="Quatrefoil Library":MAILTO:president@quatrefoil.org
END:VEVENT
END:VCALENDAR