BEGIN:VCALENDAR
VERSION:2.0
PRODID:-//Twin Cities Pride - ECPv6.13.2.1//NONSGML v1.0//EN
CALSCALE:GREGORIAN
METHOD:PUBLISH
X-WR-CALNAME:Twin Cities Pride
X-ORIGINAL-URL:https://tcpride.org
X-WR-CALDESC:Events for Twin Cities Pride
REFRESH-INTERVAL;VALUE=DURATION:PT1H
X-Robots-Tag:noindex
X-PUBLISHED-TTL:PT1H
BEGIN:VTIMEZONE
TZID:America/Chicago
BEGIN:DAYLIGHT
TZOFFSETFROM:-0600
TZOFFSETTO:-0500
TZNAME:CDT
DTSTART:20250309T080000
END:DAYLIGHT
BEGIN:STANDARD
TZOFFSETFROM:-0500
TZOFFSETTO:-0600
TZNAME:CST
DTSTART:20251102T070000
END:STANDARD
END:VTIMEZONE
BEGIN:VEVENT
DTSTART;TZID=America/Chicago:20250410T173000
DTEND;TZID=America/Chicago:20250410T190000
DTSTAMP:20260420T110512
CREATED:20250304T182015Z
LAST-MODIFIED:20250304T182015Z
UID:62171-1744306200-1744311600@tcpride.org
SUMMARY:Tea Time for Transwomen
DESCRIPTION:Tea Time is a peer support network for trans femme identifying individuals living in the Twin Cities and Greater Minnesota. The mission of Tea Time is to offer safer spaces for trans femme folks\, a highly vulnerable and stigmatized population. Tea Time offers various resources such as access to HRT injection supplies\, a free PrEP clinic\, safer spaces to discuss issues related to stigma and shame\, issues around medical transition\, sexual health\, peer support\, family issues\, etc. We offer safer spaces for trans femme folks to learn how to live and thrive through a network of peer support and care. \nTea Time meets every 2nd and 4th Thursday of the month from 5:30pm -7:00pm at The Aliveness Project located at 3808 Nicollet Ave\, Minneapolis\, MN 55409. \nContact Information: \nMain Office: 612-822-9668. \nLuna Maldonado: luna@aliveness.org \nTea Time Disscusion Topics\n\nName Change Clinic\nHormone Therapy\nSafe Spaces\nComing Out\nCommunity Connection\nDating / Love / Sex
URL:https://tcpride.org/event/tea-time-for-transwomen-3/
LOCATION:Aliveness Project\, 3808 Nicollet Ave\, Minneapolis\, MN\, 55409\, United States
CATEGORIES:Community Events
END:VEVENT
BEGIN:VEVENT
DTSTART;TZID=America/Chicago:20250410T180000
DTEND;TZID=America/Chicago:20250410T190000
DTSTAMP:20260420T110512
CREATED:20250304T185610Z
LAST-MODIFIED:20250304T185610Z
UID:62221-1744308000-1744311600@tcpride.org
SUMMARY:Queer Alcoholics Anonymous Support Group
DESCRIPTION:GayAA is a weekly group to read and discuss the twelve-step method of chemical dependency recovery using the Plain Language Big Book. The Plain Language Big Book is a version of the original Alcoholics Anonymous text that has been adapted to be more accessible and inclusive. It uses plain modern language and does not use potentially outdated or exclusionary terms. This adaptation was developed as an alternative to the original 1938 text for those who may have struggled with or felt marginalized by the language. The meeting is a space for queer and transgender people specifically. It is an Alcoholics Anonymous group\, so the only requirement is a desire to stop drinking. This group specifically encourages attendance by queer and transgender addicts as Alcoholics Anonymous has a long tradition of gender-specific groups facilitating discussion at the intersection of gender and addiction. Transgender and queer people like men and women need a safe space to get sober. Please be respectful of that reality when attending this group. The group is mindful of its role in fostering inclusion\, where everyone’s voice is heard and respected\, regardless of their background.
URL:https://tcpride.org/event/queer-alcoholics-anonymous-support-group-6/
LOCATION:Queermunity\, 3036 Hennepin Ave\, Minneapolis\, MN\, 55408\, United States
CATEGORIES:Community Events
END:VEVENT
BEGIN:VEVENT
DTSTART;TZID=America/Chicago:20250410T193000
DTEND;TZID=America/Chicago:20250410T220000
DTSTAMP:20260420T110512
CREATED:20250303T193845Z
LAST-MODIFIED:20250303T193845Z
UID:61864-1744313400-1744322400@tcpride.org
SUMMARY:Howdy Partner Country Dance Night
DESCRIPTION:You are invited to join us for our country dance night with group dance lesson provided by @howdypartnerdance to help get you boot scootin’ all night long. Theater doors open at 7:30pm with the group dance lesson starting at 8pm followed by an open dance hall until 10pm. \nIt’s FREE to attend but RSVP recommended so we can plan for the group dance instruction. Don’t forget to dress in your country best!
URL:https://tcpride.org/event/howdy-partner-country-dance-night/
LOCATION:Lush Lounge and Theater\, 990 NE Central Ave\, Minneapolis\, MN\, 55413\, United States
CATEGORIES:Community Events
ATTACH;FMTTYPE=image/png:https://tcpride.org/wp-content/uploads/2025/03/Screenshot-2025-03-03-at-1.37.57 PM.png
END:VEVENT
END:VCALENDAR