BEGIN:VCALENDAR
VERSION:2.0
PRODID:-//Twin Cities Pride - ECPv6.13.2.1//NONSGML v1.0//EN
CALSCALE:GREGORIAN
METHOD:PUBLISH
X-ORIGINAL-URL:https://tcpride.org
X-WR-CALDESC:Events for Twin Cities Pride
REFRESH-INTERVAL;VALUE=DURATION:PT1H
X-Robots-Tag:noindex
X-PUBLISHED-TTL:PT1H
BEGIN:VTIMEZONE
TZID:America/Chicago
BEGIN:DAYLIGHT
TZOFFSETFROM:-0600
TZOFFSETTO:-0500
TZNAME:CDT
DTSTART:20250309T080000
END:DAYLIGHT
BEGIN:STANDARD
TZOFFSETFROM:-0500
TZOFFSETTO:-0600
TZNAME:CST
DTSTART:20251102T070000
END:STANDARD
END:VTIMEZONE
BEGIN:VEVENT
DTSTART;TZID=America/Chicago:20250412T100000
DTEND;TZID=America/Chicago:20250412T110000
DTSTAMP:20260420T110927
CREATED:20250304T180143Z
LAST-MODIFIED:20250304T180143Z
UID:62135-1744452000-1744455600@tcpride.org
SUMMARY:NA Meeting: Queer\, Trans\, and Friends
DESCRIPTION:Narcotics Anonymous (NA) has an open meeting at Aliveness every Saturday at 10 am. It is focused on people in recovery who are queer\, trans\, and allies and is “open to any addict seeking recovery.” \nFor more info contact hanna@aliveness.org
URL:https://tcpride.org/event/na-meeting-queer-trans-and-friends-6/
LOCATION:Aliveness Project\, 3808 Nicollet Ave\, Minneapolis\, MN\, 55409\, United States
CATEGORIES:Community Events
END:VEVENT
BEGIN:VEVENT
DTSTART;TZID=America/Chicago:20250412T120000
DTEND;TZID=America/Chicago:20250412T140000
DTSTAMP:20260420T110927
CREATED:20250304T152820Z
LAST-MODIFIED:20250304T152820Z
UID:61992-1744459200-1744466400@tcpride.org
SUMMARY:Radical Queer Tarot Reading Group
DESCRIPTION:Radical Queer Tarot Reading Group is a space for novice to expert tarot readers to gather in non-hierarchical community to explore applying the wisdom of the tarot to apocalyptic times. We’ll focus on reading BIPOC/Queer/Leftist/Radical/Anti-Capitalist authors of tarot interpretation\, discussing what we’re learning\, & doing tarot spreads together to experience & interpret our new ideas. From tarot-curious to tarot master — if this offering speaks to you\, please join us. Contact radicalqueertarotreadinggroup@gmail.com for more information.
URL:https://tcpride.org/event/radical-queer-tarot-reading-group-2/
LOCATION:Quatrefoil Library\, 1220 E Lake St\, Minneapolis\, MN\, 55407\, United States
CATEGORIES:Community Events
ORGANIZER;CN="Quatrefoil Library":MAILTO:president@quatrefoil.org
END:VEVENT
BEGIN:VEVENT
DTSTART;TZID=America/Chicago:20250412T183000
DTEND;TZID=America/Chicago:20250412T213000
DTSTAMP:20260420T110927
CREATED:20250304T152925Z
LAST-MODIFIED:20250304T152925Z
UID:61994-1744482600-1744493400@tcpride.org
SUMMARY:Quatrefoil Game Night
DESCRIPTION:
URL:https://tcpride.org/event/quatrefoil-game-night-3/
LOCATION:Quatrefoil Library\, 1220 E Lake St\, Minneapolis\, MN\, 55407\, United States
CATEGORIES:Community Events
ATTACH;FMTTYPE=image/png:https://tcpride.org/wp-content/uploads/2025/03/Screenshot-2025-03-03-at-4.50.21 PM.png
ORGANIZER;CN="Quatrefoil Library":MAILTO:president@quatrefoil.org
END:VEVENT
END:VCALENDAR