BEGIN:VCALENDAR
VERSION:2.0
PRODID:-//Twin Cities Pride - ECPv6.13.2.1//NONSGML v1.0//EN
CALSCALE:GREGORIAN
METHOD:PUBLISH
X-ORIGINAL-URL:https://tcpride.org
X-WR-CALDESC:Events for Twin Cities Pride
REFRESH-INTERVAL;VALUE=DURATION:PT1H
X-Robots-Tag:noindex
X-PUBLISHED-TTL:PT1H
BEGIN:VTIMEZONE
TZID:America/Chicago
BEGIN:DAYLIGHT
TZOFFSETFROM:-0600
TZOFFSETTO:-0500
TZNAME:CDT
DTSTART:20250309T080000
END:DAYLIGHT
BEGIN:STANDARD
TZOFFSETFROM:-0500
TZOFFSETTO:-0600
TZNAME:CST
DTSTART:20251102T070000
END:STANDARD
END:VTIMEZONE
BEGIN:VEVENT
DTSTART;TZID=America/Chicago:20250416T190000
DTEND;TZID=America/Chicago:20250416T210000
DTSTAMP:20260420T110900
CREATED:20250304T153603Z
LAST-MODIFIED:20250304T153725Z
UID:62010-1744830000-1744837200@tcpride.org
SUMMARY:Queer Threads
DESCRIPTION:Queer threads: a weekly intergenerational craft night for LGBTQ people of all genders \nwhat: a weekly craft night for knitting\, crochet\, embroidery\, mending\, quilting\, and other portable crafts \nwhy: find community and camaraderie with other LGBTQ crafters \nwho: for all ages and genders. Kids are welcome\, but childcare is not provided. \nwhere: Quatrefoil Library at 1220 E Lake St Minneapolis. \nwhen: Wednesday nights from 7-9 pm \naccessibility: please wear a mask. \nhelp us cultivate a welcoming group: crafting is for all gender identities and types of gender expression; ask for (rather than assume) pronouns; all types of yarn and materials\, experience levels\, and portable craft projects are welcome.
URL:https://tcpride.org/event/queer-threads-9/
LOCATION:Quatrefoil Library\, 1220 E Lake St\, Minneapolis\, MN\, 55407\, United States
CATEGORIES:Community Events
ORGANIZER;CN="Quatrefoil Library":MAILTO:president@quatrefoil.org
END:VEVENT
BEGIN:VEVENT
DTSTART;TZID=America/Chicago:20250416T190000
DTEND;TZID=America/Chicago:20250416T210000
DTSTAMP:20260420T110900
CREATED:20250304T154412Z
LAST-MODIFIED:20250304T154412Z
UID:62025-1744830000-1744837200@tcpride.org
SUMMARY:Twin Cities Lesbian Fiction Book Club (Online)
DESCRIPTION:Virtual Book Club that meets online via Zoom – please direct all questions and requests for the Zoom link to jchandlerauthor@gmail.com \nYou are welcome to attend even if you didn’t read the book\, or didn’t like it. We enjoy staying in touch with our friends! \nBook of the month: \n2025 \nJanuary—CHRISTMASSED by Blythe H. Warren \nFebruary—DEVIL’S BREATH by Anna Paxton \nMarch—JONES by Gerri Hill \nApril—HALF IN by Felice Cohen \nMay—PULL OF THE STARS by Emma Donoghue \nJune—FALLS FROM GRACE by Ruby Landers \nJuly—LAST CHANCE CHICAGO by Diana DiGangi \nAugust—SCORCHED GRACE by Margo Douaihy \nSeptember—WATERLOGGED by Nance Sparks \nOctober—THE SAFEKEEP by Yael Van der Wouden (in hardcover now\, but will be out in paperback May 27th)
URL:https://tcpride.org/event/twin-cities-lesbian-fiction-book-club-online-2/
CATEGORIES:Community Events
ORGANIZER;CN="Quatrefoil Library":MAILTO:president@quatrefoil.org
END:VEVENT
END:VCALENDAR