BEGIN:VCALENDAR
VERSION:2.0
PRODID:-//Twin Cities Pride - ECPv6.13.2.1//NONSGML v1.0//EN
CALSCALE:GREGORIAN
METHOD:PUBLISH
X-ORIGINAL-URL:https://tcpride.org
X-WR-CALDESC:Events for Twin Cities Pride
REFRESH-INTERVAL;VALUE=DURATION:PT1H
X-Robots-Tag:noindex
X-PUBLISHED-TTL:PT1H
BEGIN:VTIMEZONE
TZID:America/Chicago
BEGIN:DAYLIGHT
TZOFFSETFROM:-0600
TZOFFSETTO:-0500
TZNAME:CDT
DTSTART:20250309T080000
END:DAYLIGHT
BEGIN:STANDARD
TZOFFSETFROM:-0500
TZOFFSETTO:-0600
TZNAME:CST
DTSTART:20251102T070000
END:STANDARD
END:VTIMEZONE
BEGIN:VEVENT
DTSTART;TZID=America/Chicago:20250424T173000
DTEND;TZID=America/Chicago:20250424T190000
DTSTAMP:20260420T110900
CREATED:20250304T182238Z
LAST-MODIFIED:20250304T182238Z
UID:62173-1745515800-1745521200@tcpride.org
SUMMARY:Tea Time for Transwomen
DESCRIPTION:Tea Time is a peer support network for trans femme identifying individuals living in the Twin Cities and Greater Minnesota. The mission of Tea Time is to offer safer spaces for trans femme folks\, a highly vulnerable and stigmatized population. Tea Time offers various resources such as access to HRT injection supplies\, a free PrEP clinic\, safer spaces to discuss issues related to stigma and shame\, issues around medical transition\, sexual health\, peer support\, family issues\, etc. We offer safer spaces for trans femme folks to learn how to live and thrive through a network of peer support and care. \nTea Time meets every 2nd and 4th Thursday of the month from 5:30pm -7:00pm at The Aliveness Project located at 3808 Nicollet Ave\, Minneapolis\, MN 55409. \nContact Information: \nMain Office: 612-822-9668. \nLuna Maldonado: luna@aliveness.org \nTea Time Disscusion Topics\n\nName Change Clinic\nHormone Therapy\nSafe Spaces\nComing Out\nCommunity Connection\nDating / Love / Sex
URL:https://tcpride.org/event/tea-time-for-transwomen-4/
LOCATION:Aliveness Project\, 3808 Nicollet Ave\, Minneapolis\, MN\, 55409\, United States
CATEGORIES:Community Events
END:VEVENT
BEGIN:VEVENT
DTSTART;TZID=America/Chicago:20250424T190000
DTEND;TZID=America/Chicago:20250424T210000
DTSTAMP:20260420T110900
CREATED:20250304T174723Z
LAST-MODIFIED:20250304T174723Z
UID:62105-1745521200-1745528400@tcpride.org
SUMMARY:BiblioFemmes Book Club
DESCRIPTION:Details\n\n\nPlease read “Yerba Buena” by Nina Lacour in preparation for this meeting. \nThere will be someone to facilitate the meeting\, but we invite everyone who attends to come up with at least one question\, comment\, or just a favorite passage that they want to talk about during book club. \nYou are not required to finish the book to attend\, but you are required to be okay with spoilers if you don’t finish. \nMeetup caps attendance at 10 people\, but we can accommodate more. \nWhen RSVPing\, please comment with your intention to come if the event is currently listed as full. \nIf we approach venue capacity we will close RSVPs. \nQuatrefoil opens right at 7\, so we’ll aim to start the meeting closer to 7:15 to give folks time to settle in. \nThere is a small parking lot in the back of the building that is open to patrons as space is available. Food and drink are allowed\, so feel free to bring something for yourself or to share! \n\nBiblioFemmes is a group of queer femmes who love books. We have a monthly book club at Quatrefoil and other events throughout the month\, including pottery making\, game nights\, social hours\, and more. We meet regularly with the express intention of creating a community\, so if you are looking for a book club AND some new friends\, we might be the right fit for you. \nEveryone who describes themselves as a femme (small doses count) and who has done the reading is welcome to attend a book club (RSVPs appreciated but not required). If you are interested in the group\, but want to meet without homework\, please reach out to the email address listed below and we’ll add you to our Discord server and mailing list. \nContact: bibliofemmes.mn@gmail.com
URL:https://tcpride.org/event/bibliofemmes-book-club-2/
LOCATION:Quatrefoil Library\, 1220 E Lake St\, Minneapolis\, MN\, 55407\, United States
CATEGORIES:Community Events
ORGANIZER;CN="Quatrefoil Library":MAILTO:president@quatrefoil.org
END:VEVENT
END:VCALENDAR