BEGIN:VCALENDAR
VERSION:2.0
PRODID:-//Twin Cities Pride - ECPv6.13.2.1//NONSGML v1.0//EN
CALSCALE:GREGORIAN
METHOD:PUBLISH
X-WR-CALNAME:Twin Cities Pride
X-ORIGINAL-URL:https://tcpride.org
X-WR-CALDESC:Events for Twin Cities Pride
REFRESH-INTERVAL;VALUE=DURATION:PT1H
X-Robots-Tag:noindex
X-PUBLISHED-TTL:PT1H
BEGIN:VTIMEZONE
TZID:America/Chicago
BEGIN:DAYLIGHT
TZOFFSETFROM:-0600
TZOFFSETTO:-0500
TZNAME:CDT
DTSTART:20250309T080000
END:DAYLIGHT
BEGIN:STANDARD
TZOFFSETFROM:-0500
TZOFFSETTO:-0600
TZNAME:CST
DTSTART:20251102T070000
END:STANDARD
END:VTIMEZONE
BEGIN:VEVENT
DTSTART;TZID=America/Chicago:20250503T100000
DTEND;TZID=America/Chicago:20250503T110000
DTSTAMP:20260420T110712
CREATED:20250304T180409Z
LAST-MODIFIED:20250304T180409Z
UID:62141-1746266400-1746270000@tcpride.org
SUMMARY:NA Meeting: Queer\, Trans\, and Friends
DESCRIPTION:Narcotics Anonymous (NA) has an open meeting at Aliveness every Saturday at 10 am. It is focused on people in recovery who are queer\, trans\, and allies and is “open to any addict seeking recovery.” \nFor more info contact hanna@aliveness.org
URL:https://tcpride.org/event/na-meeting-queer-trans-and-friends-9/
LOCATION:Aliveness Project\, 3808 Nicollet Ave\, Minneapolis\, MN\, 55409\, United States
CATEGORIES:Community Events
END:VEVENT
BEGIN:VEVENT
DTSTART;TZID=America/Chicago:20250503T100000
DTEND;TZID=America/Chicago:20250503T180000
DTSTAMP:20260420T110712
CREATED:20250225T192029Z
LAST-MODIFIED:20250225T192029Z
UID:61553-1746266400-1746295200@tcpride.org
SUMMARY:Spring Book Hop
DESCRIPTION:Hate bar hopping & late nights? Us too. Come join a group of us as we go Book Hopping!  Saturday\, May 3rd we start at Open Book for a Book Fair from 10:00am-11:30am. We’ll take a short lunch break\, then start the route together. Just want to hang out? There’s no book minimum\, this is a free event. LGBTQA+ friendly event\, check out our Facebook group Twin Cities Book Hop for more updates. Spring Book club\, open to everyone\, will be held from 4:00pm – 6:00pm @ Open Book room 203. Check the Page for more info.
URL:https://tcpride.org/event/spring-book-hop/
LOCATION:Open Book\, 1011 S. Washington Ave\, Minneapolis\, MN\, 55415\, United States
CATEGORIES:Community Events,TCPride 2025 Events
ATTACH;FMTTYPE=image/jpeg:https://tcpride.org/wp-content/uploads/2025/02/461D14BD-2108-4843-9B0C-11F2263CA402.jpeg
END:VEVENT
BEGIN:VEVENT
DTSTART;TZID=America/Chicago:20250503T103000
DTEND;TZID=America/Chicago:20250503T113000
DTSTAMP:20260420T110712
CREATED:20250304T154622Z
LAST-MODIFIED:20250304T154622Z
UID:62029-1746268200-1746271800@tcpride.org
SUMMARY:Knotty Recovery
DESCRIPTION:Knotty Recovery is a 12-step group who shares their experience\, strength\, and hope with each other to solve their common problems related to addiction. Meeting on the 1st & 3rd Saturday of every month\, this is a space where you can openly to discuss sexuality and kink in recovery and the format is similar to a traditional 12 step meeting. The only requirement for attendance is a desire to quit whatever addictive substance or behavior is affecting your life.
URL:https://tcpride.org/event/knotty-recovery-3/
LOCATION:Quatrefoil Library\, 1220 E Lake St\, Minneapolis\, MN\, 55407\, United States
CATEGORIES:Community Events
ORGANIZER;CN="Quatrefoil Library":MAILTO:president@quatrefoil.org
END:VEVENT
BEGIN:VEVENT
DTSTART;TZID=America/Chicago:20250503T130000
DTEND;TZID=America/Chicago:20250503T160000
DTSTAMP:20260420T110712
CREATED:20250404T010900Z
LAST-MODIFIED:20250404T010900Z
UID:72917-1746277200-1746288000@tcpride.org
SUMMARY:TransPractical:  Gender Affirming Clothing Swap
DESCRIPTION:Join us to find new-to-you clothing to express or explore your gender identity! Rainbow Wardrobe will be providing a range of size inclusive clothing options. We encourage you to also bring your own gently used and freshly laundered clothes to swap. \n  \nNo Registration Required! \n  \nMinneapolis Central Library\, DOTY Board Room (2nd Floor)
URL:https://tcpride.org/event/transpractical-gender-affirming-clothing-swap/
LOCATION:Minneapolis Central Library\, 300 Nicollet Mall\, Minneapolis\, MN\, 55401\, United States
CATEGORIES:Community Events
ATTACH;FMTTYPE=image/jpeg:https://tcpride.org/wp-content/uploads/2025/04/Picture2.jpg
END:VEVENT
END:VCALENDAR