BEGIN:VCALENDAR
VERSION:2.0
PRODID:-//Twin Cities Pride - ECPv6.13.2.1//NONSGML v1.0//EN
CALSCALE:GREGORIAN
METHOD:PUBLISH
X-WR-CALNAME:Twin Cities Pride
X-ORIGINAL-URL:https://tcpride.org
X-WR-CALDESC:Events for Twin Cities Pride
REFRESH-INTERVAL;VALUE=DURATION:PT1H
X-Robots-Tag:noindex
X-PUBLISHED-TTL:PT1H
BEGIN:VTIMEZONE
TZID:America/Chicago
BEGIN:DAYLIGHT
TZOFFSETFROM:-0600
TZOFFSETTO:-0500
TZNAME:CDT
DTSTART:20250309T080000
END:DAYLIGHT
BEGIN:STANDARD
TZOFFSETFROM:-0500
TZOFFSETTO:-0600
TZNAME:CST
DTSTART:20251102T070000
END:STANDARD
END:VTIMEZONE
BEGIN:VEVENT
DTSTART;TZID=America/Chicago:20250513T170000
DTEND;TZID=America/Chicago:20250513T190000
DTSTAMP:20260420T093054
CREATED:20250506T172258Z
LAST-MODIFIED:20250506T172258Z
UID:74106-1747155600-1747162800@tcpride.org
SUMMARY:Tuesday Toasts with HRC Minnesota
DESCRIPTION:Join fellow Minnesotans as we toast to LGBTQ+ equality! For May\, we will be toasting the Minnesota LGBTQIA2S+ Community Needs Survey. Learn more about this important initiative to gather data about our community. \nTwin Cities 400 Tavern\nDelta Hotels Minneapolis Northeast\n1330 Industrial Blvd NE\, Minneapolis \nEvery second Tuesday of the month\, HRC Minnesota offers an opportunity to make new friends and reconnect with fellow LGBTQ+ family and friends through a casual social and informative toast.
URL:https://tcpride.org/event/tuesday-toasts-with-hrc-minnesota/
LOCATION:Twin Cities 400 Tavern\, 1330 Industrial Blvd NE Suite 400\, Minneapolis\, 55413
CATEGORIES:Community Events
ATTACH;FMTTYPE=image/jpeg:https://tcpride.org/wp-content/uploads/2025/05/Tuesday-Toasts-Flyer-May-2025.jpg
ORGANIZER;CN="Human Rights Campaign Minnesota":MAILTO:hrcminnesota@gmail.com
END:VEVENT
BEGIN:VEVENT
DTSTART;TZID=America/Chicago:20250513T190000
DTEND;TZID=America/Chicago:20250513T203000
DTSTAMP:20260420T093054
CREATED:20250304T151855Z
LAST-MODIFIED:20250304T151855Z
UID:61975-1747162800-1747168200@tcpride.org
SUMMARY:North Country Gaylaxians Book Club (Online)
DESCRIPTION:The meeting of the Twin Cities chapter of the Gaylactic Network\, an organization for the GLBT fan community\, whether it be science fiction\, fantasy\, horror\, comics\, or gaming. We read and discuss books of speculative fiction with GLBT or similar content or by GLBT authors. We meet the second Tuesday of the month at 7:00 pm on Zoom. Also\, monthly gaming get-togethers in a private home. \nInfo on events can be found on their Facebook page:    https://www.facebook.com/groups/NorthCountryGaylaxians/
URL:https://tcpride.org/event/north-country-gaylaxians-book-club-online-3/
LOCATION:MN
CATEGORIES:Community Events
END:VEVENT
END:VCALENDAR