BEGIN:VCALENDAR
VERSION:2.0
PRODID:-//Twin Cities Pride - ECPv6.13.2.1//NONSGML v1.0//EN
CALSCALE:GREGORIAN
METHOD:PUBLISH
X-ORIGINAL-URL:https://tcpride.org
X-WR-CALDESC:Events for Twin Cities Pride
REFRESH-INTERVAL;VALUE=DURATION:PT1H
X-Robots-Tag:noindex
X-PUBLISHED-TTL:PT1H
BEGIN:VTIMEZONE
TZID:America/Chicago
BEGIN:DAYLIGHT
TZOFFSETFROM:-0600
TZOFFSETTO:-0500
TZNAME:CDT
DTSTART:20250309T080000
END:DAYLIGHT
BEGIN:STANDARD
TZOFFSETFROM:-0500
TZOFFSETTO:-0600
TZNAME:CST
DTSTART:20251102T070000
END:STANDARD
END:VTIMEZONE
BEGIN:VEVENT
DTSTART;TZID=America/Chicago:20250516T190000
DTEND;TZID=America/Chicago:20250516T200000
DTSTAMP:20260420T093421
CREATED:20250505T175942Z
LAST-MODIFIED:20250505T175942Z
UID:74052-1747422000-1747425600@tcpride.org
SUMMARY:Kate Berlant - Standup Comedy
DESCRIPTION:Comedian\, actress\, and writer Kate Berlant is having a breakout moment – again – for her one-woman play KATE\, “the New York City Show to See” (Vulture). Her new comedy special\, Cinnamon in the Wind (directed by Bo Burnham)\, is now streaming on Hulu. In addition\, her A24/Peacock sketch comedy special Would It Kill You to Laugh?\, created with her collaborator John Early\, was recently nominated for a Critic’s Choice Award. Kate’s film credits include Olivia Wilde’s Don’t Worry Darling\, Quentin Tarantino’s Once Upon a Time in Hollywood\, and Boots Riley’s Sorry to Bother You. She can currently be seen on the new Amazon series A League of Their Own\, starring alongside Abbi Jacobsen and Nick Offerman; her additional television credits include Search Party\, Easy\, Transparent\, and I Think You Should Leave with Tim Robinson\, as well as her celebrated episode of Netflix’s The Characters. She was named a Just for Laughs “New Face of Comedy” and a Variety “Ten to Watch.”
URL:https://tcpride.org/event/kate-berlant-standup-comedy/
LOCATION:Fitzgerald Theater\, 10 E Exchange St\, St Paul\, MN\, 55101\, United States
CATEGORIES:Community Events
ATTACH;FMTTYPE=image/jpeg:https://tcpride.org/wp-content/uploads/2025/05/KateBerlant.jpg
ORGANIZER;CN="Fitzgerald Theater":MAILTO:info@first-avenue.com
END:VEVENT
END:VCALENDAR