BEGIN:VCALENDAR
VERSION:2.0
PRODID:-//Twin Cities Pride - ECPv6.13.2.1//NONSGML v1.0//EN
CALSCALE:GREGORIAN
METHOD:PUBLISH
X-WR-CALNAME:Twin Cities Pride
X-ORIGINAL-URL:https://tcpride.org
X-WR-CALDESC:Events for Twin Cities Pride
REFRESH-INTERVAL;VALUE=DURATION:PT1H
X-Robots-Tag:noindex
X-PUBLISHED-TTL:PT1H
BEGIN:VTIMEZONE
TZID:America/Chicago
BEGIN:DAYLIGHT
TZOFFSETFROM:-0600
TZOFFSETTO:-0500
TZNAME:CDT
DTSTART:20250309T080000
END:DAYLIGHT
BEGIN:STANDARD
TZOFFSETFROM:-0500
TZOFFSETTO:-0600
TZNAME:CST
DTSTART:20251102T070000
END:STANDARD
END:VTIMEZONE
BEGIN:VEVENT
DTSTART;TZID=America/Chicago:20250518T100000
DTEND;TZID=America/Chicago:20250518T150000
DTSTAMP:20260420T094012
CREATED:20250324T154752Z
LAST-MODIFIED:20250324T154752Z
UID:72581-1747562400-1747580400@tcpride.org
SUMMARY:Queer Science Day
DESCRIPTION:An outreach event for queer and trans high school students & allies to foster a passion for stem in an inclusive and supportive environment.
URL:https://tcpride.org/event/queer-science-day/
LOCATION:Smith Hall\, 207 Pleasant St SE\, Minneapolis\, MN\, 55455\, United States
CATEGORIES:Community Events
END:VEVENT
BEGIN:VEVENT
DTSTART;TZID=America/Chicago:20250518T130000
DTEND;TZID=America/Chicago:20250518T160000
DTSTAMP:20260420T094012
CREATED:20250304T161656Z
LAST-MODIFIED:20250304T161656Z
UID:62085-1747573200-1747584000@tcpride.org
SUMMARY:Prime Timers Dominoes
DESCRIPTION:Join the Prime Timers for an afternoon of dominoes. Feel free to bring a snack to share and your dominoes set\, though not required.
URL:https://tcpride.org/event/prime-timers-dominoes-4/
LOCATION:Quatrefoil Library\, 1220 E Lake St\, Minneapolis\, MN\, 55407\, United States
CATEGORIES:Community Events
ORGANIZER;CN="Quatrefoil Library":MAILTO:president@quatrefoil.org
END:VEVENT
BEGIN:VEVENT
DTSTART;TZID=America/Chicago:20250518T150000
DTEND;TZID=America/Chicago:20250518T163000
DTSTAMP:20260420T094012
CREATED:20250428T182947Z
LAST-MODIFIED:20250428T182947Z
UID:73799-1747580400-1747585800@tcpride.org
SUMMARY:Catholic Parents\, Grandparents and Family Members of LGBTQ+ people!
DESCRIPTION:Our next circle conversation will welcome people new to this discussion and affirm those who have participated in previous meetings. We will meet on Sunday\, May 18\, 3:00pm – 4:30pm.\n \nWhat has been your family’s experience with LGBTQ questions and realities?  What has your journey been like? How have others navigated their journey? How has your Catholic faith impacted your experience? Meet others who are experiencing this journey in positive ways. \nContact Art at LLFFchair@cabrinimn.org with your questions – for location.
URL:https://tcpride.org/event/catholic-parents-grandparents-and-family-members-of-lgbtq-people/
LOCATION:Church of St Frances Cabrini\, 1500 Franklin Ave. SE\, Minneapolis\, MN\, 55414\, United States
CATEGORIES:Community Events
END:VEVENT
END:VCALENDAR