BEGIN:VCALENDAR
VERSION:2.0
PRODID:-//Twin Cities Pride - ECPv6.13.2.1//NONSGML v1.0//EN
CALSCALE:GREGORIAN
METHOD:PUBLISH
X-WR-CALNAME:Twin Cities Pride
X-ORIGINAL-URL:https://tcpride.org
X-WR-CALDESC:Events for Twin Cities Pride
REFRESH-INTERVAL;VALUE=DURATION:PT1H
X-Robots-Tag:noindex
X-PUBLISHED-TTL:PT1H
BEGIN:VTIMEZONE
TZID:America/Chicago
BEGIN:DAYLIGHT
TZOFFSETFROM:-0600
TZOFFSETTO:-0500
TZNAME:CDT
DTSTART:20250309T080000
END:DAYLIGHT
BEGIN:STANDARD
TZOFFSETFROM:-0500
TZOFFSETTO:-0600
TZNAME:CST
DTSTART:20251102T070000
END:STANDARD
END:VTIMEZONE
BEGIN:VEVENT
DTSTART;TZID=America/Chicago:20250524T100000
DTEND;TZID=America/Chicago:20250524T110000
DTSTAMP:20260420T093926
CREATED:20250304T180553Z
LAST-MODIFIED:20250304T180553Z
UID:62147-1748080800-1748084400@tcpride.org
SUMMARY:NA Meeting: Queer\, Trans\, and Friends
DESCRIPTION:Narcotics Anonymous (NA) has an open meeting at Aliveness every Saturday at 10 am. It is focused on people in recovery who are queer\, trans\, and allies and is “open to any addict seeking recovery.” \nFor more info contact hanna@aliveness.org
URL:https://tcpride.org/event/na-meeting-queer-trans-and-friends-12/
LOCATION:Aliveness Project\, 3808 Nicollet Ave\, Minneapolis\, MN\, 55409\, United States
CATEGORIES:Community Events
END:VEVENT
BEGIN:VEVENT
DTSTART;TZID=America/Chicago:20250524T123000
DTEND;TZID=America/Chicago:20250524T150000
DTSTAMP:20260420T093926
CREATED:20250408T001117Z
LAST-MODIFIED:20250408T001117Z
UID:72999-1748089800-1748098800@tcpride.org
SUMMARY:Puzzling & Beats
DESCRIPTION:Brains\, beats\, and a whole lotta queer cheer — come play with us at Queermunity! To stay updated on future events please follow us. \nhttps://linktr.ee/elevatetwincitites
URL:https://tcpride.org/event/puzzling-beats/
LOCATION:Queermunity\, 3036 Hennepin Ave\, Minneapolis\, MN\, 55408\, United States
CATEGORIES:Community Events
ATTACH;FMTTYPE=image/jpeg:https://tcpride.org/wp-content/uploads/2025/04/IMG_5613.jpeg
END:VEVENT
BEGIN:VEVENT
DTSTART;TZID=America/Chicago:20250524T183000
DTEND;TZID=America/Chicago:20250524T213000
DTSTAMP:20260420T093926
CREATED:20250304T153138Z
LAST-MODIFIED:20250304T153138Z
UID:62000-1748111400-1748122200@tcpride.org
SUMMARY:Quatrefoil Game Night
DESCRIPTION:
URL:https://tcpride.org/event/quatrefoil-game-night-6/
LOCATION:Quatrefoil Library\, 1220 E Lake St\, Minneapolis\, MN\, 55407\, United States
CATEGORIES:Community Events
ORGANIZER;CN="Quatrefoil Library":MAILTO:president@quatrefoil.org
END:VEVENT
END:VCALENDAR