BEGIN:VCALENDAR
VERSION:2.0
PRODID:-//Twin Cities Pride - ECPv6.13.2.1//NONSGML v1.0//EN
CALSCALE:GREGORIAN
METHOD:PUBLISH
X-WR-CALNAME:Twin Cities Pride
X-ORIGINAL-URL:https://tcpride.org
X-WR-CALDESC:Events for Twin Cities Pride
REFRESH-INTERVAL;VALUE=DURATION:PT1H
X-Robots-Tag:noindex
X-PUBLISHED-TTL:PT1H
BEGIN:VTIMEZONE
TZID:America/Chicago
BEGIN:DAYLIGHT
TZOFFSETFROM:-0600
TZOFFSETTO:-0500
TZNAME:CDT
DTSTART:20250309T080000
END:DAYLIGHT
BEGIN:STANDARD
TZOFFSETFROM:-0500
TZOFFSETTO:-0600
TZNAME:CST
DTSTART:20251102T070000
END:STANDARD
END:VTIMEZONE
BEGIN:VEVENT
DTSTART;VALUE=DATE:20250601
DTEND;VALUE=DATE:20250702
DTSTAMP:20260420T081256
CREATED:20250508T022446Z
LAST-MODIFIED:20250508T022446Z
UID:74208-1748746800-1751338799@tcpride.org
SUMMARY:Pride Exhibit
DESCRIPTION:A gallery show dedicated to Pride-themed artwork: paintings\, photography\, glass\, etc.
URL:https://tcpride.org/event/pride-exhibit/
LOCATION:ACCC Gallery at the Chaska Community Center\, 1661 Park Ridge Drive\, Chaska\, MN\, 55318\, United States
CATEGORIES:Community Events
ATTACH;FMTTYPE=image/jpeg:https://tcpride.org/wp-content/uploads/2025/05/pride.jpg
ORGANIZER;CN="Arts Consortium of Carver County":MAILTO:LiyaLev@comcast.net
END:VEVENT
BEGIN:VEVENT
DTSTART;TZID=America/Chicago:20250601T120000
DTEND;TZID=America/Chicago:20250601T140000
DTSTAMP:20260420T081256
CREATED:20250505T175819Z
LAST-MODIFIED:20250505T175819Z
UID:74059-1748779200-1748786400@tcpride.org
SUMMARY:Cheers to Pride! 5K Run/Walk
DESCRIPTION:On June 1\, participating locations across the Twin Cities will donate a percentage of their proceeds to support Twin Cities Pride’s year-round programming. It’s a fun and impactful way to celebrate Pride while helping sustain vital services and support for the LGBTQIA+ community all year long.\nJoin Twin Cities In Motion Ambassadors for a casual 5K run/walk on the trails along the Mississippi River. Return to Utepils afterwards and ‘cheers to pride’!\nSunday\, June 112PM – Meet12:15PM – Run/Walk starts\nUtepils Brewing225 Thomas Ave N #700\, Minneapolis\, MN\nQuestions? Contact Allison Greenlee: allisong@tcmevents.org
URL:https://tcpride.org/event/cheers-to-pride-5k-run-walk/
LOCATION:Utepils\, 225 Thomas Ave N #700\, Minneapolis\, MN\, 55405\, United States
CATEGORIES:Community Events
ATTACH;FMTTYPE=image/jpeg:https://tcpride.org/wp-content/uploads/2025/05/5k.jpg
END:VEVENT
BEGIN:VEVENT
DTSTART;TZID=America/Chicago:20250601T133000
DTEND;TZID=America/Chicago:20250601T153000
DTSTAMP:20260420T081256
CREATED:20250304T160340Z
LAST-MODIFIED:20250304T160340Z
UID:62069-1748784600-1748791800@tcpride.org
SUMMARY:Twin Cities Aroace Solidarity Group
DESCRIPTION:Twin Cities Aroace Solidarity group is a joyful\, embracing 21+ creative community for progressive aroace-spec (aromantic and/or asexual spectrum) and queer allies to share mutual aid and friendship; creative/artistic exchange; and learning\, peer education & guidance across gender\, age\, income level\, ethnicity & other lines of social difference. We gather at Quatrefoil monthly to socialize and discuss queer media.\n\n\nPlease email or text group organizer Amy Brooks at abbrooks77@icloud.com | (937) 901-9205
URL:https://tcpride.org/event/twin-cities-aroace-solidarity-group-7/
LOCATION:Quatrefoil Library\, 1220 E Lake St\, Minneapolis\, MN\, 55407\, United States
CATEGORIES:Community Events
ORGANIZER;CN="Quatrefoil Library":MAILTO:president@quatrefoil.org
END:VEVENT
BEGIN:VEVENT
DTSTART;TZID=America/Chicago:20250601T140000
DTEND;TZID=America/Chicago:20250601T160000
DTSTAMP:20260420T081256
CREATED:20250513T171101Z
LAST-MODIFIED:20250513T171101Z
UID:74393-1748786400-1748793600@tcpride.org
SUMMARY:Mae West and the Trial of Sex
DESCRIPTION:Walking Shadow Theatre Company presents\n\n\n\nMae West and the Trial of Sex\n\nby John Heimbuch\ndirected by Allison Vincent\n\nat Crane Theater\nMay 31- June 22\, 2025\nExtra! Extra! Provocative Playwright Mae West Runs Afoul of Broadway Censors\, Her Popular Play SEX Raided for Obscenity. Tammany Hall claims it was necessary to prevent West’s new homosexual drama\, THE DRAG\, from corrupting the youth of New York. The sultry starlet faces time in the slammer if she doesn’t amend her immoral ways and stop SEX at once! \nMae West and the Trial of Sex draws from court documents\, newspapers\, and West’s own plays to explore the overt sexuality and curious queerness of her rise to fame. Playwright John Heimbuch uses Mae West’s legal battle over censorship to show how queer representation became criminalized on stage and screen\, cutting LGBTQIA+ people off from their past. \nBefore she was an icon of the silver screen\, Mae West was a Broadway actress and playwright (under the name Jane Mast). In early 1927\, while performing in her long-running melodrama\, Sex\, about a Montreal sex worker\, West was developing a new play about Greenwich Village queer culture called The Drag. This play had a sympathetic view of homosexuality\, and included a large-scale drag ball onstage\, which worried the New York press and police. West became the target of a media campaign to clean up Broadway\, culminating in a police raid of Sex. The resulting obscenity trial resulted in the closing of Sex and The Drag\, ten days in jail for Mae West\, and a new censorship law that prevented queer characters from appearing in the American theatre for the next 40 years. \nTicket Prices:\nTickets are pick-your-price: $30 – $70.\nTicket sales only cover a portion of what it actually costs to present our plays.\nFor ticket sales to completely cover our production expenses\, a ticket would cost $50. \nYou choose your price! If you are able to pay the true cost of $50\, we ask you to do so. Or\, pay as little as $30\, or choose a more generous amount and help support our accessible ticket program. A limited number of $15 Economic Accessibility tickets are available starting one month before the performance date\, for anyone who needs to pay less\, no questions asked. Limit 2 per order. Student tickets are FREE. Limit 2 per order. Available starting one month before the performance date. \nAll seating is general admission\, though we’re happy to make accommodations or handle special seating requests. \nAccessibility:\nCrane Theater is wheelchair accessible. \nASL interpreted on Saturday\, June 14 at 7:30pm by Nella Titus (NIC) and Maria Dively (NIC)\nAudio Described on Sunday\, June 15 at 2:00pm by Elana Centor. \nContent Advisory:\nThis show is recommended for ages 16+ and includes adult language and dated references to homosexuality. \nHealth and Safety:\nWe do not currently require proof of Covid vaccination or masking. Covid policy is subject to change based on regional conditions and/or guidance. Please do not attend the show if you have tested positive for Covid-19 or if you are actively experiencing Covid-like symptoms. \nLocation and Parking:\nCrane Theater is located at 2303 Kennedy St NE\, Minneapolis\, MN 55413. Parking and the entrance to the theater are located at the back of the building. Look for the yellow door. There is also ample free street parking available in the evenings.
URL:https://tcpride.org/event/mae-west-and-the-trial-of-sex-2/
LOCATION:The Crane Theater\, 2303 Kennedy St NE\, Minneapolis\, MN\, 55413\, United States
CATEGORIES:Community Events
ATTACH;FMTTYPE=image/png:https://tcpride.org/wp-content/uploads/2025/05/Mae-West-2025-website-banner-2.png
ORGANIZER;CN="Walking Shadow Theatre Company":MAILTO:info@walkingshadow.org
END:VEVENT
END:VCALENDAR