BEGIN:VCALENDAR
VERSION:2.0
PRODID:-//Twin Cities Pride - ECPv6.13.2.1//NONSGML v1.0//EN
CALSCALE:GREGORIAN
METHOD:PUBLISH
X-WR-CALNAME:Twin Cities Pride
X-ORIGINAL-URL:https://tcpride.org
X-WR-CALDESC:Events for Twin Cities Pride
REFRESH-INTERVAL;VALUE=DURATION:PT1H
X-Robots-Tag:noindex
X-PUBLISHED-TTL:PT1H
BEGIN:VTIMEZONE
TZID:America/Chicago
BEGIN:DAYLIGHT
TZOFFSETFROM:-0600
TZOFFSETTO:-0500
TZNAME:CDT
DTSTART:20250309T080000
END:DAYLIGHT
BEGIN:STANDARD
TZOFFSETFROM:-0500
TZOFFSETTO:-0600
TZNAME:CST
DTSTART:20251102T070000
END:STANDARD
END:VTIMEZONE
BEGIN:VEVENT
DTSTART;VALUE=DATE:20250601
DTEND;VALUE=DATE:20250702
DTSTAMP:20260420T081254
CREATED:20250508T022446Z
LAST-MODIFIED:20250508T022446Z
UID:74208-1748746800-1751338799@tcpride.org
SUMMARY:Pride Exhibit
DESCRIPTION:A gallery show dedicated to Pride-themed artwork: paintings\, photography\, glass\, etc.
URL:https://tcpride.org/event/pride-exhibit/
LOCATION:ACCC Gallery at the Chaska Community Center\, 1661 Park Ridge Drive\, Chaska\, MN\, 55318\, United States
CATEGORIES:Community Events
ATTACH;FMTTYPE=image/jpeg:https://tcpride.org/wp-content/uploads/2025/05/pride.jpg
ORGANIZER;CN="Arts Consortium of Carver County":MAILTO:LiyaLev@comcast.net
END:VEVENT
BEGIN:VEVENT
DTSTART;TZID=America/Chicago:20250602T150000
DTEND;TZID=America/Chicago:20250630T230000
DTSTAMP:20260420T081254
CREATED:20250504T181042Z
LAST-MODIFIED:20250504T181042Z
UID:73990-1748876400-1751324400@tcpride.org
SUMMARY:Fluidity
DESCRIPTION:A group art exhibit of local LGBTQ+ artists celebrating Pride & Art.
URL:https://tcpride.org/event/fluidity/
LOCATION:Gambit Brewing Company\, 141 4th Street E #LL2\, Saint Paul\, MN\, 55101\, United States
CATEGORIES:Community Events
ATTACH;FMTTYPE=image/png:https://tcpride.org/wp-content/uploads/2025/05/Masthead-Art.png
END:VEVENT
BEGIN:VEVENT
DTSTART;VALUE=DATE:20250606
DTEND;VALUE=DATE:20250609
DTSTAMP:20260420T081254
CREATED:20250521T151313Z
LAST-MODIFIED:20250521T151313Z
UID:83225-1749178800-1749351599@tcpride.org
SUMMARY:Men Having Babies 2025 Midwest Surrogacy Conference & Expo
DESCRIPTION:Known for its unbiased\, comprehensive conferences for gay men\, the nonprofit Men Having Babies (MHB) returns to Chicago in cooperation with The Center on Halsted for the annual Midwest Surrogacy Conference & Expo. If you are looking for assistance with surrogacy in the Midwest\, we invite you to come interact and consult with gay dads\, experts\, and over 20 reputable gay-friendly agencies\, clinics\, law firms\, and other surrogacy providers. \nThe program offers comprehensive guidance relevant to intended parents pursuing surrogacy in Chicago\, the Midwest\, and beyond\, including: \n\nThe basics: medical\, legal\, and financial aspects of surrogacy\nSurrogacy costs: budgeting & insurance considerations for surrogacy\nMHB’s member resources\, discounts\, and financial assistance\nHow to benefit from Illinois’s new IVF benefits for gay men\, and insurance coverage at work\nAccessing benefits from employers\n\nJoin us and learn everything you need to know about surrogacy for gay men in Chicago and surrounding midwest areas\, and meet participating providers that can help with your journey. Take a giant step towards your dream of fatherhood on June 6-7!
URL:https://tcpride.org/event/men-having-babies-2025-midwest-surrogacy-conference-expo/
LOCATION:Center on Halsted\, 3656 North Halsted Street\, Chicago\, IL\, 60613\, United States
CATEGORIES:Community Events
ATTACH;FMTTYPE=image/jpeg:https://tcpride.org/wp-content/uploads/2025/05/Facebook-2025-Chicago.jpg
END:VEVENT
BEGIN:VEVENT
DTSTART;TZID=America/Chicago:20250607T100000
DTEND;TZID=America/Chicago:20250607T110000
DTSTAMP:20260420T081254
CREATED:20250304T180735Z
LAST-MODIFIED:20250304T180735Z
UID:62151-1749290400-1749294000@tcpride.org
SUMMARY:NA Meeting: Queer\, Trans\, and Friends
DESCRIPTION:Narcotics Anonymous (NA) has an open meeting at Aliveness every Saturday at 10 am. It is focused on people in recovery who are queer\, trans\, and allies and is “open to any addict seeking recovery.” \nFor more info contact hanna@aliveness.org
URL:https://tcpride.org/event/na-meeting-queer-trans-and-friends-14/
LOCATION:Aliveness Project\, 3808 Nicollet Ave\, Minneapolis\, MN\, 55409\, United States
CATEGORIES:Community Events
END:VEVENT
BEGIN:VEVENT
DTSTART;TZID=America/Chicago:20250607T100000
DTEND;TZID=America/Chicago:20250607T140000
DTSTAMP:20260420T081254
CREATED:20250428T153016Z
LAST-MODIFIED:20250428T153016Z
UID:73634-1749290400-1749304800@tcpride.org
SUMMARY:All-Inclusive Community Clothing Swap
DESCRIPTION:Have clothes you want to get rid of? Or looking for some clothes for yourself? All are welcome at our first inclusive community clothing swap at Hardwood Creek Library! \nIf you would like to donate items for the Community Clothing Swap\, please drop them off at Hardwood Creek Library during open hours from Monday\, June 2\, through Thursday\, June 5. We can accept one bag of clean\, damage-free\, gently used clothing per person. \nWhether you can donate or not\, shop the swap on Saturday\, June 7\, from 10 a.m. to 2 p.m. No donations will be accepted on the day of the swap. Any remaining clothing will be locally donated or used for future library programming. \nWe are teaming up with Rainbow Wardrobe to intentionally provide a variety of clothing sizes and accessories for all members of the community. \n 
URL:https://tcpride.org/event/all-inclusive-community-clothing-swap/
LOCATION:Hardwood Creek Library\, 19955 Forest Rd N\, Forest Lake\, MN\, 55025\, United States
CATEGORIES:Community Events
ORGANIZER;CN="Hardwood Creek Library - Washington County":MAILTO:Suzanne.Stephenson@washingtoncountymn.gov
END:VEVENT
BEGIN:VEVENT
DTSTART;TZID=America/Chicago:20250607T100000
DTEND;TZID=America/Chicago:20250607T140000
DTSTAMP:20260420T081254
CREATED:20250430T145256Z
LAST-MODIFIED:20250430T145256Z
UID:73639-1749290400-1749304800@tcpride.org
SUMMARY:All-Inclusive Community Clothing Swap
DESCRIPTION:Have clothes you want to get rid of? Or looking for some clothes for yourself? All are welcome at our first inclusive community clothing swap at Hardwood Creek Library! \nIf you would like to donate items for the Community Clothing Swap\, please drop them off at Hardwood Creek Library during open hours from Monday\, June 2\, through Thursday\, June 5. We can accept one bag of clean\, damage-free\, gently used clothing per person. \nWhether you can donate or not\, shop the swap on Saturday\, June 7\, from 10 a.m. to 2 p.m. No donations will be accepted on the day of the swap. Any remaining clothing will be locally donated or used for future library programming. \nWe are teaming up with Rainbow Wardrobe to intentionally provide a variety of clothing sizes and accessories for all members of the community.
URL:https://tcpride.org/event/all-inclusive-community-clothing-swap-2/
LOCATION:Hardwood Creek Library\, 19955 Forest Rd N\, Forest Lake\, MN\, 55025\, United States
CATEGORIES:Community Events
ATTACH;FMTTYPE=image/png:https://tcpride.org/wp-content/uploads/2025/04/Clothing-Swap-Poster.png
ORGANIZER;CN="Hardwood Creek Library - Washington County":MAILTO:suzanne.stephenson@washingtoncountymn.gov
END:VEVENT
BEGIN:VEVENT
DTSTART;TZID=America/Chicago:20250607T123000
DTEND;TZID=America/Chicago:20250607T170000
DTSTAMP:20260420T081254
CREATED:20250408T001154Z
LAST-MODIFIED:20250408T001154Z
UID:73004-1749299400-1749315600@tcpride.org
SUMMARY:Puzzling and Beats
DESCRIPTION:🧩🎶 Come hang with us for a chill time putting together puzzles\, vibing to good music\, and connecting with new 🆕 and old 🧑‍🤝‍🧑 friends! ✨🛋️💬 Everyone’s invited! \nTo stay in the loop on upcoming events\, follow our two groups: \n👉 Elevate Twin Cities (E3)👉 Minnesota Lesbians\, Sapphics\, and Queers of Color 🏳️‍🌈💖 \nHere is our linktree:  https://linktr.ee/elevatetwincitites
URL:https://tcpride.org/event/puzzling-and-beats/
LOCATION:Queermunity\, 3036 Hennepin Ave\, Minneapolis\, MN\, 55408\, United States
CATEGORIES:Community Events
ATTACH;FMTTYPE=image/png:https://tcpride.org/wp-content/uploads/2025/04/Puzzling-and-Beats-with-MnLoc-and-Jenny-MN-3.png
ORGANIZER;CN="Elevate Twin Cities &amp%3B Minnesota Lesbians Sapphics and Queers of Color":MAILTO:e3.twincities@gmail.com
END:VEVENT
BEGIN:VEVENT
DTSTART;TZID=America/Chicago:20250607T130000
DTEND;TZID=America/Chicago:20250607T180000
DTSTAMP:20260420T081254
CREATED:20250605T031631Z
LAST-MODIFIED:20250605T031631Z
UID:84145-1749301200-1749319200@tcpride.org
SUMMARY:Youth Pride presented by the Minnesota School Outreach Coalition (MNSOC)
DESCRIPTION:Youth Pride is a free event for LGBTQIA+ youth ages 13-22. This is an event for young people to feel celebrated and strengthen connections to their community. Youth Pride has a little bit of everything; resources from local organizations serving queer youth\, activities and games\, performances by amazing entertainers\, food from local businesses\, photo-booths\, and more!
URL:https://tcpride.org/event/youth-pride-presented-by-the-minnesota-school-outreach-coalition-mnsoc-2/
LOCATION:Como Midway Picnic Pavilion Park\, 1199 Midway Pkwy\, St Pau\, MN\, 55103\, United States
CATEGORIES:Community Events,Pride Festivals
END:VEVENT
BEGIN:VEVENT
DTSTART;TZID=America/Chicago:20250607T190000
DTEND;TZID=America/Chicago:20250607T210000
DTSTAMP:20260420T081254
CREATED:20250528T034638Z
LAST-MODIFIED:20250528T034638Z
UID:83577-1749322800-1749330000@tcpride.org
SUMMARY:TaikoGROOVE
DESCRIPTION:TaikoArts Midwest produces the first ever taiko dance party concert\, TaikoGROOVE! Rhythms drop at 7PM\, Saturday June 7\, at the Cedar Cultural Center. All Ages. \nSurprise Japanese guest artists come all the way from TOKYO to join local troupe Enso Daiko onstage\, delivering the debut of a wild\, primal groove\, plus many audience favorites! Guest DJ ETHYNN gets this party started! \nFor millenia\, people have gathered in the taiko thunderbeat for joyful resilience and restoration. Join us for this epic Twin Cities party event: just what we need in these times. \nExecutive Director Jennifer Weir says\, “People are really struggling now. I want to drum and dance wildly\, and to be rooted in community. I need this – the feeling of healing\, rhythms\, and community connection that happens with taiko drumming.” \nTaikoArts Midwest is a 501(c)(3) nonprofit organization dedicated to producing\, promoting\, and presenting artistic excellent in taiko arts\, using taiko to build and strengthen the community. http://www.taikoartsmidwest.org. \nThis activity was funded by the Marbrook Foundation\, Japan Foundation\, and by voters of Minnesota through a Minnesota State Arts Board Operating Support grant\, thanks to a legislative appropriation from the arts and cultural heritage fund. \nFor more information\, contact Jennifer Weir\, Executive Director at TaikoArts Midwest: jweir@taikoartsmidwest.org
URL:https://tcpride.org/event/taikogroove/
LOCATION:Cedar Cultural Center\, 416 Cedar Avenue\, Minneapolis\, MN\, 55454\, United States
CATEGORIES:Community Events
ATTACH;FMTTYPE=image/jpeg:https://tcpride.org/wp-content/uploads/2025/05/TaikoGroove-IG_R2.jpeg
ORGANIZER;CN="TaikoArts Midwest":MAILTO:suyoonko@taikoartsmidwest.org
END:VEVENT
BEGIN:VEVENT
DTSTART;TZID=America/Chicago:20250607T193000
DTEND;TZID=America/Chicago:20250607T213000
DTSTAMP:20260420T081254
CREATED:20250513T171233Z
LAST-MODIFIED:20250513T171233Z
UID:74411-1749324600-1749331800@tcpride.org
SUMMARY:Mae West and the Trial of Sex
DESCRIPTION:Walking Shadow Theatre Company presents\n\nMae West and the Trial of Sex\n\nby John Heimbuch\ndirected by Allison Vincent\n\nat Crane Theater\nMay 31- June 22\, 2025\nExtra! Extra! Provocative Playwright Mae West Runs Afoul of Broadway Censors\, Her Popular Play SEX Raided for Obscenity. Tammany Hall claims it was necessary to prevent West’s new homosexual drama\, THE DRAG\, from corrupting the youth of New York. The sultry starlet faces time in the slammer if she doesn’t amend her immoral ways and stop SEX at once! \nMae West and the Trial of Sex draws from court documents\, newspapers\, and West’s own plays to explore the overt sexuality and curious queerness of her rise to fame. Playwright John Heimbuch uses Mae West’s legal battle over censorship to show how queer representation became criminalized on stage and screen\, cutting LGBTQIA+ people off from their past. \nBefore she was an icon of the silver screen\, Mae West was a Broadway actress and playwright (under the name Jane Mast). In early 1927\, while performing in her long-running melodrama\, Sex\, about a Montreal sex worker\, West was developing a new play about Greenwich Village queer culture called The Drag. This play had a sympathetic view of homosexuality\, and included a large-scale drag ball onstage\, which worried the New York press and police. West became the target of a media campaign to clean up Broadway\, culminating in a police raid of Sex. The resulting obscenity trial resulted in the closing of Sex and The Drag\, ten days in jail for Mae West\, and a new censorship law that prevented queer characters from appearing in the American theatre for the next 40 years. \nTicket Prices:\nTickets are pick-your-price: $30 – $70.\nTicket sales only cover a portion of what it actually costs to present our plays.\nFor ticket sales to completely cover our production expenses\, a ticket would cost $50. \nYou choose your price! If you are able to pay the true cost of $50\, we ask you to do so. Or\, pay as little as $30\, or choose a more generous amount and help support our accessible ticket program. A limited number of $15 Economic Accessibility tickets are available starting one month before the performance date\, for anyone who needs to pay less\, no questions asked. Limit 2 per order. Student tickets are FREE. Limit 2 per order. Available starting one month before the performance date. \nAll seating is general admission\, though we’re happy to make accommodations or handle special seating requests. \nAccessibility:\nCrane Theater is wheelchair accessible. \nASL interpreted on Saturday\, June 14 at 7:30pm by Nella Titus (NIC) and Maria Dively (NIC)\nAudio Described on Sunday\, June 15 at 2:00pm by Elana Centor. \nContent Advisory:\nThis show is recommended for ages 16+ and includes adult language and dated references to homosexuality. \nHealth and Safety:\nWe do not currently require proof of Covid vaccination or masking. Covid policy is subject to change based on regional conditions and/or guidance. Please do not attend the show if you have tested positive for Covid-19 or if you are actively experiencing Covid-like symptoms. \nLocation and Parking:\nCrane Theater is located at 2303 Kennedy St NE\, Minneapolis\, MN 55413. Parking and the entrance to the theater are located at the back of the building. Look for the yellow door. There is also ample free street parking available in the evenings.
URL:https://tcpride.org/event/mae-west-and-the-trial-of-sex-5/
LOCATION:The Crane Theater\, 2303 Kennedy St NE\, Minneapolis\, MN\, 55413\, United States
CATEGORIES:Community Events
ATTACH;FMTTYPE=image/png:https://tcpride.org/wp-content/uploads/2025/05/Mae-West-2025-website-banner-2-3.png
ORGANIZER;CN="Walking Shadow Theatre Company":MAILTO:info@walkingshadow.org
END:VEVENT
END:VCALENDAR