BEGIN:VCALENDAR
VERSION:2.0
PRODID:-//Twin Cities Pride - ECPv6.13.2.1//NONSGML v1.0//EN
CALSCALE:GREGORIAN
METHOD:PUBLISH
X-WR-CALNAME:Twin Cities Pride
X-ORIGINAL-URL:https://tcpride.org
X-WR-CALDESC:Events for Twin Cities Pride
REFRESH-INTERVAL;VALUE=DURATION:PT1H
X-Robots-Tag:noindex
X-PUBLISHED-TTL:PT1H
BEGIN:VTIMEZONE
TZID:America/Chicago
BEGIN:DAYLIGHT
TZOFFSETFROM:-0600
TZOFFSETTO:-0500
TZNAME:CDT
DTSTART:20250309T080000
END:DAYLIGHT
BEGIN:STANDARD
TZOFFSETFROM:-0500
TZOFFSETTO:-0600
TZNAME:CST
DTSTART:20251102T070000
END:STANDARD
END:VTIMEZONE
BEGIN:VEVENT
DTSTART;VALUE=DATE:20250601
DTEND;VALUE=DATE:20250702
DTSTAMP:20260420T081348
CREATED:20250508T022446Z
LAST-MODIFIED:20250508T022446Z
UID:74208-1748746800-1751338799@tcpride.org
SUMMARY:Pride Exhibit
DESCRIPTION:A gallery show dedicated to Pride-themed artwork: paintings\, photography\, glass\, etc.
URL:https://tcpride.org/event/pride-exhibit/
LOCATION:ACCC Gallery at the Chaska Community Center\, 1661 Park Ridge Drive\, Chaska\, MN\, 55318\, United States
CATEGORIES:Community Events
ATTACH;FMTTYPE=image/jpeg:https://tcpride.org/wp-content/uploads/2025/05/pride.jpg
ORGANIZER;CN="Arts Consortium of Carver County":MAILTO:LiyaLev@comcast.net
END:VEVENT
BEGIN:VEVENT
DTSTART;TZID=America/Chicago:20250602T150000
DTEND;TZID=America/Chicago:20250630T230000
DTSTAMP:20260420T081348
CREATED:20250504T181042Z
LAST-MODIFIED:20250504T181042Z
UID:73990-1748876400-1751324400@tcpride.org
SUMMARY:Fluidity
DESCRIPTION:A group art exhibit of local LGBTQ+ artists celebrating Pride & Art.
URL:https://tcpride.org/event/fluidity/
LOCATION:Gambit Brewing Company\, 141 4th Street E #LL2\, Saint Paul\, MN\, 55101\, United States
CATEGORIES:Community Events
ATTACH;FMTTYPE=image/png:https://tcpride.org/wp-content/uploads/2025/05/Masthead-Art.png
END:VEVENT
BEGIN:VEVENT
DTSTART;TZID=America/Chicago:20250609T080000
DTEND;TZID=America/Chicago:20250622T200000
DTSTAMP:20260420T081348
CREATED:20250605T030236Z
LAST-MODIFIED:20250605T030236Z
UID:84139-1749456000-1750622400@tcpride.org
SUMMARY:MN Queer History Exhibit – We Live On: Stories of Radical Connection
DESCRIPTION:We Live On: Stories of Radical Connection invites you into how queer people around the state have fostered community and connection over time. Learn about queer communities across Minnesota history with stories of Two Spirit and Indigequeer\, intersex\, and incarcerated queer and trans folks\, HIV/AIDS history\, sex work\, and more. Interact with historically-contextualized archival video\, audio\, story transcripts\, letters\, art\, poems\, an ancestral altar\, and queer ephemera as you explore Telling Queer History’s 12 years of community-based work. \nThis exhibit has traveled to four locations around Greater Minnesota and is now returning to the Twin Cities for its fifth & final run at Queermunity. Tickets are sold out for the TQH sunset celebration and exhibit launch on June 8th\, but you can still view the exhibit for free from June 9th to 22nd\, 8 am to 8 pm daily. \nTelling Queer History is a Twin Cities non-profit organization that has been hosting storytelling gatherings connecting 2SLGBTQIA+ people across generations and identities for over a decade. Our organization is coming to a close at the end of June 2025. 
URL:https://tcpride.org/event/mn-queer-history-exhibit-we-live-on-stories-of-radical-connection/
LOCATION:Queermunity\, 3036 Hennepin Ave\, Minneapolis\, MN\, 55408\, United States
CATEGORIES:Community Events
ATTACH;FMTTYPE=image/png:https://tcpride.org/wp-content/uploads/2025/06/Minneapolis-Exhibit.png
ORGANIZER;CN="Telling Queer History":MAILTO:hello@tellingqueerhistory.com
END:VEVENT
BEGIN:VEVENT
DTSTART;TZID=America/Chicago:20250613T193000
DTEND;TZID=America/Chicago:20250629T163000
DTSTAMP:20260420T081348
CREATED:20250605T030014Z
LAST-MODIFIED:20250605T030014Z
UID:84090-1749843000-1751214600@tcpride.org
SUMMARY:The Macbeths
DESCRIPTION:ROUGH MAGIC PERFORMANCE COMPANY PRESENTS A HAUNTING NEW MACBETH\nAll-Women/Non-Binary Cast\, Bold Adaptation Opens Friday the 13th at the Center for the Performing Arts \nPrepare for a Macbeth unlike any you’ve seen before. Rough Magic Performance Company proudly presents an original\, immersive adaptation of Shakespeare’s Macbeth. Directed by Heidi Batz Rogers\, adapted by Catherine Justice\, and with a cast of 5 women performers\, The Macbeths highlights the themes of trauma\, loss\, and unfettered ambition through a feminist lens. Plus witches! The production runs June 13–29\, 2025\, at the Center for the Performing Arts\, with an opening night on Friday the 13th\, promising an extra-spooky launch to the show’s limited run. \nTickets are Pay What You Wish $0 – $100. Performances Thursdays\, Fridays\, Saturdays\, and Sundays. Learn more at www.roughmagicperformance.org
URL:https://tcpride.org/event/the-macbeths/
LOCATION:Center for Performing Arts (CFPA)\, 3754 Pleasant Ave\, Minneapolis\, MN\, 55409\, United States
CATEGORIES:Community Events
ATTACH;FMTTYPE=image/jpeg:https://tcpride.org/wp-content/uploads/2025/06/THE-MACBETHS.jpeg
END:VEVENT
BEGIN:VEVENT
DTSTART;TZID=America/Chicago:20250620T193000
DTEND;TZID=America/Chicago:20250628T193000
DTSTAMP:20260420T081348
CREATED:20250128T173112Z
LAST-MODIFIED:20250128T173112Z
UID:60850-1750447800-1751139000@tcpride.org
SUMMARY:A Pink Triangle
DESCRIPTION:Shining a light on an often overlooked victim-survivor group of the Holocaust\, homosexual men\, attend the world premiere of A Pink Triangle. \nSet in a concentration camp\, in what could be their last hour together\, an intolerant father and his gay son attempt to find common ground\, hope\, and forgiveness. \nPurchase tickets here.
URL:https://tcpride.org/event/a-pink-triangle/
LOCATION:Phoenix Theater\, 2605 Hennepin Avenue\, Minneapolis\, MN\, 55408\, United States
CATEGORIES:Community Events
ATTACH;FMTTYPE=image/png:https://tcpride.org/wp-content/uploads/2025/01/Quotes-Instagram-Post.png
END:VEVENT
BEGIN:VEVENT
DTSTART;TZID=America/Chicago:20250622T090000
DTEND;TZID=America/Chicago:20250622T170000
DTSTAMP:20260420T081348
CREATED:20250518T160833Z
LAST-MODIFIED:20250518T160833Z
UID:74810-1750582800-1750611600@tcpride.org
SUMMARY:TC Pride Paddle ’25
DESCRIPTION:PLEASE READ ALL THE WAY TO THE END… \nThis is an all inclusive\, family friendly event geared towards all ages. Everyone is responsible for their own safety & parents are solely responsible for the safety of their children. That being said I’ve had many people join me on the water over the yrs including younger children & even adults that can’t swim\, all have successfully survived the adventure & had a blast doing it. =) No kayaking experience necessary for this lil adventure\, you just need a desire to have fun on the water. \nWe will be launching from Interstate Park & paddling to Osceola Landing. This is typically a 3 – 4 hr paddle/float. \nWe will meet at Interstate Park at 10:30 & paddles wet at 11am. Note… There is a fee if you do not have a state park permit. Motorcycles are also welcome to join\, Taylor’s Falls is a fun lil jaunt on 2 wheels. \nFor those needing to rent a kayak I highly recommend that you book in advance… \nCanoe & Kayak Rentals \nFor those bringing your own kayak please post a comment & we can coordinate transport with others who have room\, my trk is already fully loaded. I will have a vehicle at Osceola Landing to help transport people with their own boats back to Interstate Park. \nPlease bring a sandwich or snacks & plenty of water to stay hydrated. SMALL COOLERS ONLY. There are typically several awesome sand bars to stop & mingle\, this totally depends on the water level tho. I DO NOT encourage bringing alcoholic beverages on the water\, but I’m not your momma either. Please\, please be responsible with your drinking! \nInvite your friends\, family\, neighbors\, & bring your pup along if they kayak with you as well. Let’s make some awesome memories together. =) \nNOTE… I set the time as 9am – 5pm so you can plan from the time you leave the cities until you get back to the cities. We’re only on the water for about 4 hrs. 🌞
URL:https://tcpride.org/event/tc-pride-paddle-25/
LOCATION:Interstate Park\, 307 Milltown Rd\, Taylor's Falls\, MN\, United States
CATEGORIES:Community Events
ATTACH;FMTTYPE=image/jpeg:https://tcpride.org/wp-content/uploads/2025/05/FB_IMG_1747523128666.jpg
END:VEVENT
BEGIN:VEVENT
DTSTART;TZID=America/Chicago:20250622T120000
DTEND;TZID=America/Chicago:20250622T153000
DTSTAMP:20260420T081348
CREATED:20250528T034752Z
LAST-MODIFIED:20250528T034752Z
UID:83565-1750593600-1750606200@tcpride.org
SUMMARY:Puppies & Pumps Drag Show + Purse Bingo
DESCRIPTION:As part of Saint Croix Valley’s Queer Crawl we have teamed up with COCO’S HEART DOG RESCUE and THE MINNEAPOLIS DRAG SCENE for a super fun event! Bring your entire crew\, play with ADOPTABLE PUPPIES\, sip on drinks from our full bar\, WIN CASH + DESIGNER PURSES WITH BINGO and have fun watching an epic DRAG SHOW!! \n  \n  \nwww.saintcroixpride.com \ncocosheartdogrescue.org \n  \n  \nIMPORTANT INFO: \nShow Tickets: $10/person\, seating first come\, first served \nReserved FRONT ROW Table: $80/reserved VIP table for 4\, includes 4 show tickets! \n$170 VIP Tables Available – Front Row Seating for 8 Guests + 8 show tickets\, includes reserved table and two bottles of champagne \nVIP Tickets available for pre-purchase only\, show only tickets available in advance or at the door!  \nDoors\, Drinks + Puppies: 12pm | Show & Purse Bingo: 1pm\n\nFood trucks outside JX from 12-4pm! Check back for participating food trucks! \n Bingo: \nPurchase your $20 bingo sheets in the venue (+$5 extra coverall sheets)- cash sales only. Purse prizes worth up to $5\,000 total! \nBingo will feature a mixture of both designer purse + cash prizes! \nStay tuned for pics of those purses! \n  \nBottomless Mimosas available for $25! Full bar available for purchase with $1 DONATED with every drink purchase! \nVenue is handicapped accessible with ramp parking directly across the street. \n  \nQuestions? Email info@one23events.com \nEvent is 18+
URL:https://tcpride.org/event/puppies-pumps-drag-show-purse-bingo/
LOCATION:JX Venue\, 123 Second St N\, Stillwater\, MN\, 55082\, United States
CATEGORIES:Community Events
ATTACH;FMTTYPE=image/jpeg:https://tcpride.org/wp-content/uploads/2025/05/PRIDE-Purse-Bingo-scaled.jpg
ORGANIZER;CN="One23events":MAILTO:Info@one23events.com
END:VEVENT
BEGIN:VEVENT
DTSTART;TZID=America/Chicago:20250622T130000
DTEND;TZID=America/Chicago:20250622T140000
DTSTAMP:20260420T081348
CREATED:20250304T175104Z
LAST-MODIFIED:20250304T175104Z
UID:62111-1750597200-1750600800@tcpride.org
SUMMARY:Transgender Book Club
DESCRIPTION:The Transgender Book Club meets the fourth Sunday of the month from 1-2pm to discuss books by and about trans people. We welcome people of all genders\, orientations\, and backgrounds! \n2025 Meeting Calendar: \n1/26 Bitter by Akwaeke Emezi\n2/23 Lunar Boy by Jes and Cin Wibowo\n3/23 Bluff by Danez Smith\n4/27 Pageboy by Elliot Page\n5/25 Girlmode by Magdalene Visaggio\n6/22 We Won’t Be Here Tomorrow by Margaret Killjoy\n7/27 A Shore Thing by Joanna Lowell\n8/24 The Dawnhounds by Sascha Stronach\n9/28 Just Happy to Be Here by Naomi Kanakia\n10/26 Dead Collections by Isaac Fellman\n11/23 Marley’s Pride by Joelle Retener
URL:https://tcpride.org/event/transgender-book-club-4/
LOCATION:Quatrefoil Library\, 1220 E Lake St\, Minneapolis\, MN\, 55407\, United States
CATEGORIES:Community Events
ORGANIZER;CN="Quatrefoil Library":MAILTO:president@quatrefoil.org
END:VEVENT
BEGIN:VEVENT
DTSTART;TZID=America/Chicago:20250622T140000
DTEND;TZID=America/Chicago:20250622T160000
DTSTAMP:20260420T081348
CREATED:20250513T171528Z
LAST-MODIFIED:20250513T171528Z
UID:74483-1750600800-1750608000@tcpride.org
SUMMARY:Mae West and the Trial of Sex
DESCRIPTION:Walking Shadow Theatre Company presents\n\nMae West and the Trial of Sex\n\nby John Heimbuch\ndirected by Allison Vincent\n\nat Crane Theater\nMay 31- June 22\, 2025\nExtra! Extra! Provocative Playwright Mae West Runs Afoul of Broadway Censors\, Her Popular Play SEX Raided for Obscenity. Tammany Hall claims it was necessary to prevent West’s new homosexual drama\, THE DRAG\, from corrupting the youth of New York. The sultry starlet faces time in the slammer if she doesn’t amend her immoral ways and stop SEX at once! \nMae West and the Trial of Sex draws from court documents\, newspapers\, and West’s own plays to explore the overt sexuality and curious queerness of her rise to fame. Playwright John Heimbuch uses Mae West’s legal battle over censorship to show how queer representation became criminalized on stage and screen\, cutting LGBTQIA+ people off from their past. \nBefore she was an icon of the silver screen\, Mae West was a Broadway actress and playwright (under the name Jane Mast). In early 1927\, while performing in her long-running melodrama\, Sex\, about a Montreal sex worker\, West was developing a new play about Greenwich Village queer culture called The Drag. This play had a sympathetic view of homosexuality\, and included a large-scale drag ball onstage\, which worried the New York press and police. West became the target of a media campaign to clean up Broadway\, culminating in a police raid of Sex. The resulting obscenity trial resulted in the closing of Sex and The Drag\, ten days in jail for Mae West\, and a new censorship law that prevented queer characters from appearing in the American theatre for the next 40 years. \nTicket Prices:\nTickets are pick-your-price: $30 – $70.\nTicket sales only cover a portion of what it actually costs to present our plays.\nFor ticket sales to completely cover our production expenses\, a ticket would cost $50. \nYou choose your price! If you are able to pay the true cost of $50\, we ask you to do so. Or\, pay as little as $30\, or choose a more generous amount and help support our accessible ticket program. A limited number of $15 Economic Accessibility tickets are available starting one month before the performance date\, for anyone who needs to pay less\, no questions asked. Limit 2 per order. Student tickets are FREE. Limit 2 per order. Available starting one month before the performance date. \nAll seating is general admission\, though we’re happy to make accommodations or handle special seating requests. \nAccessibility:\nCrane Theater is wheelchair accessible. \nASL interpreted on Saturday\, June 14 at 7:30pm by Nella Titus (NIC) and Maria Dively (NIC)\nAudio Described on Sunday\, June 15 at 2:00pm by Elana Centor. \nContent Advisory:\nThis show is recommended for ages 16+ and includes adult language and dated references to homosexuality. \nHealth and Safety:\nWe do not currently require proof of Covid vaccination or masking. Covid policy is subject to change based on regional conditions and/or guidance. Please do not attend the show if you have tested positive for Covid-19 or if you are actively experiencing Covid-like symptoms. \nLocation and Parking:\nCrane Theater is located at 2303 Kennedy St NE\, Minneapolis\, MN 55413. Parking and the entrance to the theater are located at the back of the building. Look for the yellow door. There is also ample free street parking available in the evenings.
URL:https://tcpride.org/event/mae-west-and-the-trial-of-sex-13/
LOCATION:The Crane Theater\, 2303 Kennedy St NE\, Minneapolis\, MN\, 55413\, United States
CATEGORIES:Community Events
ATTACH;FMTTYPE=image/png:https://tcpride.org/wp-content/uploads/2025/05/Mae-West-2025-website-banner-2-13.png
ORGANIZER;CN="Walking Shadow Theatre Company":MAILTO:info@walkingshadow.org
END:VEVENT
BEGIN:VEVENT
DTSTART;TZID=America/Chicago:20250622T143000
DTEND;TZID=America/Chicago:20250622T163000
DTSTAMP:20260420T081348
CREATED:20250122T031221Z
LAST-MODIFIED:20250122T031221Z
UID:60589-1750602600-1750609800@tcpride.org
SUMMARY:Leading Ladies: Divas of Broadway - Matinee
DESCRIPTION:She’s back! Join TCGMC and Broadway star\, Britney Coleman\, at the Ordway Concert Hall for Leading Ladies! A little bit beauty and a little bit beast\, this concert explodes with the music of Broadway sung by the biggest divas to grace the stage. “Let us entertain you” with songs from Gypsy\, Into the Woods\, Chicago\, Wicked\, Shucked!\, Big Fish\, Sound of Music\, and more! We dare you not to sing along. To purchase tickets\, please visit tcgmc.org. \nAbout TCGMC:\nFounded in 1981\, Twin Cities Gay Men’s Chorus (TCGMC) is an award-winning chorus that has built a solid reputation for musical excellence and dynamic programming. TCGMC is a non-profit 501(c)(3) voluntary community chorus\, formed to build community through music while pursuing musical excellence in performance. The Chorus seeks to create community and diversity\, using music to transform\, educate\, and heal.
URL:https://tcpride.org/event/leading-ladies-divas-of-broadway-matinee/
LOCATION:Ordway Concert Hall\, 345 Washington Street\, Saint Paul\, MN\, 55102\, United States
CATEGORIES:Community Events
ATTACH;FMTTYPE=image/jpeg:https://tcpride.org/wp-content/uploads/2025/01/TCGMC_LeadingLadies_1200x628-1.jpg
END:VEVENT
END:VCALENDAR