BEGIN:VCALENDAR
VERSION:2.0
PRODID:-//Twin Cities Pride - ECPv6.13.2.1//NONSGML v1.0//EN
CALSCALE:GREGORIAN
METHOD:PUBLISH
X-WR-CALNAME:Twin Cities Pride
X-ORIGINAL-URL:https://tcpride.org
X-WR-CALDESC:Events for Twin Cities Pride
REFRESH-INTERVAL;VALUE=DURATION:PT1H
X-Robots-Tag:noindex
X-PUBLISHED-TTL:PT1H
BEGIN:VTIMEZONE
TZID:America/Chicago
BEGIN:DAYLIGHT
TZOFFSETFROM:-0600
TZOFFSETTO:-0500
TZNAME:CDT
DTSTART:20250309T080000
END:DAYLIGHT
BEGIN:STANDARD
TZOFFSETFROM:-0500
TZOFFSETTO:-0600
TZNAME:CST
DTSTART:20251102T070000
END:STANDARD
END:VTIMEZONE
BEGIN:VEVENT
DTSTART;VALUE=DATE:20250601
DTEND;VALUE=DATE:20250702
DTSTAMP:20260420T081325
CREATED:20250508T022446Z
LAST-MODIFIED:20250508T022446Z
UID:74208-1748746800-1751338799@tcpride.org
SUMMARY:Pride Exhibit
DESCRIPTION:A gallery show dedicated to Pride-themed artwork: paintings\, photography\, glass\, etc.
URL:https://tcpride.org/event/pride-exhibit/
LOCATION:ACCC Gallery at the Chaska Community Center\, 1661 Park Ridge Drive\, Chaska\, MN\, 55318\, United States
CATEGORIES:Community Events
ATTACH;FMTTYPE=image/jpeg:https://tcpride.org/wp-content/uploads/2025/05/pride.jpg
ORGANIZER;CN="Arts Consortium of Carver County":MAILTO:LiyaLev@comcast.net
END:VEVENT
BEGIN:VEVENT
DTSTART;TZID=America/Chicago:20250602T150000
DTEND;TZID=America/Chicago:20250630T230000
DTSTAMP:20260420T081325
CREATED:20250504T181042Z
LAST-MODIFIED:20250504T181042Z
UID:73990-1748876400-1751324400@tcpride.org
SUMMARY:Fluidity
DESCRIPTION:A group art exhibit of local LGBTQ+ artists celebrating Pride & Art.
URL:https://tcpride.org/event/fluidity/
LOCATION:Gambit Brewing Company\, 141 4th Street E #LL2\, Saint Paul\, MN\, 55101\, United States
CATEGORIES:Community Events
ATTACH;FMTTYPE=image/png:https://tcpride.org/wp-content/uploads/2025/05/Masthead-Art.png
END:VEVENT
BEGIN:VEVENT
DTSTART;TZID=America/Chicago:20250613T193000
DTEND;TZID=America/Chicago:20250629T163000
DTSTAMP:20260420T081325
CREATED:20250605T030014Z
LAST-MODIFIED:20250605T030014Z
UID:84090-1749843000-1751214600@tcpride.org
SUMMARY:The Macbeths
DESCRIPTION:ROUGH MAGIC PERFORMANCE COMPANY PRESENTS A HAUNTING NEW MACBETH\nAll-Women/Non-Binary Cast\, Bold Adaptation Opens Friday the 13th at the Center for the Performing Arts \nPrepare for a Macbeth unlike any you’ve seen before. Rough Magic Performance Company proudly presents an original\, immersive adaptation of Shakespeare’s Macbeth. Directed by Heidi Batz Rogers\, adapted by Catherine Justice\, and with a cast of 5 women performers\, The Macbeths highlights the themes of trauma\, loss\, and unfettered ambition through a feminist lens. Plus witches! The production runs June 13–29\, 2025\, at the Center for the Performing Arts\, with an opening night on Friday the 13th\, promising an extra-spooky launch to the show’s limited run. \nTickets are Pay What You Wish $0 – $100. Performances Thursdays\, Fridays\, Saturdays\, and Sundays. Learn more at www.roughmagicperformance.org
URL:https://tcpride.org/event/the-macbeths/
LOCATION:Center for Performing Arts (CFPA)\, 3754 Pleasant Ave\, Minneapolis\, MN\, 55409\, United States
CATEGORIES:Community Events
ATTACH;FMTTYPE=image/jpeg:https://tcpride.org/wp-content/uploads/2025/06/THE-MACBETHS.jpeg
END:VEVENT
BEGIN:VEVENT
DTSTART;TZID=America/Chicago:20250620T193000
DTEND;TZID=America/Chicago:20250628T193000
DTSTAMP:20260420T081325
CREATED:20250128T173112Z
LAST-MODIFIED:20250128T173112Z
UID:60850-1750447800-1751139000@tcpride.org
SUMMARY:A Pink Triangle
DESCRIPTION:Shining a light on an often overlooked victim-survivor group of the Holocaust\, homosexual men\, attend the world premiere of A Pink Triangle. \nSet in a concentration camp\, in what could be their last hour together\, an intolerant father and his gay son attempt to find common ground\, hope\, and forgiveness. \nPurchase tickets here.
URL:https://tcpride.org/event/a-pink-triangle/
LOCATION:Phoenix Theater\, 2605 Hennepin Avenue\, Minneapolis\, MN\, 55408\, United States
CATEGORIES:Community Events
ATTACH;FMTTYPE=image/png:https://tcpride.org/wp-content/uploads/2025/01/Quotes-Instagram-Post.png
END:VEVENT
BEGIN:VEVENT
DTSTART;TZID=America/Chicago:20250626T173000
DTEND;TZID=America/Chicago:20250626T190000
DTSTAMP:20260420T081325
CREATED:20250304T182644Z
LAST-MODIFIED:20250304T182644Z
UID:62181-1750959000-1750964400@tcpride.org
SUMMARY:Tea Time for Transwomen
DESCRIPTION:Tea Time is a peer support network for trans femme identifying individuals living in the Twin Cities and Greater Minnesota. The mission of Tea Time is to offer safer spaces for trans femme folks\, a highly vulnerable and stigmatized population. Tea Time offers various resources such as access to HRT injection supplies\, a free PrEP clinic\, safer spaces to discuss issues related to stigma and shame\, issues around medical transition\, sexual health\, peer support\, family issues\, etc. We offer safer spaces for trans femme folks to learn how to live and thrive through a network of peer support and care. \nTea Time meets every 2nd and 4th Thursday of the month from 5:30pm -7:00pm at The Aliveness Project located at 3808 Nicollet Ave\, Minneapolis\, MN 55409. \nContact Information: \nMain Office: 612-822-9668. \nLuna Maldonado: luna@aliveness.org \nTea Time Disscusion Topics\n\nName Change Clinic\nHormone Therapy\nSafe Spaces\nComing Out\nCommunity Connection\nDating / Love / Sex
URL:https://tcpride.org/event/tea-time-for-transwomen-8/
LOCATION:Aliveness Project\, 3808 Nicollet Ave\, Minneapolis\, MN\, 55409\, United States
CATEGORIES:Community Events
END:VEVENT
BEGIN:VEVENT
DTSTART;TZID=America/Chicago:20250626T180000
DTEND;TZID=America/Chicago:20250626T190000
DTSTAMP:20260420T081325
CREATED:20250528T034538Z
LAST-MODIFIED:20250528T034538Z
UID:83537-1750960800-1750964400@tcpride.org
SUMMARY:Harmonizing Identities: The True Story of a Transgender Nyckelharpist in 1700s Sweden
DESCRIPTION:Meet Magnus Johansson—a nyckelharpa player born in 1683 on Åland and assigned female at birth as Maria Johansdotter. In 1702\, they moved to Stockholm\, boldly defying gender norms in both dress and profession. They performed in local taverns\, playing nyckelharpa and singing. Their songs included sharp satire\, including one aimed at a powerful\, vengeful political figure with an overinflated ego and an inability to handle criticism. \nAfter receiving a male passport from a patron\, they began living openly as Magnus Johansson—working as a shoe cobbler’s apprentice\, leading a church choir\, and earning a reputation as both a musician and a lothario. \nJoin Renee Vaughan\, gender studies researcher\, nyckelharpist\, and ally\, to learn more about this Magnus-ificent musician\, and enjoy live music Magnus played\, along with other well-known tunes from the time and region before and after the presentation—featuring Renee Vaughan (nyckelharpa)\, Paul Sauey (guitar)\, Mikey Marget (cello)\, Dan Newton (accordion). Free event.
URL:https://tcpride.org/event/harmonizing-identities-the-true-story-of-a-transgender-nyckelharpist-in-1700s-sweden/
LOCATION:American Swedish Institute\, 2600 Park Ave\, Minneapolis\, MN\, 55407\, United States
CATEGORIES:Community Events
ATTACH;FMTTYPE=image/png:https://tcpride.org/wp-content/uploads/2025/05/nyckelharpapic.png
ORGANIZER;CN="American Swedish Institute":MAILTO:info@asimn.org
END:VEVENT
BEGIN:VEVENT
DTSTART;TZID=America/Chicago:20250626T180000
DTEND;TZID=America/Chicago:20250626T200000
DTSTAMP:20260420T081325
CREATED:20250614T000909Z
LAST-MODIFIED:20250614T000909Z
UID:84716-1750960800-1750968000@tcpride.org
SUMMARY:St. Paul Queer History Tour
DESCRIPTION:Join Telling Queer History for a 2SLGBTQIA+ history walking tour in St Paul! Learn about the rich queer history of St. Paul as you visit these storied landmarks and hear from live storytellers. \nMasks are required and provided. This is a walking tour that involves being mobile for about ~2 miles and 2 hours. We will have some portable stools for sitting breaks. All participants can wear audio packs to hear the tour guide. If you have other access requests\, such as ASL interpretation or a pedicab ride\, please contact us at least a week in advance so we can make those arrangements. \nSliding scale tickets available (Free for BIPOC & 2SLGBTQIA+ attendees\, $10-20 for all other tickets). Participation is capped at 30 people! Starting location TBD\, details will be sent via email.
URL:https://tcpride.org/event/st-paul-queer-history-tour/
LOCATION:MN
CATEGORIES:Community Events,TCPride 2025 Events
ORGANIZER;CN="Telling Queer History":MAILTO:hello@tellingqueerhistory.com
END:VEVENT
BEGIN:VEVENT
DTSTART;TZID=America/Chicago:20250626T190000
DTEND;TZID=America/Chicago:20250626T200000
DTSTAMP:20260420T081325
CREATED:20250521T151215Z
LAST-MODIFIED:20250521T151215Z
UID:83174-1750964400-1750968000@tcpride.org
SUMMARY:Queer Book Launch: Midnight at the Cinema Palace at Magers & Quinn
DESCRIPTION:Please join us for the launch of Christopher Tradowsky’s debut novel\, MIDNIGHT AT THE CINEMA PALACE. Tradowsky will be in conversation with local author Lindsay Starck. \nThis tender\, exuberant novel about a young man navigating coming of age in ’90s San Francisco is for readers of Garth Greenwell and André Aciman. \nWalter Simmering is searching for love and purpose in a city he doesn’t realize is fading away—San Francisco in 1993\, at the height of the AIDS epidemic and the dawn of the tech revolution. Out of college\, out of the closet\, and transplanted from the Midwest\, Walter is irresistibly drawn from his shell when he meets Cary Menuhin and Sasha Stravinsky\, a dynamic couple who live blithely beyond the boundaries of gender and sexuality. Witty and ultra-stylish\, Cary and Sasha seem to have stepped straight out of a sultry film noir\, captivating Walter through a shared obsession with cinema and Hollywood’s golden age. \nAs the three embark on adventures across the city\, filled with joie de vivre\, their lively friendship evolves in unexpected ways. When Walter befriends Lawrence\, a filmmaker and former child actor living with HIV\, they pursue a film project of their own\, with hilarious and tragic results. \nMidnight at the Cinema Palace is a vibrant and nostalgic exploration of young souls discovering themselves amidst the backdrop of a disappearing city. Christopher Tradowsky’s astonishing debut captures the essence of ’90s queer culture and the complex lives of friends seeking an aesthetically beautiful and fulfilling way of life. \nChristopher Tradowsky lived in San Francisco throughout the 1990s and drew inspiration from his time there for this book. He was also inspired by Virginia Woolf’s Orlando\, and says that “While Orlando has become the patron saint of gender fluidity\, Woolf demonstrated that an entire novel\, in both subject and style\, could be a love letter from start to finish.” In addition to the J. Michael Samuel Prize from the Lambda Literary Foundation\, Tradowsky was also the recipient of the BLOOM Literary Journal Prize for fiction in 2013. He earned a PhD in art history from UCLA. He teaches undergraduate art history and mentors in the creative writing MFA program at Augsburg University in Minneapolis. He lives in St. Paul with his husband. \nLindsay Starck was born in Wisconsin and raised in the Milwaukee Public Library. She is the author of the novels Noah’s Wife (2016) and Monsters We Have Made (2023)\, which has been named a finalist for the Minnesota Book Awards. Her short prose has appeared in Ploughshares\, the New England Review\, AGNI\, and the Southern Review\, among other places\, and has been awarded a Pushcart Prize. She currently writes and teaches in Minneapolis\, where she lives with her husband and her cattle dog.
URL:https://tcpride.org/event/queer-book-launch-midnight-at-the-cinema-palace-at-magers-quinn/
LOCATION:Magers & Quinn Booksellers\, 3038 Hennepin Ave\, Minneapolis\, 55408\, United States
CATEGORIES:Artist in Residence,Community Events
ATTACH;FMTTYPE=image/jpeg:https://tcpride.org/wp-content/uploads/2025/05/Christopher-Tradowsky.jpg
ORGANIZER;CN="Magers &amp%3B Quinn Booksellers":MAILTO:info@magersandquinn.com
END:VEVENT
END:VCALENDAR