BEGIN:VCALENDAR
VERSION:2.0
PRODID:-//Twin Cities Pride - ECPv6.13.2.1//NONSGML v1.0//EN
CALSCALE:GREGORIAN
METHOD:PUBLISH
X-ORIGINAL-URL:https://tcpride.org
X-WR-CALDESC:Events for Twin Cities Pride
REFRESH-INTERVAL;VALUE=DURATION:PT1H
X-Robots-Tag:noindex
X-PUBLISHED-TTL:PT1H
BEGIN:VTIMEZONE
TZID:America/Chicago
BEGIN:DAYLIGHT
TZOFFSETFROM:-0600
TZOFFSETTO:-0500
TZNAME:CDT
DTSTART:20250309T080000
END:DAYLIGHT
BEGIN:STANDARD
TZOFFSETFROM:-0500
TZOFFSETTO:-0600
TZNAME:CST
DTSTART:20251102T070000
END:STANDARD
END:VTIMEZONE
BEGIN:VEVENT
DTSTART;VALUE=DATE:20250601
DTEND;VALUE=DATE:20250702
DTSTAMP:20260420T081812
CREATED:20250508T022446Z
LAST-MODIFIED:20250508T022446Z
UID:74208-1748746800-1751338799@tcpride.org
SUMMARY:Pride Exhibit
DESCRIPTION:A gallery show dedicated to Pride-themed artwork: paintings\, photography\, glass\, etc.
URL:https://tcpride.org/event/pride-exhibit/
LOCATION:ACCC Gallery at the Chaska Community Center\, 1661 Park Ridge Drive\, Chaska\, MN\, 55318\, United States
CATEGORIES:Community Events
ATTACH;FMTTYPE=image/jpeg:https://tcpride.org/wp-content/uploads/2025/05/pride.jpg
ORGANIZER;CN="Arts Consortium of Carver County":MAILTO:LiyaLev@comcast.net
END:VEVENT
BEGIN:VEVENT
DTSTART;TZID=America/Chicago:20250602T150000
DTEND;TZID=America/Chicago:20250630T230000
DTSTAMP:20260420T081812
CREATED:20250504T181042Z
LAST-MODIFIED:20250504T181042Z
UID:73990-1748876400-1751324400@tcpride.org
SUMMARY:Fluidity
DESCRIPTION:A group art exhibit of local LGBTQ+ artists celebrating Pride & Art.
URL:https://tcpride.org/event/fluidity/
LOCATION:Gambit Brewing Company\, 141 4th Street E #LL2\, Saint Paul\, MN\, 55101\, United States
CATEGORIES:Community Events
ATTACH;FMTTYPE=image/png:https://tcpride.org/wp-content/uploads/2025/05/Masthead-Art.png
END:VEVENT
BEGIN:VEVENT
DTSTART;TZID=America/Chicago:20250613T193000
DTEND;TZID=America/Chicago:20250629T163000
DTSTAMP:20260420T081812
CREATED:20250605T030014Z
LAST-MODIFIED:20250605T030014Z
UID:84090-1749843000-1751214600@tcpride.org
SUMMARY:The Macbeths
DESCRIPTION:ROUGH MAGIC PERFORMANCE COMPANY PRESENTS A HAUNTING NEW MACBETH\nAll-Women/Non-Binary Cast\, Bold Adaptation Opens Friday the 13th at the Center for the Performing Arts \nPrepare for a Macbeth unlike any you’ve seen before. Rough Magic Performance Company proudly presents an original\, immersive adaptation of Shakespeare’s Macbeth. Directed by Heidi Batz Rogers\, adapted by Catherine Justice\, and with a cast of 5 women performers\, The Macbeths highlights the themes of trauma\, loss\, and unfettered ambition through a feminist lens. Plus witches! The production runs June 13–29\, 2025\, at the Center for the Performing Arts\, with an opening night on Friday the 13th\, promising an extra-spooky launch to the show’s limited run. \nTickets are Pay What You Wish $0 – $100. Performances Thursdays\, Fridays\, Saturdays\, and Sundays. Learn more at www.roughmagicperformance.org
URL:https://tcpride.org/event/the-macbeths/
LOCATION:Center for Performing Arts (CFPA)\, 3754 Pleasant Ave\, Minneapolis\, MN\, 55409\, United States
CATEGORIES:Community Events
ATTACH;FMTTYPE=image/jpeg:https://tcpride.org/wp-content/uploads/2025/06/THE-MACBETHS.jpeg
END:VEVENT
BEGIN:VEVENT
DTSTART;TZID=America/Chicago:20250620T193000
DTEND;TZID=America/Chicago:20250628T193000
DTSTAMP:20260420T081812
CREATED:20250128T173112Z
LAST-MODIFIED:20250128T173112Z
UID:60850-1750447800-1751139000@tcpride.org
SUMMARY:A Pink Triangle
DESCRIPTION:Shining a light on an often overlooked victim-survivor group of the Holocaust\, homosexual men\, attend the world premiere of A Pink Triangle. \nSet in a concentration camp\, in what could be their last hour together\, an intolerant father and his gay son attempt to find common ground\, hope\, and forgiveness. \nPurchase tickets here.
URL:https://tcpride.org/event/a-pink-triangle/
LOCATION:Phoenix Theater\, 2605 Hennepin Avenue\, Minneapolis\, MN\, 55408\, United States
CATEGORIES:Community Events
ATTACH;FMTTYPE=image/png:https://tcpride.org/wp-content/uploads/2025/01/Quotes-Instagram-Post.png
END:VEVENT
BEGIN:VEVENT
DTSTART;TZID=America/Chicago:20250627T173000
DTEND;TZID=America/Chicago:20250627T193000
DTSTAMP:20260420T081812
CREATED:20250614T000411Z
LAST-MODIFIED:20250614T000411Z
UID:84535-1751045400-1751052600@tcpride.org
SUMMARY:East Bank Dog Parade
DESCRIPTION:Grab the Leash — Let’s Paw-rade! \nOnce led by the Nicollet Island East Bank Neighborhood Association\, the beloved Dog Parade is back—and it’s going to be paws-itively awesome! This year\, the East Bank Neighborhoods Partnership is unleashing the fun in true East Bank style—and your furry friend is officially invited. \nMeet us in the large green space off Main St.\, South of E Hennepin Ave & Merriam St. Bridge and North of the Central Ave underpass\nBring your pup (and their people) for a tail-wagging good time as dogs of every breed\, size\, and age parade proudly down Hennepin Avenue. After the strut\, stick around Historic Main Street Park for a bark-worthy celebration featuring: \n-Local businesses & pet-friendly vendors\n-Treats and tail wags\n-Paws-itively fun contests with prizes\n-A chance to sniff out new friends from around the Twin Cities! \nWhether your dog is a seasoned show-off or just wants to fetch some attention\, this free event is sure to be the ulti-mutt evening out. 🐶 Volunteer or Donate! 🐾 It takes a pack to pull off a paw-some event like the East Bank Dog Parade\, and we’d love your help! Whether you’re great at herding humans\, handing out treats\, or setting up the paw-ty\, we’re looking for volunteers to lend a paw before\, during\, and after the event.
URL:https://tcpride.org/event/east-bank-dog-parade/
LOCATION:Historic Main Street Park SE\, Minneapolis\, MN\, 420 Main St. SE Minneapolis\, MN 55414\, Minneapolis\, MN\, 55414\, United States
CATEGORIES:Community Events
ORGANIZER;CN="East Bank Neighborhoods Partnership":MAILTO:info@eastbankmpls.org
END:VEVENT
BEGIN:VEVENT
DTSTART;TZID=America/Chicago:20250627T180000
DTEND;TZID=America/Chicago:20250627T223000
DTSTAMP:20260420T081812
CREATED:20250623T230356Z
LAST-MODIFIED:20250623T230356Z
UID:85170-1751047200-1751063400@tcpride.org
SUMMARY:Queer Movie Night
DESCRIPTION:Queer Movie Night is back on!!! \n  \nThis time we have a non sheet projector screen for better viewing ☺️. \n  \nLove Lies Bleeding this time round!! \n  \nWatch a fucked up lesbian romance flavored with crime thriller and surrealism. Amazing steamy sapphic sex representation 🥺😭 \n  \n  \n\nTrigger warnings: Body Horror\, Murder\, Dead Bodies\, weapons (guns and more)\, toxic relationships\, addiction\, ect and tons more. Prepare yourself and do your own education for this movie. Its rough at times.
URL:https://tcpride.org/event/queer-movie-night/
LOCATION:time Traveler’s Public House\, MN\, United States
CATEGORIES:Community Events,Movies
ATTACH;FMTTYPE=image/png:https://tcpride.org/wp-content/uploads/2025/06/Time-Travelers-Public-House-Presents-1-scaled.png
ORGANIZER;CN="time Traveler's Public House":MAILTO:bexlynn@myyahoo.com
END:VEVENT
BEGIN:VEVENT
DTSTART;TZID=America/Chicago:20250627T190000
DTEND;TZID=America/Chicago:20250627T200000
DTSTAMP:20260420T081812
CREATED:20250518T160144Z
LAST-MODIFIED:20250518T160144Z
UID:74619-1751050800-1751054400@tcpride.org
SUMMARY:Dignity Twin Cities Pride Liturgy
DESCRIPTION:Dignity Twin Cities is a small Christian community that\, in the tradtion of Liberation Theology from Latin America\, provides a spiritual base for lesbian\, gay\, bisexual\, and transgender Catholics\, their families and friends. We are also an activist organization that works to change the antiquated sexual theology of the Roman Catholic Church. Join us as we celebrate Pride weekend. \nProspect Park United Methodist Church (PPUMC)\, 22 Orlin Ave SE\, Mpls
URL:https://tcpride.org/event/dignity-twin-cities-pride-liturgy/
LOCATION:Prospect Park United Methodist Church\, 22 Orlin Ave SE\, Minneapolis\, MN\, 55447\, United States
CATEGORIES:Community Events
ATTACH;FMTTYPE=image/png:https://tcpride.org/wp-content/uploads/2025/05/DTCLogo.png
ORGANIZER;CN="Dignity Twin Cities":MAILTO:dignitytwincities@hotmail.com
END:VEVENT
BEGIN:VEVENT
DTSTART;TZID=America/Chicago:20250627T190000
DTEND;TZID=America/Chicago:20250627T210000
DTSTAMP:20260420T081812
CREATED:20250624T224955Z
LAST-MODIFIED:20250624T224955Z
UID:85682-1751050800-1751058000@tcpride.org
SUMMARY:Uptown Follies PRIDE celebration!
DESCRIPTION:Celebrate PRIDE with a night of glitz\, glam and camp at the historic Granada Theater! Featuring the ⭐⭐⭐⭐⭐ LGBTQIA+ owned & ran entertainment \nUptown Follies is a whirlwind of high-energy entertainment reminiscent of the Golden Age of variety shows set in this breathtaking Spanish art deco space with 4 star dining and drinks.Experience the allure of burlesque beauties\, the grace of showgirls\, and the enchanting melodies of our sensational singers. Be prepared to be on the edge of your seat with sideshow spectacles\, jaw-dropping aerial acts\, and gravity-defying pole dances. And let’s not forget the laughter – our comedic performers will have you in stitches all night long.Inspired by Dita Von Teese\, the iconic Moulin Rouge and the legendary Crazy Horse Paris\, Uptown Follies transports you to a realm of opulence and extravagance\, where every moment is a feast for the senses. With dazzling costumes\, mesmerizing choreography\, and a touch of cheeky humor\, this show promises an unforgettable evening of entertainment unlike anything you’ve ever seen before. So grab your friends\, dress to impress\, and get ready to be swept away by the magic of Uptown Follies – where the spotlight shines bright and the party never ends! \nDoors at 7 p.m.\, Show at 7:30 p.m. 18+. \nVIP: (front row of tables)- Ticket price $59- includes VIP drink- 6:30pm Entry Time \nMezzanine (mid section of tables)- Ticket price $49- Includes Drink- 7:00pm Entry Time \nEconomy (back row of tables)- Ticket price $35- 7:00pm Entry Time \nBalcony VIP table for 4- Table price $189- includes VIP drink- 6:30pm Entry Time \nParking is available at Seven Points Parking Garage. There is a reservation link at www.granadampls.com \nPlease note the best navigation through construction by using this link:\nhttps://arcg.is/HHu0P \nTROUPE BIO We\, Triple Threat Entertainment\, are a queer\, gender diverse\, and neuro-varied womxn owned company\, with widely varied socio-economic backgrounds and professional experiences. Our troupe has been performing for 10+ years and is committed to creating high quality content\, that is both uplifting and thought provoking while maintaining integrity and our mission to positive entertainment. We work hard to embed messages of empowerment\, consent\, growth\, and self-love into our universe. We work with 30+ artists and perform regularly.
URL:https://tcpride.org/event/uptown-follies-pride-celebration/
LOCATION:Granada Theater\, 3022 Hennepin Ave\, Minneapolis\, MN\, 55408\, United States
CATEGORIES:Community Events
ATTACH;FMTTYPE=image/png:https://tcpride.org/wp-content/uploads/2025/06/uptownfolliescropped.png
ORGANIZER;CN="Triple Threat Entertainment and Granada Theater":MAILTO:info@granadatheater.events
END:VEVENT
BEGIN:VEVENT
DTSTART;TZID=America/Chicago:20250627T193000
DTEND;TZID=America/Chicago:20250627T210000
DTSTAMP:20260420T081812
CREATED:20250604T020115Z
LAST-MODIFIED:20250604T020115Z
UID:83947-1751052600-1751058000@tcpride.org
SUMMARY:Minnesota Philharmonic Orchestra: Love Letters
DESCRIPTION:The Minnesota Philharmonic Orchestra (MPO) returns for a second consecutive year to deliver a Pride performance at St. Mark’s Episcopal Cathedral to help kick off Pride Weekend festivities. Closing out its 32nd season\, the MPO is the nation’s first LGBTQIA+ orchestra. While the concert is free\, the MPO will be taking donations — please consider supporting local queer music-making in whatever way you can! \nProgram: A prince’s love breaks a sorcerer’s curse. A Vietnamese son writes letters to his mother\, who cannot read\, exploring their fraught family history and unfolding the relationship with his first love. A Finnish composer protests censorship of the press through what would become a second national anthem for his liberated nation. The MPO’s Pride concert shares stories about courageous love for person and country. \n\nTchaikovsky: Valse from Swan Lake\nHolmes: “La nuit et l’amour” from Ludus pro patria\nBologne/St. Georges: Symphony No. 2 “L’amant anonyme”\nColeridge-Taylor: “Un sonnet d’amour” from Petite Suite de Concert\nYee: Briefly Gorgeous\nSibelius: Finlandia\n\nConducted by Brian Dowdy
URL:https://tcpride.org/event/minnesota-philharmonic-orchestra-love-letters/
LOCATION:St. Mark’s Episcopal Cathedral\, 519 Oak Grove St\, Minneapolis\, MN\, 55403\, United States
CATEGORIES:Community Events
ATTACH;FMTTYPE=image/png:https://tcpride.org/wp-content/uploads/2025/06/HORI_w-Tagline_Color.png
ORGANIZER;CN="Minnesota Philharmonic Orchestra":MAILTO:operations@mnphil.org
END:VEVENT
BEGIN:VEVENT
DTSTART;TZID=America/Chicago:20250627T193000
DTEND;TZID=America/Chicago:20250627T213000
DTSTAMP:20260420T081812
CREATED:20250604T014759Z
LAST-MODIFIED:20250604T014759Z
UID:83884-1751052600-1751059800@tcpride.org
SUMMARY:Minnesota Philharmonic Orchestra Pride Concert: Love Letters
DESCRIPTION:A prince’s love breaks a sorcerer’s curse. A Vietnamese son writes letters to his mother\, who cannot read\, exploring their fraught family history and unfolding the relationship with his first love. A Finnish composer protests censorship of the press through what would become a second national anthem for his liberated nation. The MPO’s Pride concert shares stories about courageous love for person and country. \n\n\n\nTchaikovsky: Valse from Swan Lake\nHolmes: “La nuit et l’amour” from Ludus pro patria\nBologne/St. Georges: Symphony No. 2 “L’amant anonyme”\nColeridge-Taylor: “Un sonnet d’amour” from Petite Suite de Concert\nYee: Briefly Gorgeous\nSibelius: Finlandia\n\n\n\nConducted by Brian Dowdy
URL:https://tcpride.org/event/minnesota-philharmonic-orchestra-pride-concert-love-letters/
LOCATION:St. Mark’s Episcopal Cathedral\, 519 Oak Grove St\, Minneapolis\, MN\, 55403\, United States
CATEGORIES:Community Events
ORGANIZER;CN="Minnesota Philharmonic Orchestra":MAILTO:operations@mnphil.org
END:VEVENT
END:VCALENDAR