BEGIN:VCALENDAR
VERSION:2.0
PRODID:-//Twin Cities Pride - ECPv6.13.2.1//NONSGML v1.0//EN
CALSCALE:GREGORIAN
METHOD:PUBLISH
X-WR-CALNAME:Twin Cities Pride
X-ORIGINAL-URL:https://tcpride.org
X-WR-CALDESC:Events for Twin Cities Pride
REFRESH-INTERVAL;VALUE=DURATION:PT1H
X-Robots-Tag:noindex
X-PUBLISHED-TTL:PT1H
BEGIN:VTIMEZONE
TZID:America/Chicago
BEGIN:DAYLIGHT
TZOFFSETFROM:-0600
TZOFFSETTO:-0500
TZNAME:CDT
DTSTART:20250309T080000
END:DAYLIGHT
BEGIN:STANDARD
TZOFFSETFROM:-0500
TZOFFSETTO:-0600
TZNAME:CST
DTSTART:20251102T070000
END:STANDARD
END:VTIMEZONE
BEGIN:VEVENT
DTSTART;TZID=America/Chicago:20250708T180000
DTEND;TZID=America/Chicago:20250708T193000
DTSTAMP:20260420T065025
CREATED:20250614T000937Z
LAST-MODIFIED:20250614T000937Z
UID:84787-1751997600-1752003000@tcpride.org
SUMMARY:Paint Night at Queermunity
DESCRIPTION: Paint Me Queer: A Flag Painting Social Join us for a joyful evening of community\, creativity\, and color!\n Monday\, July 8 6:30 PM Queermunity (Minneapolis\, MN)\nWhether you’re painting your pride\, your roots\, or something entirely unique — this space is for you. Come connect with fellow queers\, make some art\, and celebrate identity through flag-making and self-expression.\n Free supplies provided All skill levels welcome Snacks\, vibes\, and queer joy included\nHosted by Elevate Twin Cities & Minnesota Lesbians\, Sapphics\, and Queers of Color — this is a space centering LGBTQ+ joy\, creativity\, and community care.\n Reserve your spot: https://www.elevatetccollective.org/events\nBring a friend\, bring your flag\, or come as you are. Let’s paint the spectrum together! 
URL:https://tcpride.org/event/paint-night-at-queermunity/
LOCATION:Queermunity\, 3036 Hennepin Ave\, Minneapolis\, MN\, 55408\, United States
CATEGORIES:Community Events
ATTACH;FMTTYPE=image/png:https://tcpride.org/wp-content/uploads/2025/06/PAint-ME-QUEER-1.png
ORGANIZER;CN="Elevate Twin Cities (E3)| Minnesota Lesbians%2C Sapphics &amp%3B Queers of Color (MNLOC)":MAILTO:e3.twincities@gmail.com
END:VEVENT
BEGIN:VEVENT
DTSTART;TZID=America/Chicago:20250708T190000
DTEND;TZID=America/Chicago:20250708T203000
DTSTAMP:20260420T065025
CREATED:20250304T152057Z
LAST-MODIFIED:20250304T152057Z
UID:61980-1752001200-1752006600@tcpride.org
SUMMARY:North Country Gaylaxians Book Club (Online)
DESCRIPTION:The meeting of the Twin Cities chapter of the Gaylactic Network\, an organization for the GLBT fan community\, whether it be science fiction\, fantasy\, horror\, comics\, or gaming. We read and discuss books of speculative fiction with GLBT or similar content or by GLBT authors. We meet the second Tuesday of the month at 7:00 pm on Zoom. Also\, monthly gaming get-togethers in a private home. \nInfo on events can be found on their Facebook page:    https://www.facebook.com/groups/NorthCountryGaylaxians/
URL:https://tcpride.org/event/north-country-gaylaxians-book-club-online-5/
LOCATION:MN
CATEGORIES:Community Events
END:VEVENT
END:VCALENDAR