BEGIN:VCALENDAR
VERSION:2.0
PRODID:-//Twin Cities Pride - ECPv6.13.2.1//NONSGML v1.0//EN
CALSCALE:GREGORIAN
METHOD:PUBLISH
X-ORIGINAL-URL:https://tcpride.org
X-WR-CALDESC:Events for Twin Cities Pride
REFRESH-INTERVAL;VALUE=DURATION:PT1H
X-Robots-Tag:noindex
X-PUBLISHED-TTL:PT1H
BEGIN:VTIMEZONE
TZID:America/Chicago
BEGIN:DAYLIGHT
TZOFFSETFROM:-0600
TZOFFSETTO:-0500
TZNAME:CDT
DTSTART:20250309T080000
END:DAYLIGHT
BEGIN:STANDARD
TZOFFSETFROM:-0500
TZOFFSETTO:-0600
TZNAME:CST
DTSTART:20251102T070000
END:STANDARD
END:VTIMEZONE
BEGIN:VEVENT
DTSTART;TZID=America/Chicago:20250711T193000
DTEND;TZID=America/Chicago:20250713T153000
DTSTAMP:20260420T065445
CREATED:20250721T160349Z
LAST-MODIFIED:20250721T160349Z
UID:86807-1752262200-1752420600@tcpride.org
SUMMARY:AMM(I)GONE
DESCRIPTION:Adil Mansoor is a Virgo Pakistani-American theater queerdo. His mother is an Aquarian hijabi Quranic scholar. Since she discovered Adil’s queerness online\, their once-close bond now needs rescue. AMM(I)GONE is the autobiographical play of what happens next—a blending of Greek tragedy\, Islam\, and memories; of photos\, recorded conversations\, and thoughts. \nPay As You Are tickets for this one-weekend presentation! Friday at 7:30 pm\, Saturday at 7:30 pm\, and Sunday at 2 p.m. \nco-produced by Woolly Mammoth Theatre & PlayCo\, in association with Kelly Strayhorn Theater; co-presented by Theater Mu and the Jungle Theater
URL:https://tcpride.org/event/ammigone/
LOCATION:Jungle Theater\, 2951 Lyndale Ave. S\, Minneapolis\, MN\, 55408\, United States
CATEGORIES:Community Events
ATTACH;FMTTYPE=image/jpeg:https://tcpride.org/wp-content/uploads/2025/07/250312_Ammigone-53.jpg
ORGANIZER;CN="Theater Mu":MAILTO:info@theatermu.org
END:VEVENT
BEGIN:VEVENT
DTSTART;TZID=America/Chicago:20250712T100000
DTEND;TZID=America/Chicago:20250712T110000
DTSTAMP:20260420T065445
CREATED:20250304T181255Z
LAST-MODIFIED:20250304T181255Z
UID:62161-1752314400-1752318000@tcpride.org
SUMMARY:NA Meeting: Queer\, Trans\, and Friends
DESCRIPTION:Narcotics Anonymous (NA) has an open meeting at Aliveness every Saturday at 10 am. It is focused on people in recovery who are queer\, trans\, and allies and is “open to any addict seeking recovery.” \nFor more info contact hanna@aliveness.org
URL:https://tcpride.org/event/na-meeting-queer-trans-and-friends-19/
LOCATION:Aliveness Project\, 3808 Nicollet Ave\, Minneapolis\, MN\, 55409\, United States
CATEGORIES:Community Events
END:VEVENT
END:VCALENDAR