BEGIN:VCALENDAR
VERSION:2.0
PRODID:-//Twin Cities Pride - ECPv6.13.2.1//NONSGML v1.0//EN
CALSCALE:GREGORIAN
METHOD:PUBLISH
X-WR-CALNAME:Twin Cities Pride
X-ORIGINAL-URL:https://tcpride.org
X-WR-CALDESC:Events for Twin Cities Pride
REFRESH-INTERVAL;VALUE=DURATION:PT1H
X-Robots-Tag:noindex
X-PUBLISHED-TTL:PT1H
BEGIN:VTIMEZONE
TZID:America/Chicago
BEGIN:DAYLIGHT
TZOFFSETFROM:-0600
TZOFFSETTO:-0500
TZNAME:CDT
DTSTART:20250309T080000
END:DAYLIGHT
BEGIN:STANDARD
TZOFFSETFROM:-0500
TZOFFSETTO:-0600
TZNAME:CST
DTSTART:20251102T070000
END:STANDARD
END:VTIMEZONE
BEGIN:VEVENT
DTSTART;TZID=America/Chicago:20250719T100000
DTEND;TZID=America/Chicago:20250719T110000
DTSTAMP:20260420T065123
CREATED:20250304T181337Z
LAST-MODIFIED:20250304T181337Z
UID:62163-1752919200-1752922800@tcpride.org
SUMMARY:NA Meeting: Queer\, Trans\, and Friends
DESCRIPTION:Narcotics Anonymous (NA) has an open meeting at Aliveness every Saturday at 10 am. It is focused on people in recovery who are queer\, trans\, and allies and is “open to any addict seeking recovery.” \nFor more info contact hanna@aliveness.org
URL:https://tcpride.org/event/na-meeting-queer-trans-and-friends-20/
LOCATION:Aliveness Project\, 3808 Nicollet Ave\, Minneapolis\, MN\, 55409\, United States
CATEGORIES:Community Events
END:VEVENT
BEGIN:VEVENT
DTSTART;TZID=America/Chicago:20250719T131500
DTEND;TZID=America/Chicago:20250719T151500
DTSTAMP:20260420T065123
CREATED:20250304T155628Z
LAST-MODIFIED:20250304T155628Z
UID:62055-1752930900-1752938100@tcpride.org
SUMMARY:Prime Timers Bookclub
DESCRIPTION:This monthly book club is a subgroup of the Twin Cities Prime Timers Club\, which is affiliated with the state and national organizations. It meets each third Saturday of the month at Quatrefoil from 1:15pm – 3:15pm.
URL:https://tcpride.org/event/prime-timers-bookclub-6/
LOCATION:Quatrefoil Library\, 1220 E Lake St\, Minneapolis\, MN\, 55407\, United States
CATEGORIES:Community Events
ORGANIZER;CN="Quatrefoil Library":MAILTO:president@quatrefoil.org
END:VEVENT
BEGIN:VEVENT
DTSTART;TZID=America/Chicago:20250719T180000
DTEND;TZID=America/Chicago:20250719T203000
DTSTAMP:20260420T065123
CREATED:20250721T160356Z
LAST-MODIFIED:20250721T160356Z
UID:86977-1752948000-1752957000@tcpride.org
SUMMARY:SCMN Pride's LGBTQIA+ Pool Party
DESCRIPTION:Join South Central Minnesota Pride for the 4th annual LGBTQIA+ Pool Party and enjoy some time at the North Mankato Spring Lake Park Swim Facility. This is a private event (not during the time the pool is open to the public) where you can feel safe and comfortable to be you! LGBTQIA+ youth\, adults\, and allies are welcome. No outside food or drinks allowed\, wear your most comfortable swim attire\, no over-the-nose goggles. The concession stand will be open. This event is free will donation at the door to help support the party and future events!
URL:https://tcpride.org/event/scmn-prides-lgbtqia-pool-party/
LOCATION:North Mankato Swim Facility\, 641 Webster Avenue\, North Mankato\, MN\, 56003\, United States
CATEGORIES:Community Events
ATTACH;FMTTYPE=image/jpeg:https://tcpride.org/wp-content/uploads/2025/07/495227307_1006915941555158_4803790728156050377_n.jpg
ORGANIZER;CN="South Central MN Pride":MAILTO:festival@scmnpride.org
END:VEVENT
END:VCALENDAR