BEGIN:VCALENDAR
VERSION:2.0
PRODID:-//Twin Cities Pride - ECPv6.13.2.1//NONSGML v1.0//EN
CALSCALE:GREGORIAN
METHOD:PUBLISH
X-WR-CALNAME:Twin Cities Pride
X-ORIGINAL-URL:https://tcpride.org
X-WR-CALDESC:Events for Twin Cities Pride
REFRESH-INTERVAL;VALUE=DURATION:PT1H
X-Robots-Tag:noindex
X-PUBLISHED-TTL:PT1H
BEGIN:VTIMEZONE
TZID:America/Chicago
BEGIN:DAYLIGHT
TZOFFSETFROM:-0600
TZOFFSETTO:-0500
TZNAME:CDT
DTSTART:20250309T080000
END:DAYLIGHT
BEGIN:STANDARD
TZOFFSETFROM:-0500
TZOFFSETTO:-0600
TZNAME:CST
DTSTART:20251102T070000
END:STANDARD
END:VTIMEZONE
BEGIN:VEVENT
DTSTART;TZID=America/Chicago:20250726T090000
DTEND;TZID=America/Chicago:20250726T101500
DTSTAMP:20260420T065120
CREATED:20250721T160400Z
LAST-MODIFIED:20250721T160400Z
UID:90299-1753520400-1753524900@tcpride.org
SUMMARY:Community Donation Class (External) with Śrīm Yoga
DESCRIPTION:At Srīm Yoga\, service is not an afterthought—it is a pillar of our practice. As part of our living mission\, we are devoted to giving back to the communities we serve\, especially those historically underserved or marginalized. Through outreach programs\, donation events\, and community partnerships\, we extend the field of coherence beyond our walls. Every breath on the mat supports a greater breath off it—rippling well-being\, equity\, and care into the wider world. Srīm Yoga is an LGBTQIA+ owned business. \nDonations are encouraged but not required. The event will be at Honour Coffee parking lot in NE Minneapolis. This will be a restorative class with no experience required. \nWhen: July 26\,2025 from 9:00-10:15am \nWhere: 451 Stinson Blvd. NE\, Minneapolis \nWhat to bring: Yoga mat\, sun screen\, towel or something to create shade if necessary
URL:https://tcpride.org/event/community-donation-class-external-with-srim-yoga/
LOCATION:Honour Coffee\, 451 Stinson Blvd. NE\, Minneapolis\, MN\, 55413\, United States
CATEGORIES:Community Events
ATTACH;FMTTYPE=image/png:https://tcpride.org/wp-content/uploads/2025/07/Honour-Event-21.png
ORGANIZER;CN="Srim Yoga":MAILTO:srimyogamsp@gmail.com
END:VEVENT
BEGIN:VEVENT
DTSTART;TZID=America/Chicago:20250726T100000
DTEND;TZID=America/Chicago:20250726T110000
DTSTAMP:20260420T065120
CREATED:20250304T181410Z
LAST-MODIFIED:20250304T181410Z
UID:62165-1753524000-1753527600@tcpride.org
SUMMARY:NA Meeting: Queer\, Trans\, and Friends
DESCRIPTION:Narcotics Anonymous (NA) has an open meeting at Aliveness every Saturday at 10 am. It is focused on people in recovery who are queer\, trans\, and allies and is “open to any addict seeking recovery.” \nFor more info contact hanna@aliveness.org
URL:https://tcpride.org/event/na-meeting-queer-trans-and-friends-21/
LOCATION:Aliveness Project\, 3808 Nicollet Ave\, Minneapolis\, MN\, 55409\, United States
CATEGORIES:Community Events
END:VEVENT
END:VCALENDAR