BEGIN:VCALENDAR
VERSION:2.0
PRODID:-//Twin Cities Pride - ECPv6.13.2.1//NONSGML v1.0//EN
CALSCALE:GREGORIAN
METHOD:PUBLISH
X-ORIGINAL-URL:https://tcpride.org
X-WR-CALDESC:Events for Twin Cities Pride
REFRESH-INTERVAL;VALUE=DURATION:PT1H
X-Robots-Tag:noindex
X-PUBLISHED-TTL:PT1H
BEGIN:VTIMEZONE
TZID:America/Chicago
BEGIN:DAYLIGHT
TZOFFSETFROM:-0600
TZOFFSETTO:-0500
TZNAME:CDT
DTSTART:20250309T080000
END:DAYLIGHT
BEGIN:STANDARD
TZOFFSETFROM:-0500
TZOFFSETTO:-0600
TZNAME:CST
DTSTART:20251102T070000
END:STANDARD
END:VTIMEZONE
BEGIN:VEVENT
DTSTART;TZID=America/Chicago:20250906T120000
DTEND;TZID=America/Chicago:20250906T160000
DTSTAMP:20260420T035122
CREATED:20250616T233331Z
LAST-MODIFIED:20250918T173005Z
UID:85061-1757160000-1757174400@tcpride.org
SUMMARY:Grill & Chill
DESCRIPTION: E3 x MnLOC Present:Grill & Chill! \nPlease RSVP via Wix one week prior to ensure we have enough food.\nhttps://www.elevatetccollective.org/even…/aloha-summer-bbq\n Bridges Picnic Pavilion July 13 | 3PM–6PM\n Hawaiian vibes encouraged — but street clothes are totally cool too!\n Music •  Games •  Activities for all ages Come connect\, laugh\, and build community\nLet’s celebrate summer — the queer\, joyful way through the use of gentle resistance. Powered by E3 & MnLOC
URL:https://tcpride.org/event/aloha-summer-bbq/
LOCATION:Bridges Park\, 12250 82nd Ave N\, Maple Grove\, MN
CATEGORIES:Community Events
ATTACH;FMTTYPE=image/jpeg:https://tcpride.org/wp-content/uploads/2025/06/Grill-Chill.jpg
ORGANIZER;CN="Elevate Twin Cities (E3)| Minnesota Lesbians%2C Sapphics &amp%3B Queers of Color (MNLOC)":MAILTO:e3.twincities@gmail.com
END:VEVENT
END:VCALENDAR