BEGIN:VCALENDAR
VERSION:2.0
PRODID:-//Twin Cities Pride - ECPv6.13.2.1//NONSGML v1.0//EN
CALSCALE:GREGORIAN
METHOD:PUBLISH
X-WR-CALNAME:Twin Cities Pride
X-ORIGINAL-URL:https://tcpride.org
X-WR-CALDESC:Events for Twin Cities Pride
REFRESH-INTERVAL;VALUE=DURATION:PT1H
X-Robots-Tag:noindex
X-PUBLISHED-TTL:PT1H
BEGIN:VTIMEZONE
TZID:America/Chicago
BEGIN:DAYLIGHT
TZOFFSETFROM:-0600
TZOFFSETTO:-0500
TZNAME:CDT
DTSTART:20250309T080000
END:DAYLIGHT
BEGIN:STANDARD
TZOFFSETFROM:-0500
TZOFFSETTO:-0600
TZNAME:CST
DTSTART:20251102T070000
END:STANDARD
END:VTIMEZONE
BEGIN:VEVENT
DTSTART;TZID=America/Chicago:20250907T130000
DTEND;TZID=America/Chicago:20250907T160000
DTSTAMP:20260420T034745
CREATED:20250819T162243Z
LAST-MODIFIED:20250819T162243Z
UID:100052-1757250000-1757260800@tcpride.org
SUMMARY:Plants for Perseverance During Difficult Times
DESCRIPTION:About This Event\nWe live in inherently dysregulating times. Genocides\, global warming and the quickening of late stage capitalism deeply impact our spirits and nervous systems\, individually and collectively. This class offers a space to tap into one our oldest and deepest relationships. Our plant kin offer a space of remembrance\, support and friendship. They also connect with our bodies medicinally\, offering calm and comfort in moments of distress. This class will explore how remembering our interconnection to all beings allows us to access our grief and also offers the medicine to keep going. We will explore what it means to be in reciprocal relationship with our plant kin\, tell stories\, hold space\, and engage in embodied practice. \nThis event will take place outdoors at Anam Cara in south Minneapolis. We will have access to an indoor space in the event of rain. \nAccessibility: This event will be held on even and sloped ground with short grass\, potentially also sidewalk. We will mostly be sitting; total distance traveled will be less than half a mile. \nSliding scale $50 – $70. No one turned away for lack of funds. For details or questions\, please email Owen at ohmarciano@gmail.com. \nAbout the Facilitators\nMaria Wesserle is a queer forager and certified wildlife tracker. Her business\, Four Season Foraging\, is devoted to creating a space where people can learn to interact with urban and rural wild places in meaningful and sustainable ways. \nOwen Marciano of Nonna Terra is a queer & trans artist and Tarot reader of Sicilian descent/dissent\, working to reclaim his relationship to land and to his ancestry through traditional crafts like embroidery and sculpture. He has made a lifelong commitment to work toward the end of oppression and violence\, and is perpetually curious about the impact of colonization on our bodies and our planet. \nRegistration\nSpace is limited to better encourage participatory learning. Please register before Tuesday\, September 2nd\, 1pm.
URL:https://tcpride.org/event/plants-for-perseverance-during-difficult-times/
LOCATION:Anam Cara\, 3612 Bloomington Avenue\, Minneapolis\, MN\, 55407\, United States
CATEGORIES:Community Events
ATTACH;FMTTYPE=image/png:https://tcpride.org/wp-content/uploads/2025/08/plants-for-perseverance.png
END:VEVENT
BEGIN:VEVENT
DTSTART;TZID=America/Chicago:20250907T133000
DTEND;TZID=America/Chicago:20250907T153000
DTSTAMP:20260420T034745
CREATED:20250304T160612Z
LAST-MODIFIED:20250304T160622Z
UID:62075-1757251800-1757259000@tcpride.org
SUMMARY:Twin Cities Aroace Solidarity Group
DESCRIPTION:Twin Cities Aroace Solidarity group is a joyful\, embracing 21+ creative community for progressive aroace-spec (aromantic and/or asexual spectrum) and queer allies to share mutual aid and friendship; creative/artistic exchange; and learning\, peer education & guidance across gender\, age\, income level\, ethnicity & other lines of social difference. We gather at Quatrefoil monthly to socialize and discuss queer media.\n\n\nPlease email or text group organizer Amy Brooks at abbrooks77@icloud.com | (937) 901-9205
URL:https://tcpride.org/event/twin-cities-aroace-solidarity-group-10/
LOCATION:Quatrefoil Library\, 1220 E Lake St\, Minneapolis\, MN\, 55407\, United States
CATEGORIES:Community Events
ORGANIZER;CN="Quatrefoil Library":MAILTO:president@quatrefoil.org
END:VEVENT
BEGIN:VEVENT
DTSTART;TZID=America/Chicago:20250907T180000
DTEND;TZID=America/Chicago:20250907T210000
DTSTAMP:20260420T034745
CREATED:20250908T174750Z
LAST-MODIFIED:20250908T174750Z
UID:109482-1757268000-1757278800@tcpride.org
SUMMARY:Better Your Communication Skills Workshop
DESCRIPTION:Time Traveler’s Public House is proud to host an informative presentation about how we can understand each other better and hopefully move away from having so much miscommunication and infighting inside of community\, especially when we are in such need of those things being good right now. We encourage you to drop by if you got the time and I hope to see you there!! \nThis is a free event \nWater\, gluten free snack\, clipboards and notebooks available \n  \nContact for more information and the address \n  \nInstagram: https://www.instagram.com/timetravelerspublichouse?igsh=MWkwd21hd3A4eTl4MA== \n  \nPhone number: (763) 280-8769″ \n———– \nVenue and organizer are Time Traveler’s Public House \n  \nLink to event \nThe time travelers public house on Instagram: “2nd installment of “let’s talk to each other better”! Presentation and workshop on getting good outcomes from hard conversations\, interpersonal dynamics\, and social complexities. Sunday\, September the 7t
URL:https://tcpride.org/event/better-your-communication-skills-workshop/
LOCATION:time Traveler’s Public House\, MN\, United States
CATEGORIES:Community Events
ATTACH;FMTTYPE=image/jpeg:https://tcpride.org/wp-content/uploads/2025/09/2025.09.07-website-photo.jpg
END:VEVENT
END:VCALENDAR