BEGIN:VCALENDAR
VERSION:2.0
PRODID:-//Twin Cities Pride - ECPv6.13.2.1//NONSGML v1.0//EN
CALSCALE:GREGORIAN
METHOD:PUBLISH
X-ORIGINAL-URL:https://tcpride.org
X-WR-CALDESC:Events for Twin Cities Pride
REFRESH-INTERVAL;VALUE=DURATION:PT1H
X-Robots-Tag:noindex
X-PUBLISHED-TTL:PT1H
BEGIN:VTIMEZONE
TZID:America/Chicago
BEGIN:DAYLIGHT
TZOFFSETFROM:-0600
TZOFFSETTO:-0500
TZNAME:CDT
DTSTART:20250309T080000
END:DAYLIGHT
BEGIN:STANDARD
TZOFFSETFROM:-0500
TZOFFSETTO:-0600
TZNAME:CST
DTSTART:20251102T070000
END:STANDARD
END:VTIMEZONE
BEGIN:VEVENT
DTSTART;TZID=America/Chicago:20251003T193000
DTEND;TZID=America/Chicago:20251005T193000
DTSTAMP:20260420T020907
CREATED:20250806T183252Z
LAST-MODIFIED:20250806T183252Z
UID:98846-1759519800-1759692600@tcpride.org
SUMMARY:A Pink Triangle
DESCRIPTION:Back by popular demand – extra dates just released! \nDon’t miss your chance to experience A Pink Triangle\, the powerful show that shines a light on an often overlooked victim-survivor group of the Holocaust\, gay men. Set within the harrowing confines of a Nazi concentration camp\, this gripping new drama captures what could be the final hour between an intolerant father and his gay son as they struggle to find common ground\, hope\, and forgiveness in the face of unthinkable horrors. \n“A tightly focused\, emotionally charged drama that lingers long after the lights come up.”\n– Jared Fessler\, Broadway World \nTickets are limited. Reserve yours today before this landmark production is gone! \n\nFriday\, October 3 @ 730 PM\nSaturday\, October 4 @ 2PM & 7:30 PM\nSunday\, October 5 @ 6PM\n\nThis show is recommended for audiences age 13 and older. \nThis event will run approximately 90 minutes.  \nThis event contains adult language and themes including violence\, suicide\, sexual assault\, homophobia\, and anti-semitism.  \nThis event contains sudden loud noises including gun shots. 
URL:https://tcpride.org/event/a-pink-triangle-2/
LOCATION:Phoenix Theater\, 2605 Hennepin Avenue\, Minneapolis\, MN\, 55408\, United States
CATEGORIES:Community Events
ATTACH;FMTTYPE=image/jpeg:https://tcpride.org/wp-content/uploads/2025/07/IMG_3498-scaled.jpeg
END:VEVENT
BEGIN:VEVENT
DTSTART;TZID=America/Chicago:20251005T133000
DTEND;TZID=America/Chicago:20251005T153000
DTSTAMP:20260420T020907
CREATED:20250304T160652Z
LAST-MODIFIED:20250304T160652Z
UID:62077-1759671000-1759678200@tcpride.org
SUMMARY:Twin Cities Aroace Solidarity Group
DESCRIPTION:Twin Cities Aroace Solidarity group is a joyful\, embracing 21+ creative community for progressive aroace-spec (aromantic and/or asexual spectrum) and queer allies to share mutual aid and friendship; creative/artistic exchange; and learning\, peer education & guidance across gender\, age\, income level\, ethnicity & other lines of social difference. We gather at Quatrefoil monthly to socialize and discuss queer media.\n\n\nPlease email or text group organizer Amy Brooks at abbrooks77@icloud.com | (937) 901-9205
URL:https://tcpride.org/event/twin-cities-aroace-solidarity-group-11/
LOCATION:Quatrefoil Library\, 1220 E Lake St\, Minneapolis\, MN\, 55407\, United States
CATEGORIES:Community Events
ORGANIZER;CN="Quatrefoil Library":MAILTO:president@quatrefoil.org
END:VEVENT
END:VCALENDAR