BEGIN:VCALENDAR
VERSION:2.0
PRODID:-//Twin Cities Pride - ECPv6.13.2.1//NONSGML v1.0//EN
CALSCALE:GREGORIAN
METHOD:PUBLISH
X-ORIGINAL-URL:https://tcpride.org
X-WR-CALDESC:Events for Twin Cities Pride
REFRESH-INTERVAL;VALUE=DURATION:PT1H
X-Robots-Tag:noindex
X-PUBLISHED-TTL:PT1H
BEGIN:VTIMEZONE
TZID:America/Chicago
BEGIN:DAYLIGHT
TZOFFSETFROM:-0600
TZOFFSETTO:-0500
TZNAME:CDT
DTSTART:20250309T080000
END:DAYLIGHT
BEGIN:STANDARD
TZOFFSETFROM:-0500
TZOFFSETTO:-0600
TZNAME:CST
DTSTART:20251102T070000
END:STANDARD
END:VTIMEZONE
BEGIN:VEVENT
DTSTART;TZID=America/Chicago:20251018T120000
DTEND;TZID=America/Chicago:20251018T180000
DTSTAMP:20260420T020954
CREATED:20251006T145036Z
LAST-MODIFIED:20251006T145036Z
UID:110436-1760788800-1760810400@tcpride.org
SUMMARY:2nd Annual CiderWeen at Sociable by ModesittMarkets
DESCRIPTION:The Second Annual CIDERWEEN 🍎 🪄!!\nOn Saturday October 18th\, the ghouls\, witches\, and creatures of the night descend upon @sociablecider! Join over 50 Queer and BIPOC artists celebrating the spooky season during these scary times 👻 \nFree activities include~ Adult & Doggy Trick-or-Treating (sorry kids\, you’ll get your candy on Halloween)\, Punch Card Prizes (free art!)\, and spiderweb craftivities 🕷️🕸️ \nApplications are closed but we’re still accepting Queer+BIPOC folks for the wait-list 🫶 If you’re hoping to work with us someday\, please join the Modesitt Makers sign up linked in our Instagram bio! We are still accepting non-profit info tables 🦇 \nThe artists for this event are all Queer and BIPOC\, many identifying as both & also as disabled. Your support means helping local artists continue to create\, exist\, and grow during the terrors of modern day America 🎃 This is a safe space: all are welcome\, hate is not 💖
URL:https://tcpride.org/event/2nd-annual-ciderween-at-sociable-by-modesittmarkets/
LOCATION:Sociable Cider Werks\, 1500 Fillmore St NE\, Minneapolis\, MN\, 55413\, United States
CATEGORIES:Community Events
ATTACH;FMTTYPE=image/png:https://tcpride.org/wp-content/uploads/2025/09/CiderWeen-2025-Promo-1.png
ORGANIZER;CN="ModesittMarkets":MAILTO:leafyandy@gmail.com
END:VEVENT
BEGIN:VEVENT
DTSTART;TZID=America/Chicago:20251018T131500
DTEND;TZID=America/Chicago:20251018T151500
DTSTAMP:20260420T020954
CREATED:20250304T155821Z
LAST-MODIFIED:20250304T155821Z
UID:62061-1760793300-1760800500@tcpride.org
SUMMARY:Prime Timers Bookclub
DESCRIPTION:This monthly book club is a subgroup of the Twin Cities Prime Timers Club\, which is affiliated with the state and national organizations. It meets each third Saturday of the month at Quatrefoil from 1:15pm – 3:15pm.
URL:https://tcpride.org/event/prime-timers-bookclub-9/
LOCATION:Quatrefoil Library\, 1220 E Lake St\, Minneapolis\, MN\, 55407\, United States
CATEGORIES:Community Events
ORGANIZER;CN="Quatrefoil Library":MAILTO:president@quatrefoil.org
END:VEVENT
END:VCALENDAR