BEGIN:VCALENDAR
VERSION:2.0
PRODID:-//Twin Cities Pride - ECPv6.13.2.1//NONSGML v1.0//EN
CALSCALE:GREGORIAN
METHOD:PUBLISH
X-WR-CALNAME:Twin Cities Pride
X-ORIGINAL-URL:https://tcpride.org
X-WR-CALDESC:Events for Twin Cities Pride
REFRESH-INTERVAL;VALUE=DURATION:PT1H
X-Robots-Tag:noindex
X-PUBLISHED-TTL:PT1H
BEGIN:VTIMEZONE
TZID:America/Chicago
BEGIN:DAYLIGHT
TZOFFSETFROM:-0600
TZOFFSETTO:-0500
TZNAME:CDT
DTSTART:20250309T080000
END:DAYLIGHT
BEGIN:STANDARD
TZOFFSETFROM:-0500
TZOFFSETTO:-0600
TZNAME:CST
DTSTART:20251102T070000
END:STANDARD
END:VTIMEZONE
BEGIN:VEVENT
DTSTART;TZID=America/Chicago:20251024T183000
DTEND;TZID=America/Chicago:20251025T000000
DTSTAMP:20260420T020628
CREATED:20251009T194922Z
LAST-MODIFIED:20251009T194922Z
UID:110917-1761330600-1761350400@tcpride.org
SUMMARY:Double Feature Queer Movie Night
DESCRIPTION:October’s Queer Movie Night!!! \nDouble feature for the spooky season 🎃👀👹 \nWater and popcorn provided \n  \nFREE FREE FREE \nShow up at 6:30pm\, Movie starts at 7pm \nHosted in Brooklyn Center \n  \nFirst will be Satranic Panic \nWhen Max\, trans queen Aria’s found brother and the love of artist Jay’s life\, is ruthlessly slaughtered by a shadowy cult in a ritual to summon a cadre of demons\, two friends will follow a mysterious note promising answers and hit the road. \nAfter Satranic Panic we will have a short break/discussion and then be playing They/Them \nA group of teenagers at an LGBTQ+ conversion camp endures unsettling psychological techniques while being stalked by a mysterious masked killer. \n  \nAccesability: \nThe movie night will be held in a house.there are short steps into the house. Narrow doorways and hallways as it is a 1950s house. There is an upstairs bathroom and downstairs bathroom. Patio out back to get some fresh air. \nThe movie will be shown downstairs on a projector. Floor seats and bean bag space is available. \nChairs on request. \nWe have a ramp for getting into the house\, but not to get into the house. If you would like us to set up the ramp to get in please ask!! \n  \nMessage us on Instagram at @timetravelerspublichouse or (763) 280-8769 for the address and or questions!!
URL:https://tcpride.org/event/double-feature-queer-movie-night/
LOCATION:Time Travelers Public House\, Brooklyn center\, MN\, 55429\, United States
CATEGORIES:Community Events
ATTACH;FMTTYPE=image/png:https://tcpride.org/wp-content/uploads/2025/10/Time-Travelers-Public-House-Presents-3.png
ORGANIZER;CN="Time Traveler's Public House":MAILTO:bexlynn@myyahoo.com
END:VEVENT
END:VCALENDAR