BEGIN:VCALENDAR
VERSION:2.0
PRODID:-//Twin Cities Pride - ECPv6.13.2.1//NONSGML v1.0//EN
CALSCALE:GREGORIAN
METHOD:PUBLISH
X-WR-CALNAME:Twin Cities Pride
X-ORIGINAL-URL:https://tcpride.org
X-WR-CALDESC:Events for Twin Cities Pride
REFRESH-INTERVAL;VALUE=DURATION:PT1H
X-Robots-Tag:noindex
X-PUBLISHED-TTL:PT1H
BEGIN:VTIMEZONE
TZID:America/Chicago
BEGIN:DAYLIGHT
TZOFFSETFROM:-0600
TZOFFSETTO:-0500
TZNAME:CDT
DTSTART:20250309T080000
END:DAYLIGHT
BEGIN:STANDARD
TZOFFSETFROM:-0500
TZOFFSETTO:-0600
TZNAME:CST
DTSTART:20251102T070000
END:STANDARD
END:VTIMEZONE
BEGIN:VEVENT
DTSTART;TZID=America/Chicago:20251106T190000
DTEND;TZID=America/Chicago:20251207T160000
DTSTAMP:20260420T004908
CREATED:20251110T214716Z
LAST-MODIFIED:20251110T214716Z
UID:118779-1762455600-1765123200@tcpride.org
SUMMARY:The Happiness Gym at Mixed Blood Theatre
DESCRIPTION:A National New Play Network Rolling Premiere based on an original concept by Ken Weitzman. \nCo-directed by Alejandro Tey and Mark Valdez. This production uses the tenets of positive psychology to craft exercises that engage the Twin Cities community in uses of good news\, gratitude\, and connection. \n\n\nLink to register: https://mixedblood.com/the-happiness-gym/\n\nCome to the Happiness Gym if:\n\n\nYou believe there is revolution in meaningful connection.\nNeed a break from the 24 hour news cycle.\nBurnout threatens to pull you from the people and causes you care about.\nYou want to cultivate happiness using science!\n\n\n\nPRICING\nFree. Our work is guided by deep community engagement and rooted in Radical Hospitality. We eliminate barriers that prevent people from participating due to lack of resources\, racism\, physical accessibility\, gender discrimination\, or other barriers. Tickets are available at no cost to attendees.\n\nWe hope to see you and your students there!
URL:https://tcpride.org/event/the-happiness-gym-at-mixed-blood-theatre/
LOCATION:Mixed Blood Theatre\, 1501 S 4th St.\, Minneapolis\, MN\, 55454\, United States
CATEGORIES:Community Events
ATTACH;FMTTYPE=image/png:https://tcpride.org/wp-content/uploads/2025/10/Copy-of-FIN-Happiness-Gym-Postcard-5x7-1.png
ORGANIZER;CN="Mixed Blood Theatre":MAILTO:tolu@mixedblood.com
END:VEVENT
BEGIN:VEVENT
DTSTART;TZID=America/Chicago:20251115T131500
DTEND;TZID=America/Chicago:20251115T151500
DTSTAMP:20260420T004908
CREATED:20250304T155857Z
LAST-MODIFIED:20250304T155857Z
UID:62063-1763212500-1763219700@tcpride.org
SUMMARY:Prime Timers Bookclub
DESCRIPTION:This monthly book club is a subgroup of the Twin Cities Prime Timers Club\, which is affiliated with the state and national organizations. It meets each third Saturday of the month at Quatrefoil from 1:15pm – 3:15pm.
URL:https://tcpride.org/event/prime-timers-bookclub-10/
LOCATION:Quatrefoil Library\, 1220 E Lake St\, Minneapolis\, MN\, 55407\, United States
CATEGORIES:Community Events
ORGANIZER;CN="Quatrefoil Library":MAILTO:president@quatrefoil.org
END:VEVENT
BEGIN:VEVENT
DTSTART;TZID=America/Chicago:20251115T150000
DTEND;TZID=America/Chicago:20251115T163000
DTSTAMP:20260420T004908
CREATED:20251030T003746Z
LAST-MODIFIED:20251111T160616Z
UID:118731-1763218800-1763224200@tcpride.org
SUMMARY:Movement\, Breath\, & Meditation class for people who love and support their gender-expansive loved ones
DESCRIPTION:When someone we love shares more of who they truly are\, it changes the people around them too. Over the past four months\, Kesha (she/her/ella)\, a parent to a gender-expansive adult child\, has been holding an 8-week group for parents\, guardians\, chosen family\, and friends. \nIn this small\, relational space\, participants explore simple movement\, breath\, and rest practices while tending to their own shifting experiences. It’s not about performance\, expectation\, or “fixing” anything\, it’s about noticing\, connecting\, and being with others walking a similar path. \nThe next group begins November 15\, 2025. If you or someone you know might benefit\, Kesha welcomes questions and conversation. \nThis is a space built on care\, listening\, and shared humanity\, one that grows from the courage of gender-expansive folks and the communities that support them. \n8-week series \nDates: 11/15\, 11/22\, no class 11/29\, 12/6\, 12/13\, 12/20\, no class 12/27\, 1/3\, 1/10\, 1/17 \nSaturdays 3:00-4:40P Central \nAll sessions are virtual  \nCost: $80 for series\, no one will be turned away for financial reasons \nRequired before 11/14: Brief 15-20 minute intake to connect and go over any questions or physical considerations.
URL:https://tcpride.org/event/movement-breath-meditation-class-for-people-who-love-and-support-their-gender-expansive-loved-ones/
LOCATION:Virtual
CATEGORIES:Community Events
ORGANIZER;CN="Kesha Brennom%2C Weaver of Wisdom Yoga Therapy":MAILTO:kesha@weaversofwisdom.com
END:VEVENT
END:VCALENDAR