BEGIN:VCALENDAR
VERSION:2.0
PRODID:-//Twin Cities Pride - ECPv6.13.2.1//NONSGML v1.0//EN
CALSCALE:GREGORIAN
METHOD:PUBLISH
X-WR-CALNAME:Twin Cities Pride
X-ORIGINAL-URL:https://tcpride.org
X-WR-CALDESC:Events for Twin Cities Pride
REFRESH-INTERVAL;VALUE=DURATION:PT1H
X-Robots-Tag:noindex
X-PUBLISHED-TTL:PT1H
BEGIN:VTIMEZONE
TZID:America/Chicago
BEGIN:DAYLIGHT
TZOFFSETFROM:-0600
TZOFFSETTO:-0500
TZNAME:CDT
DTSTART:20250309T080000
END:DAYLIGHT
BEGIN:STANDARD
TZOFFSETFROM:-0500
TZOFFSETTO:-0600
TZNAME:CST
DTSTART:20251102T070000
END:STANDARD
END:VTIMEZONE
BEGIN:VEVENT
DTSTART;TZID=America/Chicago:20251106T190000
DTEND;TZID=America/Chicago:20251207T160000
DTSTAMP:20260420T004612
CREATED:20251110T214716Z
LAST-MODIFIED:20251110T214716Z
UID:118779-1762455600-1765123200@tcpride.org
SUMMARY:The Happiness Gym at Mixed Blood Theatre
DESCRIPTION:A National New Play Network Rolling Premiere based on an original concept by Ken Weitzman. \nCo-directed by Alejandro Tey and Mark Valdez. This production uses the tenets of positive psychology to craft exercises that engage the Twin Cities community in uses of good news\, gratitude\, and connection. \n\n\nLink to register: https://mixedblood.com/the-happiness-gym/\n\nCome to the Happiness Gym if:\n\n\nYou believe there is revolution in meaningful connection.\nNeed a break from the 24 hour news cycle.\nBurnout threatens to pull you from the people and causes you care about.\nYou want to cultivate happiness using science!\n\n\n\nPRICING\nFree. Our work is guided by deep community engagement and rooted in Radical Hospitality. We eliminate barriers that prevent people from participating due to lack of resources\, racism\, physical accessibility\, gender discrimination\, or other barriers. Tickets are available at no cost to attendees.\n\nWe hope to see you and your students there!
URL:https://tcpride.org/event/the-happiness-gym-at-mixed-blood-theatre/
LOCATION:Mixed Blood Theatre\, 1501 S 4th St.\, Minneapolis\, MN\, 55454\, United States
CATEGORIES:Community Events
ATTACH;FMTTYPE=image/png:https://tcpride.org/wp-content/uploads/2025/10/Copy-of-FIN-Happiness-Gym-Postcard-5x7-1.png
ORGANIZER;CN="Mixed Blood Theatre":MAILTO:tolu@mixedblood.com
END:VEVENT
BEGIN:VEVENT
DTSTART;VALUE=DATE:20251121
DTEND;VALUE=DATE:20251125
DTSTAMP:20260420T004612
CREATED:20250219T043131Z
LAST-MODIFIED:20250219T043131Z
UID:61252-1763694000-1763953199@tcpride.org
SUMMARY:Fables & Flames Romantasy Gala
DESCRIPTION:Fables & Flames is an enchanting blend of romance and fantasy\, celebrating the best of both genres through a magical weekend of literary immersion. Scheduled for November 21-23\, 2025 at the DoubleTree near the Mall of America in Bloomington\, Minnesota\, the event promises an unforgettable experience for authors\, readers\, and fans alike. \nThe convention features exclusive author signings\, a diverse array of vendors and crafters\, engaging panels\, and live readings. Highlights include a whimsical tea party with romance authors\, a dazzling ball with live music\, and unique room parties that capture the spirit of adventure. For those seeking quieter moments\, there will be a reading room and book exchange. \nWhether you’re a passionate reader\, an author\, or simply a lover of stories\, Fables & Flames invites you to step into a realm where books come alive\, connections are forged\, and magic is real.
URL:https://tcpride.org/event/fables-flames-romantasy-gala/
LOCATION:DoubleTree by Hilton Minneapolis Airport\, 2020 American Blvd E\, Bloomington\, MN\, 55425\, United States
CATEGORIES:Community Events
ATTACH;FMTTYPE=image/png:https://tcpride.org/wp-content/uploads/2025/02/FF_color-8.png
ORGANIZER;CN="Fables &amp%3B Flames":MAILTO:info@fablesandflames.com
END:VEVENT
BEGIN:VEVENT
DTSTART;TZID=America/Chicago:20251121T183000
DTEND;TZID=America/Chicago:20251122T000000
DTSTAMP:20260420T004612
CREATED:20251030T003745Z
LAST-MODIFIED:20251030T003745Z
UID:118688-1763749800-1763769600@tcpride.org
SUMMARY:Queer Movie Night Presents: Satranic Panic and The People’s Joker Double Feature
DESCRIPTION:November’s Queer Movie Night!!! \nCourtesy of Dark Star Pictures \nDOUBLE FEATURE \nShow up as early as 6:30pm \nFirst movie starts at 7pm \nLocated in Brooklyn Center \nFREE FREE FREE FREE \nFirst will be “Satranic Panic” \nWhen Max\, trans queen Aria’s found brother and the love of artist Jay’s life\, is ruthlessly slaughtered by a shadowy cult in a ritual to summon a cadre of demons\, two friends will follow a mysterious note promising answers and hit the road. \n  \nAfter that “The People’s Joker” \nThe People’s Joker is an anarchic and autofictional parody film that uses characters and themes from the Batman mythos to tell a trans coming-of-age story. The film was directed by and stars Vera Drew as Joker the Harlequin\, an aspiring transgender comedian. \n  \nMessage us on Instagram for the address and questions!! \n  \nAccesability: \nThe movie night will be held in a house. There are short steps into the house. Narrow doorways and hallways as it is a 1950s house. There is an upstairs bathroom and downstairs bathroom. Patio out back to get some fresh air. \n  \nThe movie will be shown downstairs on a projector. Floor seats and bean bag space is available. \nChairs on request. \n  \nWe have a ramp for getting into the house\, but not to get into the basement. If you would like us to set up the ramp to get in please ask!!
URL:https://tcpride.org/event/queer-movie-night-presents-satranic-panic-and-the-peoples-joker-double-feature/
LOCATION:Time Travelers Public House\, Brooklyn center\, MN\, 55429\, United States
CATEGORIES:Community Events
ATTACH;FMTTYPE=image/jpeg:https://tcpride.org/wp-content/uploads/2025/10/NovPoster.jpg
ORGANIZER;CN="Time Traveler's Public House":MAILTO:bexlynn@myyahoo.com
END:VEVENT
END:VCALENDAR