BEGIN:VCALENDAR
VERSION:2.0
PRODID:-//Twin Cities Pride - ECPv6.13.2.1//NONSGML v1.0//EN
CALSCALE:GREGORIAN
METHOD:PUBLISH
X-WR-CALNAME:Twin Cities Pride
X-ORIGINAL-URL:https://tcpride.org
X-WR-CALDESC:Events for Twin Cities Pride
REFRESH-INTERVAL;VALUE=DURATION:PT1H
X-Robots-Tag:noindex
X-PUBLISHED-TTL:PT1H
BEGIN:VTIMEZONE
TZID:America/Chicago
BEGIN:DAYLIGHT
TZOFFSETFROM:-0600
TZOFFSETTO:-0500
TZNAME:CDT
DTSTART:20250309T080000
END:DAYLIGHT
BEGIN:STANDARD
TZOFFSETFROM:-0500
TZOFFSETTO:-0600
TZNAME:CST
DTSTART:20251102T070000
END:STANDARD
END:VTIMEZONE
BEGIN:VEVENT
DTSTART;TZID=America/Chicago:20251209T190000
DTEND;TZID=America/Chicago:20251209T200000
DTSTAMP:20260419T232804
CREATED:20251208T181715Z
LAST-MODIFIED:20251208T181734Z
UID:121759-1765306800-1765310400@tcpride.org
SUMMARY:Gathered In Love: An Interfaith Service of Trans Solidarity
DESCRIPTION:Join us for the Trans Solidarity Service\, a multifaith gathering affirming the sacredness of trans and nonbinary lives. On Tuesday\, December 9\, 2025\, people from across Minnesota are invited to come together at Creekside United Church of Christ (106 E Diamond Lake Road\, Minneapolis) to proclaim a message of love\, courage\, and belonging. This service will include music\, poetry\, and reflections from trans and BIPOC faith leaders\, clergy\, and community members across traditions. Together\, we’ll teach\, organize\, and be visible in our commitment to trans dignity and inclusion!  \nThe service will be free and open to all\, with a livestream option for those joining from outside the Twin Cities.  \nMasks will be required (barring a medical need) for this event and will be available on site. The livestream can be accessed here: https://www.youtube.com/@CreeksideUCCWorship/streams \nDonations for this event: \nIf you would like to sponsor this event financially\, you can make a donation here. Any funds collected beyond the cost for this event will go into the Moving to Minnesota Fund\, which puts money directly into the hands of those who need help seeking refuge in Minnesota. 
URL:https://tcpride.org/event/gathered-in-love-an-interfaith-service-of-trans-solidarity/
LOCATION:Creekside UCC\, 106 E Diamond Lake Rd\, Minneapolis\, 55419\, United States
CATEGORIES:Community Events
END:VEVENT
BEGIN:VEVENT
DTSTART;TZID=America/Chicago:20251209T190000
DTEND;TZID=America/Chicago:20251209T200000
DTSTAMP:20260419T232804
CREATED:20251208T181716Z
LAST-MODIFIED:20251208T181735Z
UID:121768-1765306800-1765310400@tcpride.org
SUMMARY:Gathered In Love: An Interfaith Service of Trans Solidarity
DESCRIPTION:Event Description:\nJoin us for the Trans Solidarity Service\, a multifaith gathering affirming the sacredness of trans and nonbinary lives. On Tuesday\, December 9\, 2025\, people from across Minnesota are invited to come together at Creekside United Church of Christ (106 E Diamond Lake Road\, Minneapolis) to proclaim a message of love\, courage\, and belonging. This service will include music\, poetry\, and reflections from trans and BIPOC faith leaders\, clergy\, and community members across traditions. Together\, we’ll teach\, organize\, and be visible in our commitment to trans dignity and inclusion!  \nThe service will be free and open to all\, with a livestream option for those joining from outside the Twin Cities.  \nMasks will be required (barring a medical need) for this event and will be available on site. The livestream can be accessed here: https://www.youtube.com/@CreeksideUCCWorship/streams \nDonations for this event: \nIf you would like to sponsor this event financially\, you can make a donation here. Any funds collected beyond the cost for this event will go into the Moving to Minnesota Fund\, which puts money directly into the hands of those who need help seeking refuge in Minnesota. 
URL:https://tcpride.org/event/gathered-in-love-an-interfaith-service-of-trans-solidarity-2/
LOCATION:Creekside UCC\, 106 E Diamond Lake Rd\, Minneapolis\, 55419\, United States
CATEGORIES:Community Events
ATTACH;FMTTYPE=image/jpeg:https://tcpride.org/wp-content/uploads/2025/12/gathered-in-love-instagram.jpg
END:VEVENT
END:VCALENDAR