BEGIN:VCALENDAR
VERSION:2.0
PRODID:-//Twin Cities Pride - ECPv6.13.2.1//NONSGML v1.0//EN
CALSCALE:GREGORIAN
METHOD:PUBLISH
X-ORIGINAL-URL:https://tcpride.org
X-WR-CALDESC:Events for Twin Cities Pride
REFRESH-INTERVAL;VALUE=DURATION:PT1H
X-Robots-Tag:noindex
X-PUBLISHED-TTL:PT1H
BEGIN:VTIMEZONE
TZID:America/Chicago
BEGIN:DAYLIGHT
TZOFFSETFROM:-0600
TZOFFSETTO:-0500
TZNAME:CDT
DTSTART:20250309T080000
END:DAYLIGHT
BEGIN:STANDARD
TZOFFSETFROM:-0500
TZOFFSETTO:-0600
TZNAME:CST
DTSTART:20251102T070000
END:STANDARD
END:VTIMEZONE
BEGIN:VEVENT
DTSTART;TZID=America/Chicago:20251213T180000
DTEND;TZID=America/Chicago:20251213T220000
DTSTAMP:20260419T233023
CREATED:20251210T191654Z
LAST-MODIFIED:20251210T191654Z
UID:121935-1765648800-1765663200@tcpride.org
SUMMARY:LGBTQI Women's Holiday Dance
DESCRIPTION:LBTQI Women** It’s time for the December Holiday Dance!\nCome celebrate any & all December Holidays! \nSaturday\, December 13th!\nMinneapolis Eagles Club #34\, 2507 E. 25th St. \nWe will be back in the largest ballroom this time\, which is closest to the parking lot. Let’s show the Eagles Club that we know how to fill it!\nFree Parking in the lot and on the street. \n6-7 pm order dinner or drinks for our social hour. Meet old friends and make some new ones! (Credit cards accepted.) \n7-10pm DJ K. Shay will be spinning some holiday (& regular) beats to get the holiday spirit flowing and get you moving! \nAt each dance we have a Give-n-Take Sharing Table\, so bring clothes\, books\, jewelry\, yarn\, household items\, etc. to give away and see what you would like to take home! \nAre you new the to the community? We have Dance Ambassadors who will talk or dance with you and help get you connected through our Community Resources Table\, which has flyers for other non-profits\, events\, or business cards for self employed women serving the LGBTQ community. Please bring flyers and your business cards! \nIf you’re single\, you can wear a heart sticker at the dance to let women know you’re available for dating! \n$10 cash cover at the door gets you all this fun! \n**All women are welcome: bisexual\, lesbian\, gay\, queer\, butch/femme/androgynous\, trans/cis gender. Non-binary folks who were assigned female at birth and who are not transitioning to male are welcome. Heterosexual women family and friends are welcome as allies.  \nYou can also join the Twin Cities Women’s Dances FB group for more information.
URL:https://tcpride.org/event/lgbtqi-womens-holiday-dance/
LOCATION:Minneapolis Eagles Club #34\, 2507 E. 25th Street\, Minneapolis\, MN\, United States
CATEGORIES:Community Events
ORGANIZER;CN="Twin Cities Women's Dances":MAILTO:katie.cashel.law@comcast.net
END:VEVENT
BEGIN:VEVENT
DTSTART;TZID=America/Chicago:20251213T180000
DTEND;TZID=America/Chicago:20251213T220000
DTSTAMP:20260419T233023
CREATED:20251211T202042Z
LAST-MODIFIED:20251211T202042Z
UID:121940-1765648800-1765663200@tcpride.org
SUMMARY:LGBTQI Women's Holiday Dance
DESCRIPTION:LBTQI Women** It’s time for the December Holiday Dance!\nCome celebrate any & all December Holidays! \nSaturday\, December 13th!\nMinneapolis Eagles Club #34\, 2507 E. 25th St. \nWe will be back in the largest ballroom this time. Let’s show the Eagles Club that we know how to fill it!\nFree Parking in the lot and on the street. \n6-7 pm order dinner or drinks for our social hour. Meet old friends and make some new ones! (Credit cards accepted.) \n7-10pm DJ K. Shay will be spinning some holiday (& regular) beats to get the holiday spirit flowing and get you moving! \nAt each dance we have a Give-n-Take Sharing Table\, so bring clothes\, books\, jewelry\, yarn\, household items\, etc. to give away and see what you would like to take home! \nAre you new the to the community? We have Dance Ambassadors who will talk or dance with you and help get you connected through our Community Resources Table\, which has flyers for other non-profits\, events\, or business cards for self employed women serving the LGBTQ community. Please bring flyers and your business cards! \nIf you’re single\, you can wear a heart sticker at the dance to let women know you’re available for dating! \n$10 cash cover at the door gets you all this fun! \n**All women are welcome: bisexual\, lesbian\, gay\, queer\, butch/femme/androgynous\, trans/cis gender. Non-binary folks who were assigned female at birth and who are not transitioning to male are welcome. Heterosexual women family and friends are welcome as allies.  \nYou can also join the Twin Cities Women’s Dances FB group for more information.
URL:https://tcpride.org/event/lgbtqi-womens-holiday-dance-2/
LOCATION:Minneapolis Eagles Club #34\, 2507 E. 25th Street\, Minneapolis\, MN\, United States
CATEGORIES:Community Events
ORGANIZER;CN="Twin Cities Women's Dances":MAILTO:katie.cashel.law@comcast.net
END:VEVENT
END:VCALENDAR