BEGIN:VCALENDAR
VERSION:2.0
PRODID:-//Twin Cities Pride - ECPv6.13.2.1//NONSGML v1.0//EN
CALSCALE:GREGORIAN
METHOD:PUBLISH
X-ORIGINAL-URL:https://tcpride.org
X-WR-CALDESC:Events for Twin Cities Pride
REFRESH-INTERVAL;VALUE=DURATION:PT1H
X-Robots-Tag:noindex
X-PUBLISHED-TTL:PT1H
BEGIN:VTIMEZONE
TZID:America/Chicago
BEGIN:DAYLIGHT
TZOFFSETFROM:-0600
TZOFFSETTO:-0500
TZNAME:CDT
DTSTART:20250309T080000
END:DAYLIGHT
BEGIN:STANDARD
TZOFFSETFROM:-0500
TZOFFSETTO:-0600
TZNAME:CST
DTSTART:20251102T070000
END:STANDARD
END:VTIMEZONE
BEGIN:VEVENT
DTSTART;TZID=America/Chicago:20251220T123000
DTEND;TZID=America/Chicago:20251220T180000
DTSTAMP:20260419T233614
CREATED:20251208T181719Z
LAST-MODIFIED:20251208T181738Z
UID:121895-1766233800-1766253600@tcpride.org
SUMMARY:Handmade Holigays 2025
DESCRIPTION:Handmade Holigays December 20\, from 12-6 PM at @QueermunityMN\, 3036 Hennepin Ave S. Organized by @ModesittMarkets. Come stamp your Holidays on Hennepin Passport! \n~Over 25 local artists with one-of-a-kind goods\, and whose holiday season would be greatly impacted by your support! All artists identify as LGBT+\, BIPOC\, &/or disabled. \n~Barter & Trade Friendly: When vendors & customers alike arrive\, you will have the option to wear a colored wristband to indicate that you are open to bartering & trading. Vendors can still sell as regularly while using the wristband\, and they have the right to turn down or negotiate any offers! \n~Sliding Scale Skill Shares & Classes: The Clay Pit\, MNBakes And Cakes\, Bruhadacity\, and other wonderful artist educators will be offering classes.\nThe Wrapping Room (Free!) A comfortable room with everything anyone would need to wrap presents alongside chill wintery rap\, jazz\, and r&b. \n~Give & Take Tables: A dedicated space for food\, toys\, clean clothes\, books\, hygiene products\, etc. Folks can bring donations and peruse to find things for themselves\, too. Bring your donations day-of! \n~This event is organized by ModesittMarkets and hosted through the generosity of Queermunity. This market is focused on supporting marginalized makers. All are welcome\, hate is not~ \nRSVP to our Facebook Event to stay in the loop\, or follow us on Instagram @ModesittMarkets
URL:https://tcpride.org/event/handmade-holigays-2025/
LOCATION:Queermunity\, 3036 Hennepin Ave\, Minneapolis\, MN\, 55408\, United States
CATEGORIES:Community Events,Fundraisers
ATTACH;FMTTYPE=image/png:https://tcpride.org/wp-content/uploads/2025/12/HandmadeHoligays-IG-Size.png
ORGANIZER;CN="ModesittMarkets":MAILTO:leafyandy@gmail.com
END:VEVENT
BEGIN:VEVENT
DTSTART;TZID=America/Chicago:20251220T131500
DTEND;TZID=America/Chicago:20251220T151500
DTSTAMP:20260419T233614
CREATED:20250304T160001Z
LAST-MODIFIED:20250304T160001Z
UID:62065-1766236500-1766243700@tcpride.org
SUMMARY:Prime Timers Bookclub
DESCRIPTION:This monthly book club is a subgroup of the Twin Cities Prime Timers Club\, which is affiliated with the state and national organizations. It meets each third Saturday of the month at Quatrefoil from 1:15pm – 3:15pm.
URL:https://tcpride.org/event/prime-timers-bookclub-11/
LOCATION:Quatrefoil Library\, 1220 E Lake St\, Minneapolis\, MN\, 55407\, United States
CATEGORIES:Community Events
ORGANIZER;CN="Quatrefoil Library":MAILTO:president@quatrefoil.org
END:VEVENT
END:VCALENDAR